Workbook
Name CenaM: 'Podstawowe parametry'!$C$5:$C$5
Name Czas_DużyRemont: Wyniki2!$C$27
Name Czas_MałyRemont: Wyniki2!$C$23
Name CzasKredytu: Kredyt!$B$7
Name CzyKredyt: 'Podstawowe parametry'!$C$24:$C$24
Name Czynsz: 'Wynik '!$D$30:$D$30
Name CzynszWspólnoty: Wyniki2!$C$30
Name DużRem: 'Wynik '!$D$26:$D$26
Name DużyPodatek: Wyniki2!$C$36
Name DużyRemont: Wyniki2!$C$26
Name HoryzontInw: 'Wynik '!$D$4:$D$4
Name HoryzontInwestycyjny: Wyniki2!$C$4
Name IlośćRat: Kredyt!$B$9:$B$9
Name Inf: 'Wynik '!$D$8:$D$8
Name Inflacja: Wyniki2!$C$8
Name InflacjaWKażdymRoku: Wyniki2!$J$54:$J$103
Name InneKoszty: 'Wynik '!$D$32:$D$32
Name InneKosztyRocznie: Wyniki2!$C$32
Name K_DużRem: 'Wynik '!$D$28:$D$28
Name K_MałRem: 'Wynik '!$D$24:$D$24
Name KosInf: 'Wynik '!$D$34:$D$34
Name KosztRemontu: 'Podstawowe parametry'!$C$14
Name KosztyKredytu: Kredyt!$B$25
Name KosztyZarządzania: Wyniki2!$C$33
Name KosztZarządu: Wyniki2!$C$33
Name Kwota_DużyRemont: Wyniki2!$C$28
Name Kwota_MałyRemont: Wyniki2!$C$24
Name KwotaKredytu: Kredyt!$B$4:$B$4
Name KwotaZmianyOdstępnego: Wyniki2!$C$18
Name KwoZmi: 'Wynik '!$D$18:$D$18
Name LatWyn: 'Wynik '!$D$49:$BA$49
Name Małrem: 'Wynik '!$D$22:$D$22
Name MałyPodatek: Wyniki2!$C$35
Name MałyRemont: Wyniki2!$C$22
Name MarżaBAnku: Kredyt!$B$12:$B$12
Name MiesiąceNajmu: Wyniki2!$C$10
Name MieWyn: 'Wynik '!$D$10:$D$10
Name ObszarInf: 'Wynik '!$D$59:$BA$59
Name Ods: 'Wynik '!$D$12:$D$12
Name Odstępne: Wyniki2!$C$12
Name OdsWLat: 'Wynik '!$D$54:$AL$54
Name OprocentowanieKredytu: Kredyt!$B$14:$B$14
Name PodatekOdNieruchomości: Wyniki2!$C$31
Name PodNie: 'Wynik '!$D$31:$D$31
Name ProcentZmianyOdstępnego: Wyniki2!$C$17
Name ProcZmi: 'Wynik '!$D$17:$D$17
Name StałaKwotaZmianyWartoNierucho: 'Wynik '!$D$44
Name StałaKwotaZmianyWartościNieruchomości: Wyniki2!$C$44
Name StałyProcentZmianyWartościNieruchomości: Wyniki2!$C$43
Name StałyProcZmianWarNier: 'Wynik '!$D$43
Name SumaK: 'Podstawowe parametry'!$C$17:$C$17
Name SumaKosztów: 'Podstawowe parametry'!$C$17:$C$17
Name SumaKosztówPoczątkowychInwestycji: Kredyt!$B$23:$B$23
Name T_DużRem: 'Wynik '!$D$27:$D$27
Name T_MałRem: 'Wynik '!$D$23:$D$23
Name UbezMiesz: Kredyt!$B$21:$B$21
Name UbezŻyć: Kredyt!$B$18:$B$18
Name WartośćM: 'Podstawowe parametry'!$C$21
Name WartośćWycena: 'Podstawowe parametry'!$C$22:$C$22
Name WIBOR3M: Kredyt!$B$13:$B$13

Sheet Instrukcja
B1: Kalkulator opłacalności inwestycji: zakup mieszkania na wynajem
B2: Kalkulator też służy do analizy opłacalności zakupu mieszkania na wynajem.
B4: Kalkulator składa się z 4 zakładek:
B6: Instrukcja – przedstawia podstawowe informacje o kalkulatorze.
B8: Podstawowe parametry – zawiera tabelę, w której inwestor wprowadza podstawowe dane dotyczące zakupu nieruchomości. W białych polach należy wpisać wartości „z ręki”. Pola pomarańczowe zawierają formuły obliczające wartości na podstawie wcześniej wprowadzonych danych. Można je edytować i również wpisać do nich wartości ręcznie. Bardzo ważne jest, aby określić wartość mieszkania zgodnie z operatem szacunkowym oraz odpowiedzieć na pytanie, czy zakup będzie finansowany kredytem.
B10: Kredyt – inwestor uzupełnia tę zakładkę, jeśli na pytanie „Mieszkanie kupione na kredyt?” odpowiedział „Tak”. Należy tu wpisać dane dotyczące kredytu finansującego zakup nieruchomości na wynajem. Do uzupełnienia są komórki z białym tłem.
B12: Wyniki – w tej zakładce inwestor określa parametry najmu. Znajduje się tu tabela wyników najmu do 50 lat. Po określeniu horyzontu inwestycji w sekcji Podsumowanie inwestor zobaczy wyniki dla przewidywanego przez siebie okresu inwestycji.
B16: Używając kalkulatora należy mieć na uwadze kilka podstawowych założeń:
B18: Kredyt w arkuszu jest kredytem o stałej racie i zmiennym oprocentowaniu.
B19: Poszczególne komórki w tabeli wyników oraz harmonogramie kredytu mogą być edytowane – można ręcznie zwiększyć inflację dla wybranego roku lub dostosować WIBOR 3M do rzeczywistych wartości.
B20: Kalkulator ma służyć jako pomoc w podjęciu decyzji, jednak nie należy opierać się wyłącznie na jego wynikach.
B22: Zastrzeżenia prawne
... B28: Domowik sp. z o.o. zastrzega sobie prawo do modyfikacji, aktualizacji lub usunięcia kalkulatora w dowolnym momencie, bez wcześniejszego powiadomienia użytkowników.

Sheet Podstawowe parametry
B2: Kalkulator wyników wynajmi mieszkania
B4: Koszty zakupu mieszkania
B5: Cena mieszkania | C5: 243000 | D5: Cena zakupu mieszkania. Jeżeli mieszkanie zostało odziedziczone wpisz 0.
B6: Podatek PCC % | C6: 0.02
B7: Podatek PCC kwotowo | C7: =C5*C6 -> 4860
B8: PCC od wpisu do hipoteki | C8: 19
B9: Taksa notarialna (maksymalna) | C9: {=IF(CenaM<=3000,100,IF(CenaM<=10000,100+(CenaM-3000)*3%,IF(CenaM<=30000,310+(CenaM-10000)*2%,IF(CenaM<=60000,710+(CenaM-30000)*1%,IF(CenaM<=1000000,1010+(CenaM-60000)*0.4%,IF(CenaM<=2000000,4770+(CenaM-1000000)*0.2%,MIN(6770+(CenaM-2000000)*0.25%,10000)))))))} -> 1742 | D9: Wzór oblicza najwyższą możliwą, jeżeli Twoja jest niższa wprowadź ręcznie
B10: VAT od Taksy notarialnej (23%) | C10: =C9*0.23 -> 400.66 | D10: Liczy się automatycznie
B11: Wpis do księgi wieczystej | C11: 400 | D11: Wprowadź faktycznie zapłaconą kwotę
B12: Koszt wyceny (operat) | C12: 400 | D12: Wprowadź faktycznie zapłaconą kwotę
B13: Prowizja pośrednika (brutto) | C13: 0 | D13: Wprowadź faktycznie zapłaconą kwotę, lub wstaw 0 jeżeli nie ma kosztów pośrednika
B14: Wydatek na remontu po zakupie | C14: 81564.05 | D14: Wprawadź faktrycznie zapłaconą kwotę lub wstaw 0. Remont podwyższa wartość nieruchomości
B15: Wydatek na wyposażenia po zakupie | D15: Wprawadź faktrycznie zapłaconą kwotę lub wstaw 0. Wyposażenie nie podwyższa wartości nieruchomości
B16: Inne koszty | C16: 0 | D16: Inne koszty które poniosleś zanim mieskanie zostało wynajęte
B17: Suma wydatków | C17: =C5+SUM(C7:C16) -> 332385.71
B18: Suma wydatków poza ceną mieszkania i kosztem remontu | C18: =SUM(C7:C16)-C14 -> 7821.66
B21: Wartość nieruchmości po zakupie i remoncie | C21: 408000 | D21: Cena mieszkania + koszty remontu po zakupie. Jeżeli mieszkanie zostało odziedziczone wpisz ile warte jest mieszkanie, po ewentulanym remoncie, wg. wartości rynkowej
B22: Wartosć nieruchomości wg. wyceny | C22: 408000 | D22: Wprowadź kwotę z operatu, jest to podstawa to obliczenia ubezpieczenia mieszkania. Wpisz wartość nieruchmości po zakupie i remoncie jeżeli nie było operatu
B24: Mieszkanie kupione na kredyt? | C24: Tak
C25: =IF(C24="Tak", "Uzupełnij zakładkę Kredyt", IF(C24="Nie", "Upewnij się, że kwota kredytu w zakładce 'Kredyt' to 0", "")) -> Uzupełnij zakładkę Kredyt
B27: Wydana gotówka | C27: =IF(C24="Nie",C17,"Patrz zakładka Kredyt") -> Patrz zakładka Kredyt

Sheet Kredyt
A2: Dane początkowe kredytu | D2: Harmonogram spłaty kredytu
H3: Total | I3: =SUM(I6:I605) -> 235333.68 | J3: =SUM(J6:J605) -> 326400 | K3: =SUM(K6:K605) -> 561733.68
A4: kwota kredytu | B4: {=IF(CzyKredyt="TAK",WartośćM*0.8,0)} -> 326400 | C4: Formuła zakłada 20% wkładu własnego. Kredyt na zakup oraz remont po zakupie | D4: Miesiąc kredytu | E4: Rok | F4: Data | G4: WIBOR3M | H4: Oprocentowanie | I4: Odsetki | J4: Kapitał | K4: Cała rata | L4: Nadpłata | M4: Kapitał pozostający do spłaty
A5: Wkład własny | B5: {=WartośćM-KwotaKredytu} -> 81600 | C5: Wydatek na remont zaliczany jest do wkładu własnego | M5: {=KwotaKredytu} -> 326400
A6: Data pierwszej raty kredytu | B6: 44105 | D6: {=IF(ROW(1:1)<=IlośćRat,ROW(1:1),"")} -> 1 | E6: =IFERROR(ROUNDUP(Kredyt1[[#This Row],[Miesiąc kredytu]]/12,0),"") -> 1 | F6: =IFERROR(EDATE($B$6,D6-1),"") -> 44105 | G6: {=IF(Kredyt1[[#This Row],[Data]]="","",WIBOR3M)} -> 0.02 | H6: {=IF(Kredyt1[[#This Row],[Data]]="","",G6+MarżaBAnku)} -> 0.04 | I6: =IF(Kredyt1[[#This Row],[Data]]="","",Kredyt1[[#This Row],[Cała rata]]-Kredyt1[[#This Row],[Kapitał]]) -> 1088 | J6: {=IFERROR(-PPMT(Kredyt1[[#This Row],[Oprocentowanie]]/12,Kredyt1[[#This Row],[Miesiąc kredytu]],IlośćRat,KwotaKredytu),"")} -> 468.04899 | K6: {=IF(Kredyt1[[#This Row],[Miesiąc kredytu]]="","",-PMT(Kredyt1[[#This Row],[Oprocentowanie]]/12,IlośćRat,KwotaKredytu))} -> 1556.049 | L6: 0 | M6: =IFERROR(M5-J6-Kredyt1[[#This Row],[Nadpłata]],"") -> 325931.95
A7: Kredyt na ile lat | B7: 30 | C7: Wpisz liczbę lat na ile będzie brany kredyt | D7: {=IF(ROW(2:2)<=IlośćRat,ROW(2:2),"")} -> 2 | E7: =IFERROR(ROUNDUP(Kredyt1[[#This Row],[Miesiąc kredytu]]/12,0),"") -> 1 | F7: =IFERROR(EDATE($B$6,D7-1),"") -> 44136 | G7: {=IF(Kredyt1[[#This Row],[Data]]="","",WIBOR3M)} -> 0.02 | H7: {=IF(Kredyt1[[#This Row],[Data]]="","",G7+MarżaBAnku)} -> 0.04 | I7: =IF(Kredyt1[[#This Row],[Data]]="","",Kredyt1[[#This Row],[Cała rata]]-Kredyt1[[#This Row],[Kapitał]]) -> 1086.4398 | J7: {=IFERROR(-PPMT(Kredyt1[[#This Row],[Oprocentowanie]]/12,Kredyt1[[#This Row],[Miesiąc kredytu]],IlośćRat,KwotaKredytu),"")} -> 469.60915 | K7: {=IF(Kredyt1[[#This Row],[Miesiąc kredytu]]="","",-PMT(Kredyt1[[#This Row],[Oprocentowanie]]/12,IlośćRat,KwotaKredytu))} -> 1556.049 | L7: 0 | M7: =IFERROR(M6-J7-Kredyt1[[#This Row],[Nadpłata]],"") -> 325462.34
A8: Data ostatniej raty kredytu | B8: =DATE(YEAR(B6)+B7, MONTH(B6), DAY(B6)) -> 55062 | D8: {=IF(ROW(3:3)<=IlośćRat,ROW(3:3),"")} -> 3 | E8: =IFERROR(ROUNDUP(Kredyt1[[#This Row],[Miesiąc kredytu]]/12,0),"") -> 1 | F8: =IFERROR(EDATE($B$6,D8-1),"") -> 44166 | G8: {=IF(Kredyt1[[#This Row],[Data]]="","",WIBOR3M)} -> 0.02 | H8: {=IF(Kredyt1[[#This Row],[Data]]="","",G8+MarżaBAnku)} -> 0.04 | I8: =IF(Kredyt1[[#This Row],[Data]]="","",Kredyt1[[#This Row],[Cała rata]]-Kredyt1[[#This Row],[Kapitał]]) -> 1084.8745 | J8: {=IFERROR(-PPMT(Kredyt1[[#This Row],[Oprocentowanie]]/12,Kredyt1[[#This Row],[Miesiąc kredytu]],IlośćRat,KwotaKredytu),"")} -> 471.17451 | K8: {=IF(Kredyt1[[#This Row],[Miesiąc kredytu]]="","",-PMT(Kredyt1[[#This Row],[Oprocentowanie]]/12,IlośćRat,KwotaKredytu))} -> 1556.049 | L8: 0 | M8: =IFERROR(M7-J8-Kredyt1[[#This Row],[Nadpłata]],"") -> 324991.17
A9: ilość rat | B9: =DATEDIF(B6,B8,"M")+1 -> 361 | D9: {=IF(ROW(4:4)<=IlośćRat,ROW(4:4),"")} -> 4 | E9: =IFERROR(ROUNDUP(Kredyt1[[#This Row],[Miesiąc kredytu]]/12,0),"") -> 1 | F9: =IFERROR(EDATE($B$6,D9-1),"") -> 44197 | G9: {=IF(Kredyt1[[#This Row],[Data]]="","",WIBOR3M)} -> 0.02 | H9: {=IF(Kredyt1[[#This Row],[Data]]="","",G9+MarżaBAnku)} -> 0.04 | I9: =IF(Kredyt1[[#This Row],[Data]]="","",Kredyt1[[#This Row],[Cała rata]]-Kredyt1[[#This Row],[Kapitał]]) -> 1083.3039 | J9: {=IFERROR(-PPMT(Kredyt1[[#This Row],[Oprocentowanie]]/12,Kredyt1[[#This Row],[Miesiąc kredytu]],IlośćRat,KwotaKredytu),"")} -> 472.7451 | K9: {=IF(Kredyt1[[#This Row],[Miesiąc kredytu]]="","",-PMT(Kredyt1[[#This Row],[Oprocentowanie]]/12,IlośćRat,KwotaKredytu))} -> 1556.049 | L9: 0 | M9: =IFERROR(M8-J9-Kredyt1[[#This Row],[Nadpłata]],"") -> 324518.42
A10: Prowizja banku za udzielenie kredytu | B10: 0.02 | C10: Wpisz % prowizji jaką pobieże bank za udzielenie kredytu | D10: {=IF(ROW(5:5)<=IlośćRat,ROW(5:5),"")} -> 5 | E10: =IFERROR(ROUNDUP(Kredyt1[[#This Row],[Miesiąc kredytu]]/12,0),"") -> 1 | F10: =IFERROR(EDATE($B$6,D10-1),"") -> 44228 | G10: {=IF(Kredyt1[[#This Row],[Data]]="","",WIBOR3M)} -> 0.02 | H10: {=IF(Kredyt1[[#This Row],[Data]]="","",G10+MarżaBAnku)} -> 0.04 | I10: =IF(Kredyt1[[#This Row],[Data]]="","",Kredyt1[[#This Row],[Cała rata]]-Kredyt1[[#This Row],[Kapitał]]) -> 1081.7281 | J10: {=IFERROR(-PPMT(Kredyt1[[#This Row],[Oprocentowanie]]/12,Kredyt1[[#This Row],[Miesiąc kredytu]],IlośćRat,KwotaKredytu),"")} -> 474.32091 | K10: {=IF(Kredyt1[[#This Row],[Miesiąc kredytu]]="","",-PMT(Kredyt1[[#This Row],[Oprocentowanie]]/12,IlośćRat,KwotaKredytu))} -> 1556.049 | L10: 0 | M10: =IFERROR(M9-J10-Kredyt1[[#This Row],[Nadpłata]],"") -> 324044.1
A11: Prowizja banku kwotowo | B11: =B10*B4 -> 6528 | C11: Moższesz też tutaj wpisać prowizję kwotowo | D11: {=IF(ROW(6:6)<=IlośćRat,ROW(6:6),"")} -> 6 | E11: =IFERROR(ROUNDUP(Kredyt1[[#This Row],[Miesiąc kredytu]]/12,0),"") -> 1 | F11: =IFERROR(EDATE($B$6,D11-1),"") -> 44256 | G11: {=IF(Kredyt1[[#This Row],[Data]]="","",WIBOR3M)} -> 0.02 | H11: {=IF(Kredyt1[[#This Row],[Data]]="","",G11+MarżaBAnku)} -> 0.04 | I11: =IF(Kredyt1[[#This Row],[Data]]="","",Kredyt1[[#This Row],[Cała rata]]-Kredyt1[[#This Row],[Kapitał]]) -> 1080.147 | J11: {=IFERROR(-PPMT(Kredyt1[[#This Row],[Oprocentowanie]]/12,Kredyt1[[#This Row],[Miesiąc kredytu]],IlośćRat,KwotaKredytu),"")} -> 475.90198 | K11: {=IF(Kredyt1[[#This Row],[Miesiąc kredytu]]="","",-PMT(Kredyt1[[#This Row],[Oprocentowanie]]/12,IlośćRat,KwotaKredytu))} -> 1556.049 | L11: 0 | M11: =IFERROR(M10-J11-Kredyt1[[#This Row],[Nadpłata]],"") -> 323568.2
A12: Marża Banku | B12: 0.02 | C12: Wpisz % Marży banku w udzialanym kredycie | D12: {=IF(ROW(7:7)<=IlośćRat,ROW(7:7),"")} -> 7 | E12: =IFERROR(ROUNDUP(Kredyt1[[#This Row],[Miesiąc kredytu]]/12,0),"") -> 1 | F12: =IFERROR(EDATE($B$6,D12-1),"") -> 44287 | G12: {=IF(Kredyt1[[#This Row],[Data]]="","",WIBOR3M)} -> 0.02 | H12: {=IF(Kredyt1[[#This Row],[Data]]="","",G12+MarżaBAnku)} -> 0.04 | I12: =IF(Kredyt1[[#This Row],[Data]]="","",Kredyt1[[#This Row],[Cała rata]]-Kredyt1[[#This Row],[Kapitał]]) -> 1078.5607 | J12: {=IFERROR(-PPMT(Kredyt1[[#This Row],[Oprocentowanie]]/12,Kredyt1[[#This Row],[Miesiąc kredytu]],IlośćRat,KwotaKredytu),"")} -> 477.48832 | K12: {=IF(Kredyt1[[#This Row],[Miesiąc kredytu]]="","",-PMT(Kredyt1[[#This Row],[Oprocentowanie]]/12,IlośćRat,KwotaKredytu))} -> 1556.049 | L12: 0 | M12: =IFERROR(M11-J12-Kredyt1[[#This Row],[Nadpłata]],"") -> 323090.71
A13: WIBOR3M | B13: 0.02 | C13: Wpisz poziom WIBOR3M lub innego wskaźnika na podstawie którego wyliczane jest oprocentowanie kredytu. Wpisana tutaj wartość będzie zakładana przez cały okres kredytowania. Można ją zmienić dla poszczególnych miesięcy w Harmonogramie spłaty kredytu | D13: {=IF(ROW(8:8)<=IlośćRat,ROW(8:8),"")} -> 8 | E13: =IFERROR(ROUNDUP(Kredyt1[[#This Row],[Miesiąc kredytu]]/12,0),"") -> 1 | F13: =IFERROR(EDATE($B$6,D13-1),"") -> 44317 | G13: {=IF(Kredyt1[[#This Row],[Data]]="","",WIBOR3M)} -> 0.02 | H13: {=IF(Kredyt1[[#This Row],[Data]]="","",G13+MarżaBAnku)} -> 0.04 | I13: =IF(Kredyt1[[#This Row],[Data]]="","",Kredyt1[[#This Row],[Cała rata]]-Kredyt1[[#This Row],[Kapitał]]) -> 1076.969 | J13: {=IFERROR(-PPMT(Kredyt1[[#This Row],[Oprocentowanie]]/12,Kredyt1[[#This Row],[Miesiąc kredytu]],IlośćRat,KwotaKredytu),"")} -> 479.07995 | K13: {=IF(Kredyt1[[#This Row],[Miesiąc kredytu]]="","",-PMT(Kredyt1[[#This Row],[Oprocentowanie]]/12,IlośćRat,KwotaKredytu))} -> 1556.049 | L13: 0 | M13: =IFERROR(M12-J13-Kredyt1[[#This Row],[Nadpłata]],"") -> 322611.63
A14: oprocentowanie | B14: =B13+B12 -> 0.04 | D14: {=IF(ROW(9:9)<=IlośćRat,ROW(9:9),"")} -> 9 | E14: =IFERROR(ROUNDUP(Kredyt1[[#This Row],[Miesiąc kredytu]]/12,0),"") -> 1 | F14: =IFERROR(EDATE($B$6,D14-1),"") -> 44348 | G14: {=IF(Kredyt1[[#This Row],[Data]]="","",WIBOR3M)} -> 0.02 | H14: {=IF(Kredyt1[[#This Row],[Data]]="","",G14+MarżaBAnku)} -> 0.04 | I14: =IF(Kredyt1[[#This Row],[Data]]="","",Kredyt1[[#This Row],[Cała rata]]-Kredyt1[[#This Row],[Kapitał]]) -> 1075.3721 | J14: {=IFERROR(-PPMT(Kredyt1[[#This Row],[Oprocentowanie]]/12,Kredyt1[[#This Row],[Miesiąc kredytu]],IlośćRat,KwotaKredytu),"")} -> 480.67688 | K14: {=IF(Kredyt1[[#This Row],[Miesiąc kredytu]]="","",-PMT(Kredyt1[[#This Row],[Oprocentowanie]]/12,IlośćRat,KwotaKredytu))} -> 1556.049 | L14: 0 | M14: =IFERROR(M13-J14-Kredyt1[[#This Row],[Nadpłata]],"") -> 322130.95
D15: {=IF(ROW(10:10)<=IlośćRat,ROW(10:10),"")} -> 10 | E15: =IFERROR(ROUNDUP(Kredyt1[[#This Row],[Miesiąc kredytu]]/12,0),"") -> 1 | F15: =IFERROR(EDATE($B$6,D15-1),"") -> 44378 | G15: {=IF(Kredyt1[[#This Row],[Data]]="","",WIBOR3M)} -> 0.02 | H15: {=IF(Kredyt1[[#This Row],[Data]]="","",G15+MarżaBAnku)} -> 0.04 | I15: =IF(Kredyt1[[#This Row],[Data]]="","",Kredyt1[[#This Row],[Cała rata]]-Kredyt1[[#This Row],[Kapitał]]) -> 1073.7698 | J15: {=IFERROR(-PPMT(Kredyt1[[#This Row],[Oprocentowanie]]/12,Kredyt1[[#This Row],[Miesiąc kredytu]],IlośćRat,KwotaKredytu),"")} -> 482.27914 | K15: {=IF(Kredyt1[[#This Row],[Miesiąc kredytu]]="","",-PMT(Kredyt1[[#This Row],[Oprocentowanie]]/12,IlośćRat,KwotaKredytu))} -> 1556.049 | L15: 0 | M15: =IFERROR(M14-J15-Kredyt1[[#This Row],[Nadpłata]],"") -> 321648.68
A16: Inne Koszty Kredytu | C16: Wpisz kwotę kosztów poniesionych w związku z zaciągnięciem kredytu nie ujętych w innych pozycjach | D16: {=IF(ROW(11:11)<=IlośćRat,ROW(11:11),"")} -> 11 | E16: =IFERROR(ROUNDUP(Kredyt1[[#This Row],[Miesiąc kredytu]]/12,0),"") -> 1 | F16: =IFERROR(EDATE($B$6,D16-1),"") -> 44409 | G16: {=IF(Kredyt1[[#This Row],[Data]]="","",WIBOR3M)} -> 0.02 | H16: {=IF(Kredyt1[[#This Row],[Data]]="","",G16+MarżaBAnku)} -> 0.04 | I16: =IF(Kredyt1[[#This Row],[Data]]="","",Kredyt1[[#This Row],[Cała rata]]-Kredyt1[[#This Row],[Kapitał]]) -> 1072.1623 | J16: {=IFERROR(-PPMT(Kredyt1[[#This Row],[Oprocentowanie]]/12,Kredyt1[[#This Row],[Miesiąc kredytu]],IlośćRat,KwotaKredytu),"")} -> 483.88674 | K16: {=IF(Kredyt1[[#This Row],[Miesiąc kredytu]]="","",-PMT(Kredyt1[[#This Row],[Oprocentowanie]]/12,IlośćRat,KwotaKredytu))} -> 1556.049 | L16: 0 | M16: =IFERROR(M15-J16-Kredyt1[[#This Row],[Nadpłata]],"") -> 321164.79
D17: {=IF(ROW(12:12)<=IlośćRat,ROW(12:12),"")} -> 12 | E17: =IFERROR(ROUNDUP(Kredyt1[[#This Row],[Miesiąc kredytu]]/12,0),"") -> 1 | F17: =IFERROR(EDATE($B$6,D17-1),"") -> 44440 | G17: {=IF(Kredyt1[[#This Row],[Data]]="","",WIBOR3M)} -> 0.02 | H17: {=IF(Kredyt1[[#This Row],[Data]]="","",G17+MarżaBAnku)} -> 0.04 | I17: =IF(Kredyt1[[#This Row],[Data]]="","",Kredyt1[[#This Row],[Cała rata]]-Kredyt1[[#This Row],[Kapitał]]) -> 1070.5493 | J17: {=IFERROR(-PPMT(Kredyt1[[#This Row],[Oprocentowanie]]/12,Kredyt1[[#This Row],[Miesiąc kredytu]],IlośćRat,KwotaKredytu),"")} -> 485.49969 | K17: {=IF(Kredyt1[[#This Row],[Miesiąc kredytu]]="","",-PMT(Kredyt1[[#This Row],[Oprocentowanie]]/12,IlośćRat,KwotaKredytu))} -> 1556.049 | L17: 0 | M17: =IFERROR(M16-J17-Kredyt1[[#This Row],[Nadpłata]],"") -> 320679.29
A18: Ubezpiczenie na życie % | B18: 0.003 | C18: Wpisz podstawę wyliczania opłaty za ubezpieczenie na życie kredytobiorcy takiego instrumentu zabezpieczającego wymaga bank. | D18: {=IF(ROW(13:13)<=IlośćRat,ROW(13:13),"")} -> 13 | E18: =IFERROR(ROUNDUP(Kredyt1[[#This Row],[Miesiąc kredytu]]/12,0),"") -> 2 | F18: =IFERROR(EDATE($B$6,D18-1),"") -> 44470 | G18: {=IF(Kredyt1[[#This Row],[Data]]="","",WIBOR3M)} -> 0.02 | H18: {=IF(Kredyt1[[#This Row],[Data]]="","",G18+MarżaBAnku)} -> 0.04 | I18: =IF(Kredyt1[[#This Row],[Data]]="","",Kredyt1[[#This Row],[Cała rata]]-Kredyt1[[#This Row],[Kapitał]]) -> 1068.931 | J18: {=IFERROR(-PPMT(Kredyt1[[#This Row],[Oprocentowanie]]/12,Kredyt1[[#This Row],[Miesiąc kredytu]],IlośćRat,KwotaKredytu),"")} -> 487.11802 | K18: {=IF(Kredyt1[[#This Row],[Miesiąc kredytu]]="","",-PMT(Kredyt1[[#This Row],[Oprocentowanie]]/12,IlośćRat,KwotaKredytu))} -> 1556.049 | L18: 0 | M18: =IFERROR(M17-J18-Kredyt1[[#This Row],[Nadpłata]],"") -> 320192.17
A19: Ubezpieczenie na życie w 1 roku | B19: {=KwotaKredytu*UbezŻyć} -> 979.2 | D19: {=IF(ROW(14:14)<=IlośćRat,ROW(14:14),"")} -> 14 | E19: =IFERROR(ROUNDUP(Kredyt1[[#This Row],[Miesiąc kredytu]]/12,0),"") -> 2 | F19: =IFERROR(EDATE($B$6,D19-1),"") -> 44501 | G19: {=IF(Kredyt1[[#This Row],[Data]]="","",WIBOR3M)} -> 0.02 | H19: {=IF(Kredyt1[[#This Row],[Data]]="","",G19+MarżaBAnku)} -> 0.04 | I19: =IF(Kredyt1[[#This Row],[Data]]="","",Kredyt1[[#This Row],[Cała rata]]-Kredyt1[[#This Row],[Kapitał]]) -> 1067.3072 | J19: {=IFERROR(-PPMT(Kredyt1[[#This Row],[Oprocentowanie]]/12,Kredyt1[[#This Row],[Miesiąc kredytu]],IlośćRat,KwotaKredytu),"")} -> 488.74175 | K19: {=IF(Kredyt1[[#This Row],[Miesiąc kredytu]]="","",-PMT(Kredyt1[[#This Row],[Oprocentowanie]]/12,IlośćRat,KwotaKredytu))} -> 1556.049 | L19: 0 | M19: =IFERROR(M18-J19-Kredyt1[[#This Row],[Nadpłata]],"") -> 319703.43
A20: Ubezpieczenie mieszkania % | B20: 0.001 | C20: Wpisz podstawę wyliczania opłaty za ubezpieczenie mieszkania. Zakładamy że mieszkanie będzie co roku ubezpiczane bez względu na to czy kredyt jest spłacany czy został spłacony. | D20: {=IF(ROW(15:15)<=IlośćRat,ROW(15:15),"")} -> 15 | E20: =IFERROR(ROUNDUP(Kredyt1[[#This Row],[Miesiąc kredytu]]/12,0),"") -> 2 | F20: =IFERROR(EDATE($B$6,D20-1),"") -> 44531 | G20: {=IF(Kredyt1[[#This Row],[Data]]="","",WIBOR3M)} -> 0.02 | H20: {=IF(Kredyt1[[#This Row],[Data]]="","",G20+MarżaBAnku)} -> 0.04 | I20: =IF(Kredyt1[[#This Row],[Data]]="","",Kredyt1[[#This Row],[Cała rata]]-Kredyt1[[#This Row],[Kapitał]]) -> 1065.6781 | J20: {=IFERROR(-PPMT(Kredyt1[[#This Row],[Oprocentowanie]]/12,Kredyt1[[#This Row],[Miesiąc kredytu]],IlośćRat,KwotaKredytu),"")} -> 490.37089 | K20: {=IF(Kredyt1[[#This Row],[Miesiąc kredytu]]="","",-PMT(Kredyt1[[#This Row],[Oprocentowanie]]/12,IlośćRat,KwotaKredytu))} -> 1556.049 | L20: 0 | M20: =IFERROR(M19-J20-Kredyt1[[#This Row],[Nadpłata]],"") -> 319213.06
A21: Ubezpieczenie mieszkania | B21: {=B20*WartośćWycena} -> 408 | D21: {=IF(ROW(16:16)<=IlośćRat,ROW(16:16),"")} -> 16 | E21: =IFERROR(ROUNDUP(Kredyt1[[#This Row],[Miesiąc kredytu]]/12,0),"") -> 2 | F21: =IFERROR(EDATE($B$6,D21-1),"") -> 44562 | G21: {=IF(Kredyt1[[#This Row],[Data]]="","",WIBOR3M)} -> 0.02 | H21: {=IF(Kredyt1[[#This Row],[Data]]="","",G21+MarżaBAnku)} -> 0.04 | I21: =IF(Kredyt1[[#This Row],[Data]]="","",Kredyt1[[#This Row],[Cała rata]]-Kredyt1[[#This Row],[Kapitał]]) -> 1064.0435 | J21: {=IFERROR(-PPMT(Kredyt1[[#This Row],[Oprocentowanie]]/12,Kredyt1[[#This Row],[Miesiąc kredytu]],IlośćRat,KwotaKredytu),"")} -> 492.00546 | K21: {=IF(Kredyt1[[#This Row],[Miesiąc kredytu]]="","",-PMT(Kredyt1[[#This Row],[Oprocentowanie]]/12,IlośćRat,KwotaKredytu))} -> 1556.049 | L21: 0 | M21: =IFERROR(M20-J21-Kredyt1[[#This Row],[Nadpłata]],"") -> 318721.05
D22: {=IF(ROW(17:17)<=IlośćRat,ROW(17:17),"")} -> 17 | E22: =IFERROR(ROUNDUP(Kredyt1[[#This Row],[Miesiąc kredytu]]/12,0),"") -> 2 | F22: =IFERROR(EDATE($B$6,D22-1),"") -> 44593 | G22: {=IF(Kredyt1[[#This Row],[Data]]="","",WIBOR3M)} -> 0.02 | H22: {=IF(Kredyt1[[#This Row],[Data]]="","",G22+MarżaBAnku)} -> 0.04 | I22: =IF(Kredyt1[[#This Row],[Data]]="","",Kredyt1[[#This Row],[Cała rata]]-Kredyt1[[#This Row],[Kapitał]]) -> 1062.4035 | J22: {=IFERROR(-PPMT(Kredyt1[[#This Row],[Oprocentowanie]]/12,Kredyt1[[#This Row],[Miesiąc kredytu]],IlośćRat,KwotaKredytu),"")} -> 493.64548 | K22: {=IF(Kredyt1[[#This Row],[Miesiąc kredytu]]="","",-PMT(Kredyt1[[#This Row],[Oprocentowanie]]/12,IlośćRat,KwotaKredytu))} -> 1556.049 | L22: 0 | M22: =IFERROR(M21-J22-Kredyt1[[#This Row],[Nadpłata]],"") -> 318227.41
A23: Suma kosztów początkowych Inwestycji | B23: {=SumaK+B11+UbezMiesz+B19+B16} -> 340300.91 | D23: {=IF(ROW(18:18)<=IlośćRat,ROW(18:18),"")} -> 18 | E23: =IFERROR(ROUNDUP(Kredyt1[[#This Row],[Miesiąc kredytu]]/12,0),"") -> 2 | F23: =IFERROR(EDATE($B$6,D23-1),"") -> 44621 | G23: {=IF(Kredyt1[[#This Row],[Data]]="","",WIBOR3M)} -> 0.02 | H23: {=IF(Kredyt1[[#This Row],[Data]]="","",G23+MarżaBAnku)} -> 0.04 | I23: =IF(Kredyt1[[#This Row],[Data]]="","",Kredyt1[[#This Row],[Cała rata]]-Kredyt1[[#This Row],[Kapitał]]) -> 1060.758 | J23: {=IFERROR(-PPMT(Kredyt1[[#This Row],[Oprocentowanie]]/12,Kredyt1[[#This Row],[Miesiąc kredytu]],IlośćRat,KwotaKredytu),"")} -> 495.29096 | K23: {=IF(Kredyt1[[#This Row],[Miesiąc kredytu]]="","",-PMT(Kredyt1[[#This Row],[Oprocentowanie]]/12,IlośćRat,KwotaKredytu))} -> 1556.049 | L23: 0 | M23: =IFERROR(M22-J23-Kredyt1[[#This Row],[Nadpłata]],"") -> 317732.12
A24: Wydana Gotówka | B24: =B23-B4 -> 13900.91 | D24: {=IF(ROW(19:19)<=IlośćRat,ROW(19:19),"")} -> 19 | E24: =IFERROR(ROUNDUP(Kredyt1[[#This Row],[Miesiąc kredytu]]/12,0),"") -> 2 | F24: =IFERROR(EDATE($B$6,D24-1),"") -> 44652 | G24: {=IF(Kredyt1[[#This Row],[Data]]="","",WIBOR3M)} -> 0.02 | H24: {=IF(Kredyt1[[#This Row],[Data]]="","",G24+MarżaBAnku)} -> 0.04 | I24: =IF(Kredyt1[[#This Row],[Data]]="","",Kredyt1[[#This Row],[Cała rata]]-Kredyt1[[#This Row],[Kapitał]]) -> 1059.1071 | J24: {=IFERROR(-PPMT(Kredyt1[[#This Row],[Oprocentowanie]]/12,Kredyt1[[#This Row],[Miesiąc kredytu]],IlośćRat,KwotaKredytu),"")} -> 496.94193 | K24: {=IF(Kredyt1[[#This Row],[Miesiąc kredytu]]="","",-PMT(Kredyt1[[#This Row],[Oprocentowanie]]/12,IlośćRat,KwotaKredytu))} -> 1556.049 | L24: 0 | M24: =IFERROR(M23-J24-Kredyt1[[#This Row],[Nadpłata]],"") -> 317235.17
A25: Koszty Kredytu | B25: {=B11+B16+B19+UbezMiesz} -> 7915.2 | D25: {=IF(ROW(20:20)<=IlośćRat,ROW(20:20),"")} -> 20 | E25: =IFERROR(ROUNDUP(Kredyt1[[#This Row],[Miesiąc kredytu]]/12,0),"") -> 2 | F25: =IFERROR(EDATE($B$6,D25-1),"") -> 44682 | G25: {=IF(Kredyt1[[#This Row],[Data]]="","",WIBOR3M)} -> 0.02 | H25: {=IF(Kredyt1[[#This Row],[Data]]="","",G25+MarżaBAnku)} -> 0.04 | I25: =IF(Kredyt1[[#This Row],[Data]]="","",Kredyt1[[#This Row],[Cała rata]]-Kredyt1[[#This Row],[Kapitał]]) -> 1057.4506 | J25: {=IFERROR(-PPMT(Kredyt1[[#This Row],[Oprocentowanie]]/12,Kredyt1[[#This Row],[Miesiąc kredytu]],IlośćRat,KwotaKredytu),"")} -> 498.59841 | K25: {=IF(Kredyt1[[#This Row],[Miesiąc kredytu]]="","",-PMT(Kredyt1[[#This Row],[Oprocentowanie]]/12,IlośćRat,KwotaKredytu))} -> 1556.049 | L25: 0 | M25: =IFERROR(M24-J25-Kredyt1[[#This Row],[Nadpłata]],"") -> 316736.58
A26: Koszty zakupu + koszty Kredytu | B26: =KosztyKredytu+WydatkiPozaCenąM -> 15736.86 | D26: {=IF(ROW(21:21)<=IlośćRat,ROW(21:21),"")} -> 21 | E26: =IFERROR(ROUNDUP(Kredyt1[[#This Row],[Miesiąc kredytu]]/12,0),"") -> 2 | F26: =IFERROR(EDATE($B$6,D26-1),"") -> 44713 | G26: {=IF(Kredyt1[[#This Row],[Data]]="","",WIBOR3M)} -> 0.02 | H26: {=IF(Kredyt1[[#This Row],[Data]]="","",G26+MarżaBAnku)} -> 0.04 | I26: =IF(Kredyt1[[#This Row],[Data]]="","",Kredyt1[[#This Row],[Cała rata]]-Kredyt1[[#This Row],[Kapitał]]) -> 1055.7886 | J26: {=IFERROR(-PPMT(Kredyt1[[#This Row],[Oprocentowanie]]/12,Kredyt1[[#This Row],[Miesiąc kredytu]],IlośćRat,KwotaKredytu),"")} -> 500.2604 | K26: {=IF(Kredyt1[[#This Row],[Miesiąc kredytu]]="","",-PMT(Kredyt1[[#This Row],[Oprocentowanie]]/12,IlośćRat,KwotaKredytu))} -> 1556.049 | L26: 0 | M26: =IFERROR(M25-J26-Kredyt1[[#This Row],[Nadpłata]],"") -> 316236.32
D27: {=IF(ROW(22:22)<=IlośćRat,ROW(22:22),"")} -> 22 | E27: =IFERROR(ROUNDUP(Kredyt1[[#This Row],[Miesiąc kredytu]]/12,0),"") -> 2 | F27: =IFERROR(EDATE($B$6,D27-1),"") -> 44743 | G27: {=IF(Kredyt1[[#This Row],[Data]]="","",WIBOR3M)} -> 0.02 | H27: {=IF(Kredyt1[[#This Row],[Data]]="","",G27+MarżaBAnku)} -> 0.04 | I27: =IF(Kredyt1[[#This Row],[Data]]="","",Kredyt1[[#This Row],[Cała rata]]-Kredyt1[[#This Row],[Kapitał]]) -> 1054.1211 | J27: {=IFERROR(-PPMT(Kredyt1[[#This Row],[Oprocentowanie]]/12,Kredyt1[[#This Row],[Miesiąc kredytu]],IlośćRat,KwotaKredytu),"")} -> 501.92794 | K27: {=IF(Kredyt1[[#This Row],[Miesiąc kredytu]]="","",-PMT(Kredyt1[[#This Row],[Oprocentowanie]]/12,IlośćRat,KwotaKredytu))} -> 1556.049 | L27: 0 | M27: =IFERROR(M26-J27-Kredyt1[[#This Row],[Nadpłata]],"") -> 315734.39
D28: {=IF(ROW(23:23)<=IlośćRat,ROW(23:23),"")} -> 23 | E28: =IFERROR(ROUNDUP(Kredyt1[[#This Row],[Miesiąc kredytu]]/12,0),"") -> 2 | F28: =IFERROR(EDATE($B$6,D28-1),"") -> 44774 | G28: {=IF(Kredyt1[[#This Row],[Data]]="","",WIBOR3M)} -> 0.02 | H28: {=IF(Kredyt1[[#This Row],[Data]]="","",G28+MarżaBAnku)} -> 0.04 | I28: =IF(Kredyt1[[#This Row],[Data]]="","",Kredyt1[[#This Row],[Cała rata]]-Kredyt1[[#This Row],[Kapitał]]) -> 1052.448 | J28: {=IFERROR(-PPMT(Kredyt1[[#This Row],[Oprocentowanie]]/12,Kredyt1[[#This Row],[Miesiąc kredytu]],IlośćRat,KwotaKredytu),"")} -> 503.60103 | K28: {=IF(Kredyt1[[#This Row],[Miesiąc kredytu]]="","",-PMT(Kredyt1[[#This Row],[Oprocentowanie]]/12,IlośćRat,KwotaKredytu))} -> 1556.049 | L28: 0 | M28: =IFERROR(M27-J28-Kredyt1[[#This Row],[Nadpłata]],"") -> 315230.79
D29: {=IF(ROW(24:24)<=IlośćRat,ROW(24:24),"")} -> 24 | E29: =IFERROR(ROUNDUP(Kredyt1[[#This Row],[Miesiąc kredytu]]/12,0),"") -> 2 | F29: =IFERROR(EDATE($B$6,D29-1),"") -> 44805 | G29: {=IF(Kredyt1[[#This Row],[Data]]="","",WIBOR3M)} -> 0.02 | H29: {=IF(Kredyt1[[#This Row],[Data]]="","",G29+MarżaBAnku)} -> 0.04 | I29: =IF(Kredyt1[[#This Row],[Data]]="","",Kredyt1[[#This Row],[Cała rata]]-Kredyt1[[#This Row],[Kapitał]]) -> 1050.7693 | J29: {=IFERROR(-PPMT(Kredyt1[[#This Row],[Oprocentowanie]]/12,Kredyt1[[#This Row],[Miesiąc kredytu]],IlośćRat,KwotaKredytu),"")} -> 505.2797 | K29: {=IF(Kredyt1[[#This Row],[Miesiąc kredytu]]="","",-PMT(Kredyt1[[#This Row],[Oprocentowanie]]/12,IlośćRat,KwotaKredytu))} -> 1556.049 | L29: 0 | M29: =IFERROR(M28-J29-Kredyt1[[#This Row],[Nadpłata]],"") -> 314725.51
D30: {=IF(ROW(25:25)<=IlośćRat,ROW(25:25),"")} -> 25 | E30: =IFERROR(ROUNDUP(Kredyt1[[#This Row],[Miesiąc kredytu]]/12,0),"") -> 3 | F30: =IFERROR(EDATE($B$6,D30-1),"") -> 44835 | G30: {=IF(Kredyt1[[#This Row],[Data]]="","",WIBOR3M)} -> 0.02 | H30: {=IF(Kredyt1[[#This Row],[Data]]="","",G30+MarżaBAnku)} -> 0.04 | I30: =IF(Kredyt1[[#This Row],[Data]]="","",Kredyt1[[#This Row],[Cała rata]]-Kredyt1[[#This Row],[Kapitał]]) -> 1049.085 | J30: {=IFERROR(-PPMT(Kredyt1[[#This Row],[Oprocentowanie]]/12,Kredyt1[[#This Row],[Miesiąc kredytu]],IlośćRat,KwotaKredytu),"")} -> 506.96396 | K30: {=IF(Kredyt1[[#This Row],[Miesiąc kredytu]]="","",-PMT(Kredyt1[[#This Row],[Oprocentowanie]]/12,IlośćRat,KwotaKredytu))} -> 1556.049 | L30: 0 | M30: =IFERROR(M29-J30-Kredyt1[[#This Row],[Nadpłata]],"") -> 314218.54
D31: {=IF(ROW(26:26)<=IlośćRat,ROW(26:26),"")} -> 26 | E31: =IFERROR(ROUNDUP(Kredyt1[[#This Row],[Miesiąc kredytu]]/12,0),"") -> 3 | F31: =IFERROR(EDATE($B$6,D31-1),"") -> 44866 | G31: {=IF(Kredyt1[[#This Row],[Data]]="","",WIBOR3M)} -> 0.02 | H31: {=IF(Kredyt1[[#This Row],[Data]]="","",G31+MarżaBAnku)} -> 0.04 | I31: =IF(Kredyt1[[#This Row],[Data]]="","",Kredyt1[[#This Row],[Cała rata]]-Kredyt1[[#This Row],[Kapitał]]) -> 1047.3951 | J31: {=IFERROR(-PPMT(Kredyt1[[#This Row],[Oprocentowanie]]/12,Kredyt1[[#This Row],[Miesiąc kredytu]],IlośćRat,KwotaKredytu),"")} -> 508.65384 | K31: {=IF(Kredyt1[[#This Row],[Miesiąc kredytu]]="","",-PMT(Kredyt1[[#This Row],[Oprocentowanie]]/12,IlośćRat,KwotaKredytu))} -> 1556.049 | L31: 0 | M31: =IFERROR(M30-J31-Kredyt1[[#This Row],[Nadpłata]],"") -> 313709.89
D32: {=IF(ROW(27:27)<=IlośćRat,ROW(27:27),"")} -> 27 | E32: =IFERROR(ROUNDUP(Kredyt1[[#This Row],[Miesiąc kredytu]]/12,0),"") -> 3 | F32: =IFERROR(EDATE($B$6,D32-1),"") -> 44896 | G32: {=IF(Kredyt1[[#This Row],[Data]]="","",WIBOR3M)} -> 0.02 | H32: {=IF(Kredyt1[[#This Row],[Data]]="","",G32+MarżaBAnku)} -> 0.04 | I32: =IF(Kredyt1[[#This Row],[Data]]="","",Kredyt1[[#This Row],[Cała rata]]-Kredyt1[[#This Row],[Kapitał]]) -> 1045.6996 | J32: {=IFERROR(-PPMT(Kredyt1[[#This Row],[Oprocentowanie]]/12,Kredyt1[[#This Row],[Miesiąc kredytu]],IlośćRat,KwotaKredytu),"")} -> 510.34936 | K32: {=IF(Kredyt1[[#This Row],[Miesiąc kredytu]]="","",-PMT(Kredyt1[[#This Row],[Oprocentowanie]]/12,IlośćRat,KwotaKredytu))} -> 1556.049 | L32: 0 | M32: =IFERROR(M31-J32-Kredyt1[[#This Row],[Nadpłata]],"") -> 313199.54
D33: {=IF(ROW(28:28)<=IlośćRat,ROW(28:28),"")} -> 28 | E33: =IFERROR(ROUNDUP(Kredyt1[[#This Row],[Miesiąc kredytu]]/12,0),"") -> 3 | F33: =IFERROR(EDATE($B$6,D33-1),"") -> 44927 | G33: {=IF(Kredyt1[[#This Row],[Data]]="","",WIBOR3M)} -> 0.02 | H33: {=IF(Kredyt1[[#This Row],[Data]]="","",G33+MarżaBAnku)} -> 0.04 | I33: =IF(Kredyt1[[#This Row],[Data]]="","",Kredyt1[[#This Row],[Cała rata]]-Kredyt1[[#This Row],[Kapitał]]) -> 1043.9985 | J33: {=IFERROR(-PPMT(Kredyt1[[#This Row],[Oprocentowanie]]/12,Kredyt1[[#This Row],[Miesiąc kredytu]],IlośćRat,KwotaKredytu),"")} -> 512.05052 | K33: {=IF(Kredyt1[[#This Row],[Miesiąc kredytu]]="","",-PMT(Kredyt1[[#This Row],[Oprocentowanie]]/12,IlośćRat,KwotaKredytu))} -> 1556.049 | L33: 0 | M33: =IFERROR(M32-J33-Kredyt1[[#This Row],[Nadpłata]],"") -> 312687.49
D34: {=IF(ROW(29:29)<=IlośćRat,ROW(29:29),"")} -> 29 | E34: =IFERROR(ROUNDUP(Kredyt1[[#This Row],[Miesiąc kredytu]]/12,0),"") -> 3 | F34: =IFERROR(EDATE($B$6,D34-1),"") -> 44958 | G34: {=IF(Kredyt1[[#This Row],[Data]]="","",WIBOR3M)} -> 0.02 | H34: {=IF(Kredyt1[[#This Row],[Data]]="","",G34+MarżaBAnku)} -> 0.04 | I34: =IF(Kredyt1[[#This Row],[Data]]="","",Kredyt1[[#This Row],[Cała rata]]-Kredyt1[[#This Row],[Kapitał]]) -> 1042.2916 | J34: {=IFERROR(-PPMT(Kredyt1[[#This Row],[Oprocentowanie]]/12,Kredyt1[[#This Row],[Miesiąc kredytu]],IlośćRat,KwotaKredytu),"")} -> 513.75736 | K34: {=IF(Kredyt1[[#This Row],[Miesiąc kredytu]]="","",-PMT(Kredyt1[[#This Row],[Oprocentowanie]]/12,IlośćRat,KwotaKredytu))} -> 1556.049 | L34: 0 | M34: =IFERROR(M33-J34-Kredyt1[[#This Row],[Nadpłata]],"") -> 312173.73
D35: {=IF(ROW(30:30)<=IlośćRat,ROW(30:30),"")} -> 30 | E35: =IFERROR(ROUNDUP(Kredyt1[[#This Row],[Miesiąc kredytu]]/12,0),"") -> 3 | F35: =IFERROR(EDATE($B$6,D35-1),"") -> 44986 | G35: {=IF(Kredyt1[[#This Row],[Data]]="","",WIBOR3M)} -> 0.02 | H35: {=IF(Kredyt1[[#This Row],[Data]]="","",G35+MarżaBAnku)} -> 0.04 | I35: =IF(Kredyt1[[#This Row],[Data]]="","",Kredyt1[[#This Row],[Cała rata]]-Kredyt1[[#This Row],[Kapitał]]) -> 1040.5791 | J35: {=IFERROR(-PPMT(Kredyt1[[#This Row],[Oprocentowanie]]/12,Kredyt1[[#This Row],[Miesiąc kredytu]],IlośćRat,KwotaKredytu),"")} -> 515.46988 | K35: {=IF(Kredyt1[[#This Row],[Miesiąc kredytu]]="","",-PMT(Kredyt1[[#This Row],[Oprocentowanie]]/12,IlośćRat,KwotaKredytu))} -> 1556.049 | L35: 0 | M35: =IFERROR(M34-J35-Kredyt1[[#This Row],[Nadpłata]],"") -> 311658.26
D36: {=IF(ROW(31:31)<=IlośćRat,ROW(31:31),"")} -> 31 | E36: =IFERROR(ROUNDUP(Kredyt1[[#This Row],[Miesiąc kredytu]]/12,0),"") -> 3 | F36: =IFERROR(EDATE($B$6,D36-1),"") -> 45017 | G36: {=IF(Kredyt1[[#This Row],[Data]]="","",WIBOR3M)} -> 0.02 | H36: {=IF(Kredyt1[[#This Row],[Data]]="","",G36+MarżaBAnku)} -> 0.04 | I36: =IF(Kredyt1[[#This Row],[Data]]="","",Kredyt1[[#This Row],[Cała rata]]-Kredyt1[[#This Row],[Kapitał]]) -> 1038.8609 | J36: {=IFERROR(-PPMT(Kredyt1[[#This Row],[Oprocentowanie]]/12,Kredyt1[[#This Row],[Miesiąc kredytu]],IlośćRat,KwotaKredytu),"")} -> 517.18811 | K36: {=IF(Kredyt1[[#This Row],[Miesiąc kredytu]]="","",-PMT(Kredyt1[[#This Row],[Oprocentowanie]]/12,IlośćRat,KwotaKredytu))} -> 1556.049 | L36: 0 | M36: =IFERROR(M35-J36-Kredyt1[[#This Row],[Nadpłata]],"") -> 311141.07
D37: {=IF(ROW(32:32)<=IlośćRat,ROW(32:32),"")} -> 32 | E37: =IFERROR(ROUNDUP(Kredyt1[[#This Row],[Miesiąc kredytu]]/12,0),"") -> 3 | F37: =IFERROR(EDATE($B$6,D37-1),"") -> 45047 | G37: {=IF(Kredyt1[[#This Row],[Data]]="","",WIBOR3M)} -> 0.02 | H37: {=IF(Kredyt1[[#This Row],[Data]]="","",G37+MarżaBAnku)} -> 0.04 | I37: =IF(Kredyt1[[#This Row],[Data]]="","",Kredyt1[[#This Row],[Cała rata]]-Kredyt1[[#This Row],[Kapitał]]) -> 1037.1369 | J37: {=IFERROR(-PPMT(Kredyt1[[#This Row],[Oprocentowanie]]/12,Kredyt1[[#This Row],[Miesiąc kredytu]],IlośćRat,KwotaKredytu),"")} -> 518.91207 | K37: {=IF(Kredyt1[[#This Row],[Miesiąc kredytu]]="","",-PMT(Kredyt1[[#This Row],[Oprocentowanie]]/12,IlośćRat,KwotaKredytu))} -> 1556.049 | L37: 0 | M37: =IFERROR(M36-J37-Kredyt1[[#This Row],[Nadpłata]],"") -> 310622.16
D38: {=IF(ROW(33:33)<=IlośćRat,ROW(33:33),"")} -> 33 | E38: =IFERROR(ROUNDUP(Kredyt1[[#This Row],[Miesiąc kredytu]]/12,0),"") -> 3 | F38: =IFERROR(EDATE($B$6,D38-1),"") -> 45078 | G38: {=IF(Kredyt1[[#This Row],[Data]]="","",WIBOR3M)} -> 0.02 | H38: {=IF(Kredyt1[[#This Row],[Data]]="","",G38+MarżaBAnku)} -> 0.04 | I38: =IF(Kredyt1[[#This Row],[Data]]="","",Kredyt1[[#This Row],[Cała rata]]-Kredyt1[[#This Row],[Kapitał]]) -> 1035.4072 | J38: {=IFERROR(-PPMT(Kredyt1[[#This Row],[Oprocentowanie]]/12,Kredyt1[[#This Row],[Miesiąc kredytu]],IlośćRat,KwotaKredytu),"")} -> 520.64178 | K38: {=IF(Kredyt1[[#This Row],[Miesiąc kredytu]]="","",-PMT(Kredyt1[[#This Row],[Oprocentowanie]]/12,IlośćRat,KwotaKredytu))} -> 1556.049 | L38: 0 | M38: =IFERROR(M37-J38-Kredyt1[[#This Row],[Nadpłata]],"") -> 310101.52
D39: {=IF(ROW(34:34)<=IlośćRat,ROW(34:34),"")} -> 34 | E39: =IFERROR(ROUNDUP(Kredyt1[[#This Row],[Miesiąc kredytu]]/12,0),"") -> 3 | F39: =IFERROR(EDATE($B$6,D39-1),"") -> 45108 | G39: {=IF(Kredyt1[[#This Row],[Data]]="","",WIBOR3M)} -> 0.02 | H39: {=IF(Kredyt1[[#This Row],[Data]]="","",G39+MarżaBAnku)} -> 0.04 | I39: =IF(Kredyt1[[#This Row],[Data]]="","",Kredyt1[[#This Row],[Cała rata]]-Kredyt1[[#This Row],[Kapitał]]) -> 1033.6717 | J39: {=IFERROR(-PPMT(Kredyt1[[#This Row],[Oprocentowanie]]/12,Kredyt1[[#This Row],[Miesiąc kredytu]],IlośćRat,KwotaKredytu),"")} -> 522.37725 | K39: {=IF(Kredyt1[[#This Row],[Miesiąc kredytu]]="","",-PMT(Kredyt1[[#This Row],[Oprocentowanie]]/12,IlośćRat,KwotaKredytu))} -> 1556.049 | L39: 0 | M39: =IFERROR(M38-J39-Kredyt1[[#This Row],[Nadpłata]],"") -> 309579.14
D40: {=IF(ROW(35:35)<=IlośćRat,ROW(35:35),"")} -> 35 | E40: =IFERROR(ROUNDUP(Kredyt1[[#This Row],[Miesiąc kredytu]]/12,0),"") -> 3 | F40: =IFERROR(EDATE($B$6,D40-1),"") -> 45139 | G40: {=IF(Kredyt1[[#This Row],[Data]]="","",WIBOR3M)} -> 0.02 | H40: {=IF(Kredyt1[[#This Row],[Data]]="","",G40+MarżaBAnku)} -> 0.04 | I40: =IF(Kredyt1[[#This Row],[Data]]="","",Kredyt1[[#This Row],[Cała rata]]-Kredyt1[[#This Row],[Kapitał]]) -> 1031.9305 | J40: {=IFERROR(-PPMT(Kredyt1[[#This Row],[Oprocentowanie]]/12,Kredyt1[[#This Row],[Miesiąc kredytu]],IlośćRat,KwotaKredytu),"")} -> 524.11851 | K40: {=IF(Kredyt1[[#This Row],[Miesiąc kredytu]]="","",-PMT(Kredyt1[[#This Row],[Oprocentowanie]]/12,IlośćRat,KwotaKredytu))} -> 1556.049 | L40: 0 | M40: =IFERROR(M39-J40-Kredyt1[[#This Row],[Nadpłata]],"") -> 309055.02
D41: {=IF(ROW(36:36)<=IlośćRat,ROW(36:36),"")} -> 36 | E41: =IFERROR(ROUNDUP(Kredyt1[[#This Row],[Miesiąc kredytu]]/12,0),"") -> 3 | F41: =IFERROR(EDATE($B$6,D41-1),"") -> 45170 | G41: {=IF(Kredyt1[[#This Row],[Data]]="","",WIBOR3M)} -> 0.02 | H41: {=IF(Kredyt1[[#This Row],[Data]]="","",G41+MarżaBAnku)} -> 0.04 | I41: =IF(Kredyt1[[#This Row],[Data]]="","",Kredyt1[[#This Row],[Cała rata]]-Kredyt1[[#This Row],[Kapitał]]) -> 1030.1834 | J41: {=IFERROR(-PPMT(Kredyt1[[#This Row],[Oprocentowanie]]/12,Kredyt1[[#This Row],[Miesiąc kredytu]],IlośćRat,KwotaKredytu),"")} -> 525.86557 | K41: {=IF(Kredyt1[[#This Row],[Miesiąc kredytu]]="","",-PMT(Kredyt1[[#This Row],[Oprocentowanie]]/12,IlośćRat,KwotaKredytu))} -> 1556.049 | L41: 0 | M41: =IFERROR(M40-J41-Kredyt1[[#This Row],[Nadpłata]],"") -> 308529.16
...

Sheet Wynik 
B2: Dane początkowe dotyczące wynajmu mieszkania | K2: Podsumownaie
B4: Horyzont Inwestycji | D4: 20 | E4: Ile lat w przód chcesz przeanalizować? Maksymalny horyzont inwestycji to 50 lat | K4: Zysk netto całkowity na koniec horyzontu inwestycyjnego | N4: {=IF(HoryzontInw>=1,SUM(OFFSET(Wyniki2!$AB$54,0,0,HoryzontInwestycyjny,1)),"")+N17} -> 381670.12 | Q4: Przy założeniu że mieszkanie jest wynajmowane i sprzedane na koniec horyzontu inwestycyjnego
K5: IRR (wewnętrzna stopa zwrotu) wg. zysku netto | N5: {=IRR(OFFSET($C$80, 0, 0, 1, HoryzontInw+1))} -> 0.075660787 | Q5: Średnia stopa zwrotu z całej inwestycji (najem + sprzedaż na koniec) w horyzoncie czasowym
B6: Przychody z najmu
B8: Średnioroczna inflacja w całym okresie inwestycji | D8: 0.03 | E8: Załóż jaka bedzie inflacja przez cały okres trwania inwestycji. Wartości dla poszczególnych lat można zmieniać w Tabeli wyników finansowych z tytułu najmu | K8: Wynik netto z najmu w horyzoncie inwestycji | N8: {=IF(HoryzontInw>=1, SUM(OFFSET($D$78, 0, 0, 1, HoryzontInw)), "")} -> 398361.83 | Q8: Nie brana jest pod uwagę wydana gotówka na zakup nieruchomości
K9: ROI w pierwszym roku inwestycji | N9: =D87 -> 0.025836592 | Q9: Zysk z najmu netto w stosunku do wszystkich kosztów poniesionych na inwestycję
B10: miesiące wynajmu w roku | D10: 12 | E10: Załóż przez ile miesięcy będziesz wynajmować mieszkanie w roku w którym nie ma remontów ani niezaplanowanych przestojów. Pamiętaj że ostrożnościowe podejście powinno zakładać 1 miesiąc pustostanu w roku.
K11: ROE w pierwszym roku inwestycji | N11: =D86 -> 0.6324921 | Q11: Zysk z najmu netto w stosunku do gotówki wydanej przez inwestora
B12: Kwota czynszu dla właściciela w 1 roku inwestycji miesięcznie | D12: 3200 | E12: Za ile chcesz wynajć mieszkanie na początku inwestycji? Czyszn właściciela to kwota przychodu właściciela, bez opłat za media oraz do administracji budynku.
K13: Wartość nieruchomości na koniec horyzontu inwestycji | N13: {=INDEX(D85:BA85,1,HoryzontInw)} -> 715430.47
B14: Zmiana Odstępnego w czasie | D14: inflacyjnie | E14: Wskaż o jaki wskaźnik ma zmieniać się odstępne co roku podczas trwania inwestycji. Dla poszczególnych lat możesz zmienić odstępne w Tabeli wyników finansowych z tytułu najmu
K15: Zmiana wartości nieruchomości | N15: {=INDEX(D85:BA85,1,HoryzontInw)-WartośćM} -> 307430.47 | Q15: O ile więcej warta jest nieruchomość na koniec horyzontu Inwestycji
B17: Stały % zmiany stawki | D17: 0.04 | E17: O taki % zmieni się kwota odstępnego | K17: Wynik na hipotetycznej transakcji sprzedaży nieruchomości | N17: {=IF(CzyKredyt="NIE",INDEX('Wynik '!D85:BA85,1,HoryzontInw)-SumaK,INDEX('Wynik '!D85:BA85,1,HoryzontInw)-SumaK-KosztyKredytu)} -> 375129.56 | Q17: Brane są pod uwagę koszty transakcyjne przy zakupie
B18: Stała kwota zmiany stawki | D18: 150 | E18: O tyle co roku zmieni się kwota odstępnego
K19: Payback period (okres zwrotu wydanej gotówki w latach) | N19: {=MATCH(1, (D88:BA88>0)*1, 0)} -> 2 | Q19: Po ilu latach najmu inwestor odzyska zainwestowany kapitał
B20: Koszty Najmu
B22: Co ile lat mały remont | D22: 0 | E22: Mały remont to lekkie odświerzenia, np. odmalowanie
B23: Czas trwania małego remontu (miesiące) | D23: 1 | E23: Załóż ile miesięcy będzie trwać Mały remont, mieszkanie będzie wtedy puste
B24: Koszt małego remontu | D24: 5000 | E24: Ile kosztować będzie Mały remont, kwota wyrażona wg. dzisiejszych kosztów | L24: Jeżeli masz mieszkanie na wynajem we Wrocławiu Domowik chętnie się nim zajmie. Ty możesz zarabiać pasywnie a my zajmiemy się wszystkim.
B26: Co ile lat dużu remont | D26: 0 | E26: Duży remont to np. remont łazienki, wymiana podłóg, wymiana instalacji.
B27: Czas trwania dużego remontu (miesiące) | D27: 2 | E27: Załóż ile miesięcy będzie trwać Duży remont, mieszkanie będzie wtedy puste
B28: Kost dużego remontu | D28: 20000 | E28: Ile kosztować będzie Duży remont, kwota wyrażona wg. dzisiejszych kosztów.
L29: Napisz do nas na: | O29: kontakt@domowik.pl
B30: Wysokość czynszu do wspólnoty miesięcznie | D30: 500 | E30: Czynsz należdy do administracji budynku na początku inwestycji
B31: Podatek od nieruchmości rocznie | D31: 400
B32: Inne koszty rocznie | D32: 150 | E32: np. wymiana zamków po wyporadzce najemców, internet
B33: Koszty Zarządzania Najmem | D33: 0.15
B34: Koszty uwzględniają inflację | D34: Tak | E34: Czy koszty mają być waloryzowane?
B35: Stawka podatku od przychodów do 100 tys. | D35: 0.085
B36: Staka podatku od przychodów powyżej 100 tys | D36: 0.125
B38: Zmiana wartości nieruchomości
B40: Zmiana wartości nieruchmości na przestrzeni lat | D40: inflacyjnie | E40: Wskaż o jaki wskaźnik ma zmieniać się wartość nieruchomości co roku podczas trwania inwestycji. Dla poszczególnych lat możesz zmienić odstępne w Tabeli wyników finansowych z tytułu najmu
B43: Stały % | D43: 0.01 | E43: O jaki % rocznie zmieni się wartość nieruchomości
B44: Stała kwota | D44: 50000 | E44: O jaką kwotę rocznie zmieni się wartość nieruchomości
B47: Tabela wyników finansowych z tytułu najmu
B49: Rok | C49: Początek inwestycji | D49: 1 | E49: 2 | F49: 3 | G49: 4 | H49: 5 | I49: 6 | J49: 7 | K49: 8 | L49: 9 | M49: 10 | N49: 11 | O49: 12 | P49: 13 | Q49: 14 | R49: 15 | S49: 16 | T49: 17 | U49: 18 | V49: 19 | W49: 20 | X49: 21 | Y49: 22 | Z49: 23 | AA49: 24 | AB49: 25 | AC49: 26 | AD49: 27 | AE49: 28 | AF49: 29 | AG49: 30 | AH49: 31 | AI49: 32 | AJ49: 33 | AK49: 34 | AL49: 35 | AM49: 36 | AN49: 37 | AO49: 38 | AP49: 39 | AQ49: 40 | AR49: 41 | AS49: 42 | AT49: 43 | AU49: 44 | AV49: 45 | AW49: 46 | AX49: 47 | AY49: 48 | AZ49: 49 | BA49: 50
B50: Przychody z wynajmu
B51: Inflacja | D51: 0 | E51: {=IF(ZmiOds="Inflacyjnie",Inf,0)} -> 0.03 | F51: {=IF(ZmiOds="Inflacyjnie",Inf,0)} -> 0.03 | G51: {=IF(ZmiOds="Inflacyjnie",Inf,0)} -> 0.03 | H51: {=IF(ZmiOds="Inflacyjnie",Inf,0)} -> 0.03 | I51: {=IF(ZmiOds="Inflacyjnie",Inf,0)} -> 0.03 | J51: {=IF(ZmiOds="Inflacyjnie",Inf,0)} -> 0.03 | K51: {=IF(ZmiOds="Inflacyjnie",Inf,0)} -> 0.03 | L51: {=IF(ZmiOds="Inflacyjnie",Inf,0)} -> 0.03 | ... BA51: {=IF(ZmiOds="Inflacyjnie",Inf,0)} -> 0.03
B52: Stały % zmiany stawki | D52: 0 | E52: {=ProcZmi} -> 0.04 | F52: {=ProcZmi} -> 0.04 | G52: {=ProcZmi} -> 0.04 | H52: {=ProcZmi} -> 0.04 | I52: {=ProcZmi} -> 0.04 | J52: {=ProcZmi} -> 0.04 | K52: {=ProcZmi} -> 0.04 | L52: {=ProcZmi} -> 0.04 | ... BA52: {=ProcZmi} -> 0.04
B53: Stała kwota zmiany stawki | D53: 0 | E53: {=KwoZmi} -> 150 | F53: {=KwoZmi} -> 150 | G53: {=KwoZmi} -> 150 | H53: {=KwoZmi} -> 150 | I53: {=KwoZmi} -> 150 | J53: {=KwoZmi} -> 150 | K53: {=KwoZmi} -> 150 | L53: {=KwoZmi} -> 150 | ... BA53: {=KwoZmi} -> 150
...

Sheet Wyniki2
B2: Dane początkowe dotyczące wynajmu mieszkania | I2: Podsumowanie
B4: Horyzont Inwestycji | C4: 1 | D4: Ile lat w przód chcesz przeanalizować? Maksymalny horyzont inwestycji to 100 lat | L4: Zysk netto całkowity na koniec horyzontu inwestycyjnego | M4: {=IF(HoryzontInw>=1,SUM(OFFSET(AB54,0,0,HoryzontInwestycyjny,1)),"")+WynikNaSprzedażyNieruchomości} -> 74239.646 | N4: Przy założeniu że mieszkanie jest wynajmowane i sprzedane na koniec horyzontu inwestycyjnego
B6: Przychody z najmu | L6: IRR (wewnętrzna stopa zwrotu) wg. zysku netto | M6: =IRR(OFFSET(AH53, 0, 0, HoryzontInwestycyjny+1,1)) -> 0.21815882 | N6: Średnia stopa zwrotu z całej inwestycji (najem + sprzedaż na koniec) w horyzoncie czasowym. "Oprocentowanie netto (po podatku od przychodów kapitałowcych lokaty bankowej"
B8: Średnioroczna inflacja w całym okresie inwestycji | C8: 0.02 | D8: Załóż jaka bedzie inflacja przez cały okres trwania inwestycji. Wartości dla poszczególnych lat można zmieniać w Tabeli wyników finansowych z tytułu najmu | L8: Wynik netto z najmu w horyzoncie inwestycji | M8: {=IF(HoryzontInw>=1, SUM(OFFSET(AB54, 0, 0, HoryzontInwestycyjny, 1)), "")} -> 6540.5558 | N8: Nie brana jest pod uwagę wydana gotówka na zakup nieruchomości
B10: miesiące wynajmu w roku | C10: 11.8 | D10: Załóż przez ile miesięcy będziesz wynajmować mieszkanie w roku w którym nie ma remontów ani niezaplanowanych przestojów. Pamiętaj że ostrożnościowe podejście powinno zakładać 1 miesiąc pustostanu w roku. | L10: ROI w pierwszym roku inwestycji | M10: =AJ54 -> 0.019219919 | N10: Zysk z najmu netto w stosunku do wartości inwestycji (Koszty kredytu, zakupu + cena mieszkania)
B12: Kwota czynszu dla właściciela w 1 roku inwestycji miesięcznie | C12: 2500 | D12: Za ile chcesz wynajć mieszkanie na początku inwestycji? Czyszn właściciela to kwota przychodu właściciela, bez opłat za media oraz do administracji budynku. | L12: ROE w pierwszym roku inwestycji | M12: =AI54 -> 0.47051278 | N12: Zysk z najmu netto w stosunku do gotówki wydanej przez inwestora
B14: Zmiana Odstępnego w czasie | C14: inflacyjnie | D14: Wskaż o jaki wskaźnik ma zmieniać się odstępne co roku podczas trwania inwestycji. Dla poszczególnych lat możesz zmienić odstępne w Tabeli wyników finansowych z tytułu najmu | L14: Payback period (okres zwrotu wydanej gotówki w latach) | M14: =_xlfn.MINIFS(Tabela3[Rok],Tabela3[Payback period],">=0") -> 2 | N14: Po ilu latach najmu inwestor odzyska zainwestowany kapitał
L16: Wartość nieruchomości na koniec horyzontu inwestycji | M16: {=INDEX(Tabela3[Wartość nieruchomości],HoryzontInwestycyjny+1,1)} -> 408000
B17: Stały % zmiany stawki | C17: 0.04 | D17: O taki % zmieni się kwota odstępnego
B18: Stała kwota zmiany stawki | C18: 150 | D18: O tyle co roku zmieni się kwota odstępnego | L18: Zmiana wartości nieruchomości | M18: =M16-WartośćM -> 0 | N18: O ile więcej warta jest nieruchomość na koniec horyzontu Inwestycji
B20: Koszty Najmu | L20: Wynik na hipotetycznej transakcji sprzedaży nieruchomości | M20: {=IF(CzyKredyt="NIE",INDEX(Tabela3[Wartość nieruchomości],HoryzontInwestycyjny+1,1)-SumaK,INDEX(Tabela3[Wartość nieruchomości],HoryzontInwestycyjny+1,1)-SumaK-KosztyKredytu)} -> 67699.09 | N20: Brane są pod uwagę koszty transakcyjne przy zakupie
B22: Co ile lat mały remont | C22: 10 | D22: Mały remont to lekkie odświerzenia, np. odmalowanie
B23: Czas trwania małego remontu (miesiące) | C23: 1 | D23: Załóż ile miesięcy będzie trwać Mały remont, mieszkanie będzie wtedy puste
B24: Koszt małego remontu | C24: 5000 | D24: Ile kosztować będzie Mały remont, kwota wyrażona wg. dzisiejszych kosztów | I24: Jeżeli masz mieszkanie na wynajem we Wrocławiu Domowik chętnie się nim zajmie. Ty możesz zarabiać pasywnie a my zajmiemy się wszystkim.
B26: Co ile lat dużu remont | C26: 20 | D26: Duży remont to np. remont łazienki, wymiana podłóg, wymiana instalacji.
B27: Czas trwania dużego remontu (miesiące) | C27: 1 | D27: Załóż ile miesięcy będzie trwać Duży remont, mieszkanie będzie wtedy puste
B28: Kost dużego remontu | C28: 15000 | D28: Ile kosztować będzie Duży remont, kwota wyrażona wg. dzisiejszych kosztów.
B30: Wysokość czynszu do wspólnoty miesięcznie | C30: 300 | D30: Czynsz należdy do administracji budynku na początku inwestycji
B31: Podatek od nieruchmości rocznie | C31: 200
B32: Inne koszty rocznie | C32: 150 | D32: np. wymiana zamków po wyporadzce najemców, internet | I32: Napisz do nas na: | L32: kontakt@domowik.pl
B33: Koszty Zarządzania Najmem | C33: 0
B34: Koszty uwzględniają inflację | C34: Tak | D34: Czy koszty mają być waloryzowane?
B35: Stawka podatku od przychodów do 100 tys. | C35: 0.085
B36: Staka podatku od przychodów powyżej 100 tys | C36: 0.125
B38: Zmiana wartości nieruchomości
B40: Zmiana wartości nieruchmości na przestrzeni lat | C40: inflacyjnie | D40: Wskaż o jaki wskaźnik ma zmieniać się wartość nieruchomości co roku podczas trwania inwestycji. Dla poszczególnych lat możesz zmienić odstępne w Tabeli wyników finansowych z tytułu najmu
B43: Stały % | C43: 0.01 | D43: O jaki % rocznie zmieni się wartość nieruchomości
B44: Stała kwota | C44: 50000 | D44: O jaką kwotę rocznie zmieni się wartość nieruchomości
B50: Tabela wyników finansowych z tytułu najmu | G50: ,
D51: Przychody | J51: Koszty najmu | AB51: Wynik na najmie | AD51: Zmiana wartość nieruchomości
C52: Rok | D52: Inflacja | E52: Stały % zmiany stawki | F52: Stała kwota zmiany stawki | G52: Miesięczna stawka wynajmu | H52: Liczba wynajętych miesięcy w roku | I52: Przychody z wynajmu | J52: Inflacja2 | K52: Cena mieszkania + remont początkowy | L52: Koszt zakupu | M52: Koszt zaciągnięcia kredytu | N52: Mały remont podczas najmu | O52: Duże remont podczas najmu | P52: Czynsz do administracji opłacany przez właściciela | Q52: Rata kredytu: odsetki | R52: Rata kredytu: kapitał | S52: Rata kredytu | T52: Ubezpieczenie na życie | U52: Ubezpiczenie mieszkania | V52: Podatek od nieruchomości | W52: Zarząd | X52: Inne koszty | Y52: Wydatki związane z najmem całkowite | Z52: Podatek od przychodu | AA52: Wszystkie Koszty | AB52: Wynik z najmu netto rocznie | AC52: Skumulowany wynik z najmu netto z najmu | AD52: Inflacja3 | AE52: Stały % zmiany warrtości | AF52: Stała kwota zmiany wartości | AG52: Wartość nieruchomości | AH52: Przepływy pieniężne w danym roku | AI52: ROE z najmu | AJ52: ROI z najmu | AK52: Payback period
C53: Początek Inwestycji | K53: {=CenaM+KosztRemontu} -> 324564.05 | L53: =WydatkiPozaCenąM -> 7821.66 | M53: =KosztyKredytu -> 7915.2 | T53: {=IF(Tabela3[[#This Row],[Rok]]>HoryzontInwestycyjny,0,IFERROR(INDEX(Kredyt!$M:$M,11+Tabela3[[#This Row],[Rok]]*12) * UbezŻyć,""))} -> 0 | AA53: =Tabela3[[#This Row],[Wydatki związane z najmem całkowite]]+Tabela3[[#This Row],[Podatek od przychodu]] -> 0 | AH53: =-(Tabela3[[#This Row],[Cena mieszkania + remont początkowy]]+Tabela3[[#This Row],[Koszt zakupu]]+Tabela3[[#This Row],[Koszt zaciągnięcia kredytu]]) -> -340300.91
C54: 1 | D54: =IF(ZmianaOdstępnego="Inflacyjnie",Inflacja,0) -> 0.02 | E54: =ProcentZmianyOdstępnego -> 0.04 | F54: 0 | G54: =Odstępne -> 2500 | H54: =IF(Tabela3[[#This Row],[Rok]]>HoryzontInwestycyjny,0,MAX(0, MiesiąceNajmu - MAX(0, MAX(IFERROR(IF(MOD($C54, MałyRemont) = 0,Czas_MałyRemont, 0),0),IFERROR(IF(MOD($C54,DużyRemont) = 0,Czas_DużyRemont, 0),0)) - (12 -MiesiąceNajmu)))) -> 11.8 | I54: =G54*H54 -> 29500 | J54: =IF(Tabela3[[#This Row],[Rok]]>HoryzontInwestycyjny,"",IF(ZmianaKosztów="TAK",Inflacja,0)) -> 0.02 | N54: 0 | O54: 0 | P54: =IF(Tabela3[[#This Row],[Rok]]>HoryzontInwestycyjny,0,IF(12-Tabela3[[#This Row],[Liczba wynajętych miesięcy w roku]]>0, (12-Tabela3[[#This Row],[Liczba wynajętych miesięcy w roku]]) *CzynszWspólnoty,0)) -> 60 | Q54: =IF(Tabela3[[#This Row],[Rok]]>HoryzontInwestycyjny,0,SUMIF(Kredyt!$E:$E,Tabela3[[#This Row],[Rok]],Kredyt!$I:$I)) -> 12951.876 | R54: =IF(Tabela3[[#This Row],[Rok]]>HoryzontInwestycyjny,0,SUMIF(Kredyt!$E:$E,Tabela3[[#This Row],[Rok]],Kredyt!$J:$J)) -> 5720.7114 | S54: =Tabela3[[#This Row],[Rata kredytu: odsetki]]+Tabela3[[#This Row],[Rata kredytu: kapitał]] -> 18672.588 | T54: {=IF(Tabela3[[#This Row],[Rok]]>HoryzontInwestycyjny,0,IFERROR(INDEX(Kredyt!$M:$M,11+Tabela3[[#This Row],[Rok]]*12) * UbezŻyć,""))} -> 953.19635 | U54: {=IF(Tabela3[[#This Row],[Rok]]>HoryzontInwestycyjny,0,IF(CzasKredytu>=Tabela3[[#This Row],[Rok]],IF(ZmianaKosztów="Tak",UbezMiesz* PRODUCT(1+J54:J54), UbezMiesz),""))} -> 416.16 | V54: =PodatekOdNieruchomości -> 200 | W54: =KosztyZarządzania*Tabela3[[#This Row],[Przychody z wynajmu]] -> 0 | X54: =InneKosztyRocznie -> 150 | Y54: =SUM(Tabela3[[#This Row],[Cena mieszkania + remont początkowy]:[Inne koszty]])-Tabela3[[#This Row],[Rata kredytu]] -> 20451.944 | Z54: =IF(Tabela3[[#This Row],[Przychody z wynajmu]]<=100000, Tabela3[[#This Row],[Przychody z wynajmu]]*MałyPodatek, 100000*MałyPodatek + (Tabela3[[#This Row],[Przychody z wynajmu]]-100000)*DużyPodatek) -> 2507.5 | AA54: =Tabela3[[#This Row],[Wydatki związane z najmem całkowite]]+Tabela3[[#This Row],[Podatek od przychodu]] -> 22959.444 | AB54: =IF(Tabela3[[#This Row],[Rok]]>HoryzontInwestycyjny,0,Tabela3[[#This Row],[Przychody z wynajmu]]-Tabela3[[#This Row],[Wydatki związane z najmem całkowite]]-Tabela3[[#This Row],[Podatek od przychodu]]) -> 6540.5558 | AC54: =Tabela3[[#This Row],[Wynik z najmu netto rocznie]] -> 6540.5558 | AD54: =IF(Tabela3[[#This Row],[Rok]]>HoryzontInwestycyjny,"",IF(ZmianaWartościNieruchomości="Inflacyjnie",Inflacja,0)) -> 0.02 | AE54: =IF(Tabela3[[#This Row],[Rok]]>HoryzontInwestycyjny,"",StałyProcentZmianyWartościNieruchomości) -> 0.01 | AF54: =IF(Tabela3[[#This Row],[Rok]]>HoryzontInwestycyjny,"",StałaKwotaZmianyWartościNieruchomości) -> 50000 | AG54: =IF(Tabela3[[#This Row],[Rok]]>HoryzontInwestycyjny,0,WartośćM) -> 408000 | AH54: =IF(Tabela3[[#This Row],[Rok]]>HoryzontInwestycyjny,0,Tabela3[[#This Row],[Wynik z najmu netto rocznie]] + IF(Tabela3[[#This Row],[Rok]]=HoryzontInwestycyjny,Tabela3[[#This Row],[Wartość nieruchomości]], 0)) -> 414540.56 | AI54: {=Tabela3[[#This Row],[Wynik z najmu netto rocznie]]/IF(CzyKredyt="Tak",WydanaGotówka2,WydanaGotówka1)} -> 0.47051278 | AJ54: {=Tabela3[[#This Row],[Wynik z najmu netto rocznie]]/IF(CzyKredyt="Tak",SumaKosztówPoczątkowychInwestycji,SumaKosztów)} -> 0.019219919 | AK54: {=IF(Tabela3[[#This Row],[Rok]]>HoryzontInwestycyjny,0,-IF(CzyKredyt="Tak",WydanaGotówka2,WydanaGotówka1)+Tabela3[[#This Row],[Skumulowany wynik z najmu netto z najmu]])} -> -7360.3542
C55: 2 | D55: =IF(ZmianaOdstępnego="Inflacyjnie",Inflacja,0) -> 0.02 | E55: =ProcentZmianyOdstępnego -> 0.04 | F55: =KwotaZmianyOdstępnego -> 150 | G55: =IF(Tabela3[[#This Row],[Rok]]>HoryzontInwestycyjny,0,IF(ZmianaOdstępnego="bez zmian",G54,IF(ZmianaOdstępnego="inflacyjnie",G54*(1+Wyniki2!$D55),IF(ZmianaOdstępnego="stały %",G54*(1+Wyniki2!$E55),IF(ZmianaOdstępnego="stała kwota",G54+Wyniki2!$F55,))))) -> 0 | H55: =IF(Tabela3[[#This Row],[Rok]]>HoryzontInwestycyjny,0,MAX(0, MiesiąceNajmu - MAX(0, MAX(IFERROR(IF(MOD($C55, MałyRemont) = 0,Czas_MałyRemont, 0),0),IFERROR(IF(MOD($C55,DużyRemont) = 0,Czas_DużyRemont, 0),0)) - (12 -MiesiąceNajmu)))) -> 0 | I55: =G55*H55 -> 0 | J55: =IF(Tabela3[[#This Row],[Rok]]>HoryzontInwestycyjny,"",IF(ZmianaKosztów="TAK",Inflacja,0)) | N55: {=IF(Tabela3[[#This Row],[Rok]]>HoryzontInwestycyjny,0,IF(OR(ISBLANK(MałyRemont),MałyRemont=0),0,IF(MOD(Tabela3[[#This Row],[Rok]],MałyRemont)=0,Kwota_MałyRemont*IF(ZmianaKosztów="Tak",PRODUCT(1+INDEX(InflacjaWKażdymRoku,1,1):INDEX(InflacjaWKażdymRoku,Tabela3[[#This Row],[Rok]],1)),1),0)))} -> 0 | O55: {=IF(Tabela3[[#This Row],[Rok]]>HoryzontInwestycyjny,0,IF(OR(ISBLANK(DużyRemont),DużyRemont=0),0,IF(MOD(Tabela3[[#This Row],[Rok]],DużyRemont)=0,Kwota_DużyRemont*IF(ZmianaKosztów="Tak",PRODUCT(1+INDEX(InflacjaWKażdymRoku,1,1):INDEX(InflacjaWKażdymRoku,Tabela3[[#This Row],[Rok]],1)),1),0)))} -> 0 | P55: {=IF(Tabela3[[#This Row],[Rok]]>HoryzontInwestycyjny,0,IF(12-Tabela3[[#This Row],[Liczba wynajętych miesięcy w roku]]>0, (12-Tabela3[[#This Row],[Liczba wynajętych miesięcy w roku]]) *CzynszWspólnoty* IF(ZmianaKosztów="Tak", PRODUCT(1+J$54:INDEX($J$54:J55, ROWS($D$54:D55)-1)), 1), 0))} -> 0 | Q55: =IF(Tabela3[[#This Row],[Rok]]>HoryzontInwestycyjny,0,SUMIF(Kredyt!$E:$E,Tabela3[[#This Row],[Rok]],Kredyt!$I:$I)) -> 0 | R55: =IF(Tabela3[[#This Row],[Rok]]>HoryzontInwestycyjny,0,SUMIF(Kredyt!$E:$E,Tabela3[[#This Row],[Rok]],Kredyt!$J:$J)) -> 0 | S55: =Tabela3[[#This Row],[Rata kredytu: odsetki]]+Tabela3[[#This Row],[Rata kredytu: kapitał]] -> 0 | T55: {=IF(Tabela3[[#This Row],[Rok]]>HoryzontInwestycyjny,0,IFERROR(INDEX(Kredyt!$M:$M,11+Tabela3[[#This Row],[Rok]]*12) * UbezŻyć,""))} -> 0 | U55: {=IF(Tabela3[[#This Row],[Rok]]>HoryzontInwestycyjny,0,IF(CzasKredytu>=Tabela3[[#This Row],[Rok]],IF(ZmianaKosztów="Tak",UbezMiesz* PRODUCT(1+J55:J55), UbezMiesz),""))} -> 0 | V55: {=IF(Tabela3[[#This Row],[Rok]]>HoryzontInwestycyjny,0,IF(ZmianaKosztów="Tak", PodatekOdNieruchomości * PRODUCT(1+J$54:J54), PodNie))} -> 0 | W55: =KosztyZarządzania*Tabela3[[#This Row],[Przychody z wynajmu]] -> 0 | X55: {=IF(Tabela3[[#This Row],[Rok]]>HoryzontInwestycyjny,0,IF(ZmianaKosztów="Tak", InneKosztyRocznie* PRODUCT(1+J$55:J55), InneKosztyRocznie))} -> 0 | Y55: =SUM(Tabela3[[#This Row],[Cena mieszkania + remont początkowy]:[Inne koszty]])-Tabela3[[#This Row],[Rata kredytu]] -> 0 | Z55: =IF(Tabela3[[#This Row],[Przychody z wynajmu]]<=100000, Tabela3[[#This Row],[Przychody z wynajmu]]*MałyPodatek, 100000*MałyPodatek + (Tabela3[[#This Row],[Przychody z wynajmu]]-100000)*DużyPodatek) -> 0 | AA55: =Tabela3[[#This Row],[Wydatki związane z najmem całkowite]]+Tabela3[[#This Row],[Podatek od przychodu]] -> 0 | AB55: =IF(Tabela3[[#This Row],[Rok]]>HoryzontInwestycyjny,0,Tabela3[[#This Row],[Przychody z wynajmu]]-Tabela3[[#This Row],[Wydatki związane z najmem całkowite]]-Tabela3[[#This Row],[Podatek od przychodu]]) -> 0 | AC55: =IF(Tabela3[[#This Row],[Rok]]>HoryzontInwestycyjny,0,AC54+Tabela3[[#This Row],[Wynik z najmu netto rocznie]]) -> 0 | AD55: =IF(Tabela3[[#This Row],[Rok]]>HoryzontInwestycyjny,"",IF(ZmianaWartościNieruchomości="Inflacyjnie",Inflacja,0)) | AE55: =IF(Tabela3[[#This Row],[Rok]]>HoryzontInwestycyjny,"",StałyProcentZmianyWartościNieruchomości) | AF55: =IF(Tabela3[[#This Row],[Rok]]>HoryzontInwestycyjny,"",StałaKwotaZmianyWartościNieruchomości) | AG55: =IF(Tabela3[[#This Row],[Rok]]>HoryzontInwestycyjny,0,IF(ZmianaWartościNieruchomości="bez zmian",AG54,IF(ZmianaWartościNieruchomości="inflacyjnie",AG54*(1+Tabela3[[#This Row],[Inflacja3]]),IF(ZmianaWartościNieruchomości="stały %",AG54*(1+Tabela3[[#This Row],[Stały % zmiany warrtości]]),IF(ZmianaWartościNieruchomości="stała kwota",AG54+AF55,AG54))))) -> 0 | AH55: =IF(Tabela3[[#This Row],[Rok]]>HoryzontInwestycyjny,0,Tabela3[[#This Row],[Wynik z najmu netto rocznie]] + IF(Tabela3[[#This Row],[Rok]]=HoryzontInwestycyjny,Tabela3[[#This Row],[Wartość nieruchomości]], 0)) -> 0 | AI55: {=Tabela3[[#This Row],[Wynik z najmu netto rocznie]]/IF(CzyKredyt="Tak",WydanaGotówka2,WydanaGotówka1)} -> 0 | AJ55: {=Tabela3[[#This Row],[Wynik z najmu netto rocznie]]/IF(CzyKredyt="Tak",SumaKosztówPoczątkowychInwestycji,SumaKosztów)} -> 0 | AK55: {=IF(Tabela3[[#This Row],[Rok]]>HoryzontInwestycyjny,0,-IF(CzyKredyt="Tak",WydanaGotówka2,WydanaGotówka1)+Tabela3[[#This Row],[Skumulowany wynik z najmu netto z najmu]])} -> 0
