Workbook
Name CenaM: 'Podstawowe parametry'!$C$5:$C$5
Name Czas_DużyRemont: Wyniki2!$C$27
Name Czas_MałyRemont: Wyniki2!$C$23
Name CzasKredytu: Kredyt!$B$7
Name CzyKredyt: 'Podstawowe parametry'!$C$24:$C$24
Name Czynsz: 'Wynik '!$D$30:$D$30
Name CzynszWspólnoty: Wyniki2!$C$30
Name DużRem: 'Wynik '!$D$26:$D$26
Name DużyPodatek: Wyniki2!$C$36
Name DużyRemont: Wyniki2!$C$26
Name HoryzontInw: 'Wynik '!$D$4:$D$4
Name HoryzontInwestycyjny: Wyniki2!$C$4
Name IlośćRat: Kredyt!$B$9:$B$9
Name Inf: 'Wynik '!$D$8:$D$8
Name Inflacja: Wyniki2!$C$8
Name InflacjaWKażdymRoku: Wyniki2!$J$54:$J$103
Name InneKoszty: 'Wynik '!$D$32:$D$32
Name InneKosztyRocznie: Wyniki2!$C$32
Name K_DużRem: 'Wynik '!$D$28:$D$28
Name K_MałRem: 'Wynik '!$D$24:$D$24
Name KosInf: 'Wynik '!$D$34:$D$34
Name KosztRemontu: 'Podstawowe parametry'!$C$14
Name KosztyKredytu: Kredyt!$B$25
Name KosztyZarządzania: Wyniki2!$C$33
Name KosztZarządu: Wyniki2!$C$33
Name Kwota_DużyRemont: Wyniki2!$C$28
Name Kwota_MałyRemont: Wyniki2!$C$24
Name KwotaKredytu: Kredyt!$B$4:$B$4
Name KwotaZmianyOdstępnego: Wyniki2!$C$18
Name KwoZmi: 'Wynik '!$D$18:$D$18
Name LatWyn: 'Wynik '!$D$49:$BA$49
Name Małrem: 'Wynik '!$D$22:$D$22
Name MałyPodatek: Wyniki2!$C$35
Name MałyRemont: Wyniki2!$C$22
Name MarżaBAnku: Kredyt!$B$12:$B$12
Name MiesiąceNajmu: Wyniki2!$C$10
Name MieWyn: 'Wynik '!$D$10:$D$10
Name ObszarInf: 'Wynik '!$D$59:$BA$59
Name Ods: 'Wynik '!$D$12:$D$12
Name Odstępne: Wyniki2!$C$12
Name OdsWLat: 'Wynik '!$D$54:$AL$54
Name OprocentowanieKredytu: Kredyt!$B$14:$B$14
Name PodatekOdNieruchomości: Wyniki2!$C$31
Name PodNie: 'Wynik '!$D$31:$D$31
Name ProcentZmianyOdstępnego: Wyniki2!$C$17
Name ProcZmi: 'Wynik '!$D$17:$D$17
Name StałaKwotaZmianyWartoNierucho: 'Wynik '!$D$44
Name StałaKwotaZmianyWartościNieruchomości: Wyniki2!$C$44
Name StałyProcentZmianyWartościNieruchomości: Wyniki2!$C$43
Name StałyProcZmianWarNier: 'Wynik '!$D$43
Name SumaK: 'Podstawowe parametry'!$C$17:$C$17
Name SumaKosztów: 'Podstawowe parametry'!$C$17:$C$17
Name SumaKosztówPoczątkowychInwestycji: Kredyt!$B$23:$B$23
Name T_DużRem: 'Wynik '!$D$27:$D$27
Name T_MałRem: 'Wynik '!$D$23:$D$23
Name UbezMiesz: Kredyt!$B$21:$B$21
Name UbezŻyć: Kredyt!$B$18:$B$18
Name WartośćM: 'Podstawowe parametry'!$C$21
Name WartośćWycena: 'Podstawowe parametry'!$C$22:$C$22
Name WIBOR3M: Kredyt!$B$13:$B$13

Sheet Instrukcja
B1: Kalkulator opłacalności inwestycji: zakup mieszkania na wynajem
B2: Kalkulator też służy do analizy opłacalności zakupu mieszkania na wynajem.
B4: Kalkulator składa się z 4 zakładek:
B6: Instrukcja – przedstawia podstawowe informacje o kalkulatorze.
B8: Podstawowe parametry – zawiera tabelę, w której inwestor wprowadza podstawowe dane dotyczące zakupu nieruchomości. W białych polach należy wpisać wartości „z ręki”. Pola pomarańczowe zawierają formuły obliczające wartości na podstawie wcześniej wprowadzonych danych. Można je edytować i również wpisać do nich wartości ręcznie. Bardzo ważne jest, aby określić wartość mieszkania zgodnie z operatem szacunkowym oraz odpowiedzieć na pytanie, czy zakup będzie finansowany kredytem.
B10: Kredyt – inwestor uzupełnia tę zakładkę, jeśli na pytanie „Mieszkanie kupione na kredyt?” odpowiedział „Tak”. Należy tu wpisać dane dotyczące kredytu finansującego zakup nieruchomości na wynajem. Do uzupełnienia są komórki z białym tłem.
B12: Wyniki – w tej zakładce inwestor określa parametry najmu. Znajduje się tu tabela wyników najmu do 50 lat. Po określeniu horyzontu inwestycji w sekcji Podsumowanie inwestor zobaczy wyniki dla przewidywanego przez siebie okresu inwestycji.
B16: Używając kalkulatora należy mieć na uwadze kilka podstawowych założeń:
B18: Kredyt w arkuszu jest kredytem o stałej racie i zmiennym oprocentowaniu.
B19: Poszczególne komórki w tabeli wyników oraz harmonogramie kredytu mogą być edytowane – można ręcznie zwiększyć inflację dla wybranego roku lub dostosować WIBOR 3M do rzeczywistych wartości.
B20: Kalkulator ma służyć jako pomoc w podjęciu decyzji, jednak nie należy opierać się wyłącznie na jego wynikach.
B22: Zastrzeżenia prawne
... B28: Domowik sp. z o.o. zastrzega sobie prawo do modyfikacji, aktualizacji lub usunięcia kalkulatora w dowolnym momencie, bez wcześniejszego powiadomienia użytkowników.

Sheet Podstawowe parametry
B2: Kalkulator wyników wynajmi mieszkania
B4: Koszty zakupu mieszkania
B5: Cena mieszkania | C5: 243000 | D5: Cena zakupu mieszkania. Jeżeli mieszkanie zostało odziedziczone wpisz 0.
B6: Podatek PCC % | C6: 0.02
B7: Podatek PCC kwotowo | C7: =C5*C6 -> 4860
B8: PCC od wpisu do hipoteki | C8: 19
B9: Taksa notarialna (maksymalna) | C9: {=IF(CenaM<=3000,100,IF(CenaM<=10000,100+(CenaM-3000)*3%,IF(CenaM<=30000,310+(CenaM-10000)*2%,IF(CenaM<=60000,710+(CenaM-30000)*1%,IF(CenaM<=1000000,1010+(CenaM-60000)*0.4%,IF(CenaM<=2000000,4770+(CenaM-1000000)*0.2%,MIN(6770+(CenaM-2000000)*0.25%,10000)))))))} -> 1742 | D9: Wzór oblicza najwyższą możliwą, jeżeli Twoja jest niższa wprowadź ręcznie
B10: VAT od Taksy notarialnej (23%) | C10: =C9*0.23 -> 400.66 | D10: Liczy się automatycznie
B11: Wpis do księgi wieczystej | C11: 400 | D11: Wprowadź faktycznie zapłaconą kwotę
B12: Koszt wyceny (operat) | C12: 400 | D12: Wprowadź faktycznie zapłaconą kwotę
B13: Prowizja pośrednika (brutto) | C13: 0 | D13: Wprowadź faktycznie zapłaconą kwotę, lub wstaw 0 jeżeli nie ma kosztów pośrednika
B14: Wydatek na remontu po zakupie | C14: 81564.05 | D14: Wprawadź faktrycznie zapłaconą kwotę lub wstaw 0. Remont podwyższa wartość nieruchomości
B15: Wydatek na wyposażenia po zakupie | D15: Wprawadź faktrycznie zapłaconą kwotę lub wstaw 0. Wyposażenie nie podwyższa wartości nieruchomości
B16: Inne koszty | C16: 0 | D16: Inne koszty które poniosleś zanim mieskanie zostało wynajęte
B17: Suma wydatków | C17: =C5+SUM(C7:C16) -> 332385.71
B18: Suma wydatków poza ceną mieszkania i kosztem remontu | C18: =SUM(C7:C16)-C14 -> 7821.66
B21: Wartość nieruchmości po zakupie i remoncie | C21: 408000 | D21: Cena mieszkania + koszty remontu po zakupie. Jeżeli mieszkanie zostało odziedziczone wpisz ile warte jest mieszkanie, po ewentulanym remoncie, wg. wartości rynkowej
B22: Wartosć nieruchomości wg. wyceny | C22: 408000 | D22: Wprowadź kwotę z operatu, jest to podstawa to obliczenia ubezpieczenia mieszkania. Wpisz wartość nieruchmości po zakupie i remoncie jeżeli nie było operatu
B24: Mieszkanie kupione na kredyt? | C24: Tak
C25: =IF(C24="Tak", "Uzupełnij zakładkę Kredyt", IF(C24="Nie", "Upewnij się, że kwota kredytu w zakładce 'Kredyt' to 0", "")) -> Uzupełnij zakładkę Kredyt
B27: Wydana gotówka | C27: =IF(C24="Nie",C17,"Patrz zakładka Kredyt") -> Patrz zakładka Kredyt

Sheet Kredyt
A2: Dane początkowe kredytu | D2: Harmonogram spłaty kredytu
H3: Total | I3: =SUM(I6:I605) -> 235333.68 | J3: =SUM(J6:J605) -> 326400 | K3: =SUM(K6:K605) -> 561733.68
A4: kwota kredytu | B4: {=IF(CzyKredyt="TAK",WartośćM*0.8,0)} -> 326400 | C4: Formuła zakłada 20% wkładu własnego. Kredyt na zakup oraz remont po zakupie | D4: Miesiąc kredytu | E4: Rok | F4: Data | G4: WIBOR3M | H4: Oprocentowanie | I4: Odsetki | J4: Kapitał | K4: Cała rata | L4: Nadpłata | M4: Kapitał pozostający do spłaty
A5: Wkład własny | B5: {=WartośćM-KwotaKredytu} -> 81600 | C5: Wydatek na remont zaliczany jest do wkładu własnego | M5: {=KwotaKredytu} -> 326400
A6: Data pierwszej raty kredytu | B6: 44105 | D6: {=IF(ROW(1:1)<=IlośćRat,ROW(1:1),"")} -> 1 | E6: =IFERROR(ROUNDUP(Kredyt1[[#This Row],[Miesiąc kredytu]]/12,0),"") -> 1 | F6: =IFERROR(EDATE($B$6,D6-1),"") -> 44105 | G6: {=IF(Kredyt1[[#This Row],[Data]]="","",WIBOR3M)} -> 0.02 | H6: {=IF(Kredyt1[[#This Row],[Data]]="","",G6+MarżaBAnku)} -> 0.04 | I6: =IF(Kredyt1[[#This Row],[Data]]="","",Kredyt1[[#This Row],[Cała rata]]-Kredyt1[[#This Row],[Kapitał]]) -> 1088 | J6: {=IFERROR(-PPMT(Kredyt1[[#This Row],[Oprocentowanie]]/12,Kredyt1[[#This Row],[Miesiąc kredytu]],IlośćRat,KwotaKredytu),"")} -> 468.04899 | K6: {=IF(Kredyt1[[#This Row],[Miesiąc kredytu]]="","",-PMT(Kredyt1[[#This Row],[Oprocentowanie]]/12,IlośćRat,KwotaKredytu))} -> 1556.049 | L6: 0 | M6: =IFERROR(M5-J6-Kredyt1[[#This Row],[Nadpłata]],"") -> 325931.95
A7: Kredyt na ile lat | B7: 30 | C7: Wpisz liczbę lat na ile będzie brany kredyt | D7: {=IF(ROW(2:2)<=IlośćRat,ROW(2:2),"")} -> 2 | E7: =IFERROR(ROUNDUP(Kredyt1[[#This Row],[Miesiąc kredytu]]/12,0),"") -> 1 | F7: =IFERROR(EDATE($B$6,D7-1),"") -> 44136 | G7: {=IF(Kredyt1[[#This Row],[Data]]="","",WIBOR3M)} -> 0.02 | H7: {=IF(Kredyt1[[#This Row],[Data]]="","",G7+MarżaBAnku)} -> 0.04 | I7: =IF(Kredyt1[[#This Row],[Data]]="","",Kredyt1[[#This Row],[Cała rata]]-Kredyt1[[#This Row],[Kapitał]]) -> 1086.4398 | J7: {=IFERROR(-PPMT(Kredyt1[[#This Row],[Oprocentowanie]]/12,Kredyt1[[#This Row],[Miesiąc kredytu]],IlośćRat,KwotaKredytu),"")} -> 469.60915 | K7: {=IF(Kredyt1[[#This Row],[Miesiąc kredytu]]="","",-PMT(Kredyt1[[#This Row],[Oprocentowanie]]/12,IlośćRat,KwotaKredytu))} -> 1556.049 | L7: 0 | M7: =IFERROR(M6-J7-Kredyt1[[#This Row],[Nadpłata]],"") -> 325462.34
A8: Data ostatniej raty kredytu | B8: =DATE(YEAR(B6)+B7, MONTH(B6), DAY(B6)) -> 55062 | D8: {=IF(ROW(3:3)<=IlośćRat,ROW(3:3),"")} -> 3 | E8: =IFERROR(ROUNDUP(Kredyt1[[#This Row],[Miesiąc kredytu]]/12,0),"") -> 1 | F8: =IFERROR(EDATE($B$6,D8-1),"") -> 44166 | G8: {=IF(Kredyt1[[#This Row],[Data]]="","",WIBOR3M)} -> 0.02 | H8: {=IF(Kredyt1[[#This Row],[Data]]="","",G8+MarżaBAnku)} -> 0.04 | I8: =IF(Kredyt1[[#This Row],[Data]]="","",Kredyt1[[#This Row],[Cała rata]]-Kredyt1[[#This Row],[Kapitał]]) -> 1084.8745 | J8: {=IFERROR(-PPMT(Kredyt1[[#This Row],[Oprocentowanie]]/12,Kredyt1[[#This Row],[Miesiąc kredytu]],IlośćRat,KwotaKredytu),"")} -> 471.17451 | K8: {=IF(Kredyt1[[#This Row],[Miesiąc kredytu]]="","",-PMT(Kredyt1[[#This Row],[Oprocentowanie]]/12,IlośćRat,KwotaKredytu))} -> 1556.049 | L8: 0 | M8: =IFERROR(M7-J8-Kredyt1[[#This Row],[Nadpłata]],"") -> 324991.17
A9: ilość rat | B9: =DATEDIF(B6,B8,"M")+1 -> 361 | D9: {=IF(ROW(4:4)<=IlośćRat,ROW(4:4),"")} -> 4 | E9: =IFERROR(ROUNDUP(Kredyt1[[#This Row],[Miesiąc kredytu]]/12,0),"") -> 1 | F9: =IFERROR(EDATE($B$6,D9-1),"") -> 44197 | G9: {=IF(Kredyt1[[#This Row],[Data]]="","",WIBOR3M)} -> 0.02 | H9: {=IF(Kredyt1[[#This Row],[Data]]="","",G9+MarżaBAnku)} -> 0.04 | I9: =IF(Kredyt1[[#This Row],[Data]]="","",Kredyt1[[#This Row],[Cała rata]]-Kredyt1[[#This Row],[Kapitał]]) -> 1083.3039 | J9: {=IFERROR(-PPMT(Kredyt1[[#This Row],[Oprocentowanie]]/12,Kredyt1[[#This Row],[Miesiąc kredytu]],IlośćRat,KwotaKredytu),"")} -> 472.7451 | K9: {=IF(Kredyt1[[#This Row],[Miesiąc kredytu]]="","",-PMT(Kredyt1[[#This Row],[Oprocentowanie]]/12,IlośćRat,KwotaKredytu))} -> 1556.049 | L9: 0 | M9: =IFERROR(M8-J9-Kredyt1[[#This Row],[Nadpłata]],"") -> 324518.42
A10: Prowizja banku za udzielenie kredytu | B10: 0.02 | C10: Wpisz % prowizji jaką pobieże bank za udzielenie kredytu | D10: {=IF(ROW(5:5)<=IlośćRat,ROW(5:5),"")} -> 5 | E10: =IFERROR(ROUNDUP(Kredyt1[[#This Row],[Miesiąc kredytu]]/12,0),"") -> 1 | F10: =IFERROR(EDATE($B$6,D10-1),"") -> 44228 | G10: {=IF(Kredyt1[[#This Row],[Data]]="","",WIBOR3M)} -> 0.02 | H10: {=IF(Kredyt1[[#This Row],[Data]]="","",G10+MarżaBAnku)} -> 0.04 | I10: =IF(Kredyt1[[#This Row],[Data]]="","",Kredyt1[[#This Row],[Cała rata]]-Kredyt1[[#This Row],[Kapitał]]) -> 1081.7281 | J10: {=IFERROR(-PPMT(Kredyt1[[#This Row],[Oprocentowanie]]/12,Kredyt1[[#This Row],[Miesiąc kredytu]],IlośćRat,KwotaKredytu),"")} -> 474.32091 | K10: {=IF(Kredyt1[[#This Row],[Miesiąc kredytu]]="","",-PMT(Kredyt1[[#This Row],[Oprocentowanie]]/12,IlośćRat,KwotaKredytu))} -> 1556.049 | L10: 0 | M10: =IFERROR(M9-J10-Kredyt1[[#This Row],[Nadpłata]],"") -> 324044.1
A11: Prowizja banku kwotowo | B11: =B10*B4 -> 6528 | C11: Moższesz też tutaj wpisać prowizję kwotowo | D11: {=IF(ROW(6:6)<=IlośćRat,ROW(6:6),"")} -> 6 | E11: =IFERROR(ROUNDUP(Kredyt1[[#This Row],[Miesiąc kredytu]]/12,0),"") -> 1 | F11: =IFERROR(EDATE($B$6,D11-1),"") -> 44256 | G11: {=IF(Kredyt1[[#This Row],[Data]]="","",WIBOR3M)} -> 0.02 | H11: {=IF(Kredyt1[[#This Row],[Data]]="","",G11+MarżaBAnku)} -> 0.04 | I11: =IF(Kredyt1[[#This Row],[Data]]="","",Kredyt1[[#This Row],[Cała rata]]-Kredyt1[[#This Row],[Kapitał]]) -> 1080.147 | J11: {=IFERROR(-PPMT(Kredyt1[[#This Row],[Oprocentowanie]]/12,Kredyt1[[#This Row],[Miesiąc kredytu]],IlośćRat,KwotaKredytu),"")} -> 475.90198 | K11: {=IF(Kredyt1[[#This Row],[Miesiąc kredytu]]="","",-PMT(Kredyt1[[#This Row],[Oprocentowanie]]/12,IlośćRat,KwotaKredytu))} -> 1556.049 | L11: 0 | M11: =IFERROR(M10-J11-Kredyt1[[#This Row],[Nadpłata]],"") -> 323568.2
A12: Marża Banku | B12: 0.02 | C12: Wpisz % Marży banku w udzialanym kredycie | D12: {=IF(ROW(7:7)<=IlośćRat,ROW(7:7),"")} -> 7 | E12: =IFERROR(ROUNDUP(Kredyt1[[#This Row],[Miesiąc kredytu]]/12,0),"") -> 1 | F12: =IFERROR(EDATE($B$6,D12-1),"") -> 44287 | G12: {=IF(Kredyt1[[#This Row],[Data]]="","",WIBOR3M)} -> 0.02 | H12: {=IF(Kredyt1[[#This Row],[Data]]="","",G12+MarżaBAnku)} -> 0.04 | I12: =IF(Kredyt1[[#This Row],[Data]]="","",Kredyt1[[#This Row],[Cała rata]]-Kredyt1[[#This Row],[Kapitał]]) -> 1078.5607 | J12: {=IFERROR(-PPMT(Kredyt1[[#This Row],[Oprocentowanie]]/12,Kredyt1[[#This Row],[Miesiąc kredytu]],IlośćRat,KwotaKredytu),"")} -> 477.48832 | K12: {=IF(Kredyt1[[#This Row],[Miesiąc kredytu]]="","",-PMT(Kredyt1[[#This Row],[Oprocentowanie]]/12,IlośćRat,KwotaKredytu))} -> 1556.049 | L12: 0 | M12: =IFERROR(M11-J12-Kredyt1[[#This Row],[Nadpłata]],"") -> 323090.71
A13: WIBOR3M | B13: 0.02 | C13: Wpisz poziom WIBOR3M lub innego wskaźnika na podstawie którego wyliczane jest oprocentowanie kredytu. Wpisana tutaj wartość będzie zakładana przez cały okres kredytowania. Można ją zmienić dla poszczególnych miesięcy w Harmonogramie spłaty kredytu | D13: {=IF(ROW(8:8)<=IlośćRat,ROW(8:8),"")} -> 8 | E13: =IFERROR(ROUNDUP(Kredyt1[[#This Row],[Miesiąc kredytu]]/12,0),"") -> 1 | F13: =IFERROR(EDATE($B$6,D13-1),"") -> 44317 | G13: {=IF(Kredyt1[[#This Row],[Data]]="","",WIBOR3M)} -> 0.02 | H13: {=IF(Kredyt1[[#This Row],[Data]]="","",G13+MarżaBAnku)} -> 0.04 | I13: =IF(Kredyt1[[#This Row],[Data]]="","",Kredyt1[[#This Row],[Cała rata]]-Kredyt1[[#This Row],[Kapitał]]) -> 1076.969 | J13: {=IFERROR(-PPMT(Kredyt1[[#This Row],[Oprocentowanie]]/12,Kredyt1[[#This Row],[Miesiąc kredytu]],IlośćRat,KwotaKredytu),"")} -> 479.07995 | K13: {=IF(Kredyt1[[#This Row],[Miesiąc kredytu]]="","",-PMT(Kredyt1[[#This Row],[Oprocentowanie]]/12,IlośćRat,KwotaKredytu))} -> 1556.049 | L13: 0 | M13: =IFERROR(M12-J13-Kredyt1[[#This Row],[Nadpłata]],"") -> 322611.63
A14: oprocentowanie | B14: =B13+B12 -> 0.04 | D14: {=IF(ROW(9:9)<=IlośćRat,ROW(9:9),"")} -> 9 | E14: =IFERROR(ROUNDUP(Kredyt1[[#This Row],[Miesiąc kredytu]]/12,0),"") -> 1 | F14: =IFERROR(EDATE($B$6,D14-1),"") -> 44348 | G14: {=IF(Kredyt1[[#This Row],[Data]]="","",WIBOR3M)} -> 0.02 | H14: {=IF(Kredyt1[[#This Row],[Data]]="","",G14+MarżaBAnku)} -> 0.04 | I14: =IF(Kredyt1[[#This Row],[Data]]="","",Kredyt1[[#This Row],[Cała rata]]-Kredyt1[[#This Row],[Kapitał]]) -> 1075.3721 | J14: {=IFERROR(-PPMT(Kredyt1[[#This Row],[Oprocentowanie]]/12,Kredyt1[[#This Row],[Miesiąc kredytu]],IlośćRat,KwotaKredytu),"")} -> 480.67688 | K14: {=IF(Kredyt1[[#This Row],[Miesiąc kredytu]]="","",-PMT(Kredyt1[[#This Row],[Oprocentowanie]]/12,IlośćRat,KwotaKredytu))} -> 1556.049 | L14: 0 | M14: =IFERROR(M13-J14-Kredyt1[[#This Row],[Nadpłata]],"") -> 322130.95
D15: {=IF(ROW(10:10)<=IlośćRat,ROW(10:10),"")} -> 10 | E15: =IFERROR(ROUNDUP(Kredyt1[[#This Row],[Miesiąc kredytu]]/12,0),"") -> 1 | F15: =IFERROR(EDATE($B$6,D15-1),"") -> 44378 | G15: {=IF(Kredyt1[[#This Row],[Data]]="","",WIBOR3M)} -> 0.02 | H15: {=IF(Kredyt1[[#This Row],[Data]]="","",G15+MarżaBAnku)} -> 0.04 | I15: =IF(Kredyt1[[#This Row],[Data]]="","",Kredyt1[[#This Row],[Cała rata]]-Kredyt1[[#This Row],[Kapitał]]) -> 1073.7698 | J15: {=IFERROR(-PPMT(Kredyt1[[#This Row],[Oprocentowanie]]/12,Kredyt1[[#This Row],[Miesiąc kredytu]],IlośćRat,KwotaKredytu),"")} -> 482.27914 | K15: {=IF(Kredyt1[[#This Row],[Miesiąc kredytu]]="","",-PMT(Kredyt1[[#This Row],[Oprocentowanie]]/12,IlośćRat,KwotaKredytu))} -> 1556.049 | L15: 0 | M15: =IFERROR(M14-J15-Kredyt1[[#This Row],[Nadpłata]],"") -> 321648.68
A16: Inne Koszty Kredytu | C16: Wpisz kwotę kosztów poniesionych w związku z zaciągnięciem kredytu nie ujętych w innych pozycjach | D16: {=IF(ROW(11:11)<=IlośćRat,ROW(11:11),"")} -> 11 | E16: =IFERROR(ROUNDUP(Kredyt1[[#This Row],[Miesiąc kredytu]]/12,0),"") -> 1 | F16: =IFERROR(EDATE($B$6,D16-1),"") -> 44409 | G16: {=IF(Kredyt1[[#This Row],[Data]]="","",WIBOR3M)} -> 0.02 | H16: {=IF(Kredyt1[[#This Row],[Data]]="","",G16+MarżaBAnku)} -> 0.04 | I16: =IF(Kredyt1[[#This Row],[Data]]="","",Kredyt1[[#This Row],[Cała rata]]-Kredyt1[[#This Row],[Kapitał]]) -> 1072.1623 | J16: {=IFERROR(-PPMT(Kredyt1[[#This Row],[Oprocentowanie]]/12,Kredyt1[[#This Row],[Miesiąc kredytu]],IlośćRat,KwotaKredytu),"")} -> 483.88674 | K16: {=IF(Kredyt1[[#This Row],[Miesiąc kredytu]]="","",-PMT(Kredyt1[[#This Row],[Oprocentowanie]]/12,IlośćRat,KwotaKredytu))} -> 1556.049 | L16: 0 | M16: =IFERROR(M15-J16-Kredyt1[[#This Row],[Nadpłata]],"") -> 321164.79
D17: {=IF(ROW(12:12)<=IlośćRat,ROW(12:12),"")} -> 12 | E17: =IFERROR(ROUNDUP(Kredyt1[[#This Row],[Miesiąc kredytu]]/12,0),"") -> 1 | F17: =IFERROR(EDATE($B$6,D17-1),"") -> 44440 | G17: {=IF(Kredyt1[[#This Row],[Data]]="","",WIBOR3M)} -> 0.02 | H17: {=IF(Kredyt1[[#This Row],[Data]]="","",G17+MarżaBAnku)} -> 0.04 | I17: =IF(Kredyt1[[#This Row],[Data]]="","",Kredyt1[[#This Row],[Cała rata]]-Kredyt1[[#This Row],[Kapitał]]) -> 1070.5493 | J17: {=IFERROR(-PPMT(Kredyt1[[#This Row],[Oprocentowanie]]/12,Kredyt1[[#This Row],[Miesiąc kredytu]],IlośćRat,KwotaKredytu),"")} -> 485.49969 | K17: {=IF(Kredyt1[[#This Row],[Miesiąc kredytu]]="","",-PMT(Kredyt1[[#This Row],[Oprocentowanie]]/12,IlośćRat,KwotaKredytu))} -> 1556.049 | L17: 0 | M17: =IFERROR(M16-J17-Kredyt1[[#This Row],[Nadpłata]],"") -> 320679.29
A18: Ubezpiczenie na życie % | B18: 0.003 | C18: Wpisz podstawę wyliczania opłaty za ubezpieczenie na życie kredytobiorcy takiego instrumentu zabezpieczającego wymaga bank. | D18: {=IF(ROW(13:13)<=IlośćRat,ROW(13:13),"")} -> 13 | E18: =IFERROR(ROUNDUP(Kredyt1[[#This Row],[Miesiąc kredytu]]/12,0),"") -> 2 | F18: =IFERROR(EDATE($B$6,D18-1),"") -> 44470 | G18: {=IF(Kredyt1[[#This Row],[Data]]="","",WIBOR3M)} -> 0.02 | H18: {=IF(Kredyt1[[#This Row],[Data]]="","",G18+MarżaBAnku)} -> 0.04 | I18: =IF(Kredyt1[[#This Row],[Data]]="","",Kredyt1[[#This Row],[Cała rata]]-Kredyt1[[#This Row],[Kapitał]]) -> 1068.931 | J18: {=IFERROR(-PPMT(Kredyt1[[#This Row],[Oprocentowanie]]/12,Kredyt1[[#This Row],[Miesiąc kredytu]],IlośćRat,KwotaKredytu),"")} -> 487.11802 | K18: {=IF(Kredyt1[[#This Row],[Miesiąc kredytu]]="","",-PMT(Kredyt1[[#This Row],[Oprocentowanie]]/12,IlośćRat,KwotaKredytu))} -> 1556.049 | L18: 0 | M18: =IFERROR(M17-J18-Kredyt1[[#This Row],[Nadpłata]],"") -> 320192.17
A19: Ubezpieczenie na życie w 1 roku | B19: {=KwotaKredytu*UbezŻyć} -> 979.2 | D19: {=IF(ROW(14:14)<=IlośćRat,ROW(14:14),"")} -> 14 | E19: =IFERROR(ROUNDUP(Kredyt1[[#This Row],[Miesiąc kredytu]]/12,0),"") -> 2 | F19: =IFERROR(EDATE($B$6,D19-1),"") -> 44501 | G19: {=IF(Kredyt1[[#This Row],[Data]]="","",WIBOR3M)} -> 0.02 | H19: {=IF(Kredyt1[[#This Row],[Data]]="","",G19+MarżaBAnku)} -> 0.04 | I19: =IF(Kredyt1[[#This Row],[Data]]="","",Kredyt1[[#This Row],[Cała rata]]-Kredyt1[[#This Row],[Kapitał]]) -> 1067.3072 | J19: {=IFERROR(-PPMT(Kredyt1[[#This Row],[Oprocentowanie]]/12,Kredyt1[[#This Row],[Miesiąc kredytu]],IlośćRat,KwotaKredytu),"")} -> 488.74175 | K19: {=IF(Kredyt1[[#This Row],[Miesiąc kredytu]]="","",-PMT(Kredyt1[[#This Row],[Oprocentowanie]]/12,IlośćRat,KwotaKredytu))} -> 1556.049 | L19: 0 | M19: =IFERROR(M18-J19-Kredyt1[[#This Row],[Nadpłata]],"") -> 319703.43
A20: Ubezpieczenie mieszkania % | B20: 0.001 | C20: Wpisz podstawę wyliczania opłaty za ubezpieczenie mieszkania. Zakładamy że mieszkanie będzie co roku ubezpiczane bez względu na to czy kredyt jest spłacany czy został spłacony. | D20: {=IF(ROW(15:15)<=IlośćRat,ROW(15:15),"")} -> 15 | E20: =IFERROR(ROUNDUP(Kredyt1[[#This Row],[Miesiąc kredytu]]/12,0),"") -> 2 | F20: =IFERROR(EDATE($B$6,D20-1),"") -> 44531 | G20: {=IF(Kredyt1[[#This Row],[Data]]="","",WIBOR3M)} -> 0.02 | H20: {=IF(Kredyt1[[#This Row],[Data]]="","",G20+MarżaBAnku)} -> 0.04 | I20: =IF(Kredyt1[[#This Row],[Data]]="","",Kredyt1[[#This Row],[Cała rata]]-Kredyt1[[#This Row],[Kapitał]]) -> 1065.6781 | J20: {=IFERROR(-PPMT(Kredyt1[[#This Row],[Oprocentowanie]]/12,Kredyt1[[#This Row],[Miesiąc kredytu]],IlośćRat,KwotaKredytu),"")} -> 490.37089 | K20: {=IF(Kredyt1[[#This Row],[Miesiąc kredytu]]="","",-PMT(Kredyt1[[#This Row],[Oprocentowanie]]/12,IlośćRat,KwotaKredytu))} -> 1556.049 | L20: 0 | M20: =IFERROR(M19-J20-Kredyt1[[#This Row],[Nadpłata]],"") -> 319213.06
A21: Ubezpieczenie mieszkania | B21: {=B20*WartośćWycena} -> 408 | D21: {=IF(ROW(16:16)<=IlośćRat,ROW(16:16),"")} -> 16 | E21: =IFERROR(ROUNDUP(Kredyt1[[#This Row],[Miesiąc kredytu]]/12,0),"") -> 2 | F21: =IFERROR(EDATE($B$6,D21-1),"") -> 44562 | G21: {=IF(Kredyt1[[#This Row],[Data]]="","",WIBOR3M)} -> 0.02 | H21: {=IF(Kredyt1[[#This Row],[Data]]="","",G21+MarżaBAnku)} -> 0.04 | I21: =IF(Kredyt1[[#This Row],[Data]]="","",Kredyt1[[#This Row],[Cała rata]]-Kredyt1[[#This Row],[Kapitał]]) -> 1064.0435 | J21: {=IFERROR(-PPMT(Kredyt1[[#This Row],[Oprocentowanie]]/12,Kredyt1[[#This Row],[Miesiąc kredytu]],IlośćRat,KwotaKredytu),"")} -> 492.00546 | K21: {=IF(Kredyt1[[#This Row],[Miesiąc kredytu]]="","",-PMT(Kredyt1[[#This Row],[Oprocentowanie]]/12,IlośćRat,KwotaKredytu))} -> 1556.049 | L21: 0 | M21: =IFERROR(M20-J21-Kredyt1[[#This Row],[Nadpłata]],"") -> 318721.05
D22: {=IF(ROW(17:17)<=IlośćRat,ROW(17:17),"")} -> 17 | E22: =IFERROR(ROUNDUP(Kredyt1[[#This Row],[Miesiąc kredytu]]/12,0),"") -> 2 | F22: =IFERROR(EDATE($B$6,D22-1),"") -> 44593 | G22: {=IF(Kredyt1[[#This Row],[Data]]="","",WIBOR3M)} -> 0.02 | H22: {=IF(Kredyt1[[#This Row],[Data]]="","",G22+MarżaBAnku)} -> 0.04 | I22: =IF(Kredyt1[[#This Row],[Data]]="","",Kredyt1[[#This Row],[Cała rata]]-Kredyt1[[#This Row],[Kapitał]]) -> 1062.4035 | J22: {=IFERROR(-PPMT(Kredyt1[[#This Row],[Oprocentowanie]]/12,Kredyt1[[#This Row],[Miesiąc kredytu]],IlośćRat,KwotaKredytu),"")} -> 493.64548 | K22: {=IF(Kredyt1[[#This Row],[Miesiąc kredytu]]="","",-PMT(Kredyt1[[#This Row],[Oprocentowanie]]/12,IlośćRat,KwotaKredytu))} -> 1556.049 | L22: 0 | M22: =IFERROR(M21-J22-Kredyt1[[#This Row],[Nadpłata]],"") -> 318227.41
A23: Suma kosztów początkowych Inwestycji | B23: {=SumaK+B11+UbezMiesz+B19+B16} -> 340300.91 | D23: {=IF(ROW(18:18)<=IlośćRat,ROW(18:18),"")} -> 18 | E23: =IFERROR(ROUNDUP(Kredyt1[[#This Row],[Miesiąc kredytu]]/12,0),"") -> 2 | F23: =IFERROR(EDATE($B$6,D23-1),"") -> 44621 | G23: {=IF(Kredyt1[[#This Row],[Data]]="","",WIBOR3M)} -> 0.02 | H23: {=IF(Kredyt1[[#This Row],[Data]]="","",G23+MarżaBAnku)} -> 0.04 | I23: =IF(Kredyt1[[#This Row],[Data]]="","",Kredyt1[[#This Row],[Cała rata]]-Kredyt1[[#This Row],[Kapitał]]) -> 1060.758 | J23: {=IFERROR(-PPMT(Kredyt1[[#This Row],[Oprocentowanie]]/12,Kredyt1[[#This Row],[Miesiąc kredytu]],IlośćRat,KwotaKredytu),"")} -> 495.29096 | K23: {=IF(Kredyt1[[#This Row],[Miesiąc kredytu]]="","",-PMT(Kredyt1[[#This Row],[Oprocentowanie]]/12,IlośćRat,KwotaKredytu))} -> 1556.049 | L23: 0 | M23: =IFERROR(M22-J23-Kredyt1[[#This Row],[Nadpłata]],"") -> 317732.12
A24: Wydana Gotówka | B24: =B23-B4 -> 13900.91 | D24: {=IF(ROW(19:19)<=IlośćRat,ROW(19:19),"")} -> 19 | E24: =IFERROR(ROUNDUP(Kredyt1[[#This Row],[Miesiąc kredytu]]/12,0),"") -> 2 | F24: =IFERROR(EDATE($B$6,D24-1),"") -> 44652 | G24: {=IF(Kredyt1[[#This Row],[Data]]="","",WIBOR3M)} -> 0.02 | H24: {=IF(Kredyt1[[#This Row],[Data]]="","",G24+MarżaBAnku)} -> 0.04 | I24: =IF(Kredyt1[[#This Row],[Data]]="","",Kredyt1[[#This Row],[Cała rata]]-Kredyt1[[#This Row],[Kapitał]]) -> 1059.1071 | J24: {=IFERROR(-PPMT(Kredyt1[[#This Row],[Oprocentowanie]]/12,Kredyt1[[#This Row],[Miesiąc kredytu]],IlośćRat,KwotaKredytu),"")} -> 496.94193 | K24: {=IF(Kredyt1[[#This Row],[Miesiąc kredytu]]="","",-PMT(Kredyt1[[#This Row],[Oprocentowanie]]/12,IlośćRat,KwotaKredytu))} -> 1556.049 | L24: 0 | M24: =IFERROR(M23-J24-Kredyt1[[#This Row],[Nadpłata]],"") -> 317235.17
A25: Koszty Kredytu | B25: {=B11+B16+B19+UbezMiesz} -> 7915.2 | D25: {=IF(ROW(20:20)<=IlośćRat,ROW(20:20),"")} -> 20 | E25: =IFERROR(ROUNDUP(Kredyt1[[#This Row],[Miesiąc kredytu]]/12,0),"") -> 2 | F25: =IFERROR(EDATE($B$6,D25-1),"") -> 44682 | G25: {=IF(Kredyt1[[#This Row],[Data]]="","",WIBOR3M)} -> 0.02 | H25: {=IF(Kredyt1[[#This Row],[Data]]="","",G25+MarżaBAnku)} -> 0.04 | I25: =IF(Kredyt1[[#This Row],[Data]]="","",Kredyt1[[#This Row],[Cała rata]]-Kredyt1[[#This Row],[Kapitał]]) -> 1057.4506 | J25: {=IFERROR(-PPMT(Kredyt1[[#This Row],[Oprocentowanie]]/12,Kredyt1[[#This Row],[Miesiąc kredytu]],IlośćRat,KwotaKredytu),"")} -> 498.59841 | K25: {=IF(Kredyt1[[#This Row],[Miesiąc kredytu]]="","",-PMT(Kredyt1[[#This Row],[Oprocentowanie]]/12,IlośćRat,KwotaKredytu))} -> 1556.049 | L25: 0 | M25: =IFERROR(M24-J25-Kredyt1[[#This Row],[Nadpłata]],"") -> 316736.58
A26: Koszty zakupu + koszty Kredytu | B26: =KosztyKredytu+WydatkiPozaCenąM -> 15736.86 | D26: {=IF(ROW(21:21)<=IlośćRat,ROW(21:21),"")} -> 21 | E26: =IFERROR(ROUNDUP(Kredyt1[[#This Row],[Miesiąc kredytu]]/12,0),"") -> 2 | F26: =IFERROR(EDATE($B$6,D26-1),"") -> 44713 | G26: {=IF(Kredyt1[[#This Row],[Data]]="","",WIBOR3M)} -> 0.02 | H26: {=IF(Kredyt1[[#This Row],[Data]]="","",G26+MarżaBAnku)} -> 0.04 | I26: =IF(Kredyt1[[#This Row],[Data]]="","",Kredyt1[[#This Row],[Cała rata]]-Kredyt1[[#This Row],[Kapitał]]) -> 1055.7886 | J26: {=IFERROR(-PPMT(Kredyt1[[#This Row],[Oprocentowanie]]/12,Kredyt1[[#This Row],[Miesiąc kredytu]],IlośćRat,KwotaKredytu),"")} -> 500.2604 | K26: {=IF(Kredyt1[[#This Row],[Miesiąc kredytu]]="","",-PMT(Kredyt1[[#This Row],[Oprocentowanie]]/12,IlośćRat,KwotaKredytu))} -> 1556.049 | L26: 0 | M26: =IFERROR(M25-J26-Kredyt1[[#This Row],[Nadpłata]],"") -> 316236.32
D27: {=IF(ROW(22:22)<=IlośćRat,ROW(22:22),"")} -> 22 | E27: =IFERROR(ROUNDUP(Kredyt1[[#This Row],[Miesiąc kredytu]]/12,0),"") -> 2 | F27: =IFERROR(EDATE($B$6,D27-1),"") -> 44743 | G27: {=IF(Kredyt1[[#This Row],[Data]]="","",WIBOR3M)} -> 0.02 | H27: {=IF(Kredyt1[[#This Row],[Data]]="","",G27+MarżaBAnku)} -> 0.04 | I27: =IF(Kredyt1[[#This Row],[Data]]="","",Kredyt1[[#This Row],[Cała rata]]-Kredyt1[[#This Row],[Kapitał]]) -> 1054.1211 | J27: {=IFERROR(-PPMT(Kredyt1[[#This Row],[Oprocentowanie]]/12,Kredyt1[[#This Row],[Miesiąc kredytu]],IlośćRat,KwotaKredytu),"")} -> 501.92794 | K27: {=IF(Kredyt1[[#This Row],[Miesiąc kredytu]]="","",-PMT(Kredyt1[[#This Row],[Oprocentowanie]]/12,IlośćRat,KwotaKredytu))} -> 1556.049 | L27: 0 | M27: =IFERROR(M26-J27-Kredyt1[[#This Row],[Nadpłata]],"") -> 315734.39
D28: {=IF(ROW(23:23)<=IlośćRat,ROW(23:23),"")} -> 23 | E28: =IFERROR(ROUNDUP(Kredyt1[[#This Row],[Miesiąc kredytu]]/12,0),"") -> 2 | F28: =IFERROR(EDATE($B$6,D28-1),"") -> 44774 | G28: {=IF(Kredyt1[[#This Row],[Data]]="","",WIBOR3M)} -> 0.02 | H28: {=IF(Kredyt1[[#This Row],[Data]]="","",G28+MarżaBAnku)} -> 0.04 | I28: =IF(Kredyt1[[#This Row],[Data]]="","",Kredyt1[[#This Row],[Cała rata]]-Kredyt1[[#This Row],[Kapitał]]) -> 1052.448 | J28: {=IFERROR(-PPMT(Kredyt1[[#This Row],[Oprocentowanie]]/12,Kredyt1[[#This Row],[Miesiąc kredytu]],IlośćRat,KwotaKredytu),"")} -> 503.60103 | K28: {=IF(Kredyt1[[#This Row],[Miesiąc kredytu]]="","",-PMT(Kredyt1[[#This Row],[Oprocentowanie]]/12,IlośćRat,KwotaKredytu))} -> 1556.049 | L28: 0 | M28: =IFERROR(M27-J28-Kredyt1[[#This Row],[Nadpłata]],"") -> 315230.79
D29: {=IF(ROW(24:24)<=IlośćRat,ROW(24:24),"")} -> 24 | E29: =IFERROR(ROUNDUP(Kredyt1[[#This Row],[Miesiąc kredytu]]/12,0),"") -> 2 | F29: =IFERROR(EDATE($B$6,D29-1),"") -> 44805 | G29: {=IF(Kredyt1[[#This Row],[Data]]="","",WIBOR3M)} -> 0.02 | H29: {=IF(Kredyt1[[#This Row],[Data]]="","",G29+MarżaBAnku)} -> 0.04 | I29: =IF(Kredyt1[[#This Row],[Data]]="","",Kredyt1[[#This Row],[Cała rata]]-Kredyt1[[#This Row],[Kapitał]]) -> 1050.7693 | J29: {=IFERROR(-PPMT(Kredyt1[[#This Row],[Oprocentowanie]]/12,Kredyt1[[#This Row],[Miesiąc kredytu]],IlośćRat,KwotaKredytu),"")} -> 505.2797 | K29: {=IF(Kredyt1[[#This Row],[Miesiąc kredytu]]="","",-PMT(Kredyt1[[#This Row],[Oprocentowanie]]/12,IlośćRat,KwotaKredytu))} -> 1556.049 | L29: 0 | M29: =IFERROR(M28-J29-Kredyt1[[#This Row],[Nadpłata]],"") -> 314725.51
D30: {=IF(ROW(25:25)<=IlośćRat,ROW(25:25),"")} -> 25 | E30: =IFERROR(ROUNDUP(Kredyt1[[#This Row],[Miesiąc kredytu]]/12,0),"") -> 3 | F30: =IFERROR(EDATE($B$6,D30-1),"") -> 44835 | G30: {=IF(Kredyt1[[#This Row],[Data]]="","",WIBOR3M)} -> 0.02 | H30: {=IF(Kredyt1[[#This Row],[Data]]="","",G30+MarżaBAnku)} -> 0.04 | I30: =IF(Kredyt1[[#This Row],[Data]]="","",Kredyt1[[#This Row],[Cała rata]]-Kredyt1[[#This Row],[Kapitał]]) -> 1049.085 | J30: {=IFERROR(-PPMT(Kredyt1[[#This Row],[Oprocentowanie]]/12,Kredyt1[[#This Row],[Miesiąc kredytu]],IlośćRat,KwotaKredytu),"")} -> 506.96396 | K30: {=IF(Kredyt1[[#This Row],[Miesiąc kredytu]]="","",-PMT(Kredyt1[[#This Row],[Oprocentowanie]]/12,IlośćRat,KwotaKredytu))} -> 1556.049 | L30: 0 | M30: =IFERROR(M29-J30-Kredyt1[[#This Row],[Nadpłata]],"") -> 314218.54
D31: {=IF(ROW(26:26)<=IlośćRat,ROW(26:26),"")} -> 26 | E31: =IFERROR(ROUNDUP(Kredyt1[[#This Row],[Miesiąc kredytu]]/12,0),"") -> 3 | F31: =IFERROR(EDATE($B$6,D31-1),"") -> 44866 | G31: {=IF(Kredyt1[[#This Row],[Data]]="","",WIBOR3M)} -> 0.02 | H31: {=IF(Kredyt1[[#This Row],[Data]]="","",G31+MarżaBAnku)} -> 0.04 | I31: =IF(Kredyt1[[#This Row],[Data]]="","",Kredyt1[[#This Row],[Cała rata]]-Kredyt1[[#This Row],[Kapitał]]) -> 1047.3951 | J31: {=IFERROR(-PPMT(Kredyt1[[#This Row],[Oprocentowanie]]/12,Kredyt1[[#This Row],[Miesiąc kredytu]],IlośćRat,KwotaKredytu),"")} -> 508.65384 | K31: {=IF(Kredyt1[[#This Row],[Miesiąc kredytu]]="","",-PMT(Kredyt1[[#This Row],[Oprocentowanie]]/12,IlośćRat,KwotaKredytu))} -> 1556.049 | L31: 0 | M31: =IFERROR(M30-J31-Kredyt1[[#This Row],[Nadpłata]],"") -> 313709.89
D32: {=IF(ROW(27:27)<=IlośćRat,ROW(27:27),"")} -> 27 | E32: =IFERROR(ROUNDUP(Kredyt1[[#This Row],[Miesiąc kredytu]]/12,0),"") -> 3 | F32: =IFERROR(EDATE($B$6,D32-1),"") -> 44896 | G32: {=IF(Kredyt1[[#This Row],[Data]]="","",WIBOR3M)} -> 0.02 | H32: {=IF(Kredyt1[[#This Row],[Data]]="","",G32+MarżaBAnku)} -> 0.04 | I32: =IF(Kredyt1[[#This Row],[Data]]="","",Kredyt1[[#This Row],[Cała rata]]-Kredyt1[[#This Row],[Kapitał]]) -> 1045.6996 | J32: {=IFERROR(-PPMT(Kredyt1[[#This Row],[Oprocentowanie]]/12,Kredyt1[[#This Row],[Miesiąc kredytu]],IlośćRat,KwotaKredytu),"")} -> 510.34936 | K32: {=IF(Kredyt1[[#This Row],[Miesiąc kredytu]]="","",-PMT(Kredyt1[[#This Row],[Oprocentowanie]]/12,IlośćRat,KwotaKredytu))} -> 1556.049 | L32: 0 | M32: =IFERROR(M31-J32-Kredyt1[[#This Row],[Nadpłata]],"") -> 313199.54
D33: {=IF(ROW(28:28)<=IlośćRat,ROW(28:28),"")} -> 28 | E33: =IFERROR(ROUNDUP(Kredyt1[[#This Row],[Miesiąc kredytu]]/12,0),"") -> 3 | F33: =IFERROR(EDATE($B$6,D33-1),"") -> 44927 | G33: {=IF(Kredyt1[[#This Row],[Data]]="","",WIBOR3M)} -> 0.02 | H33: {=IF(Kredyt1[[#This Row],[Data]]="","",G33+MarżaBAnku)} -> 0.04 | I33: =IF(Kredyt1[[#This Row],[Data]]="","",Kredyt1[[#This Row],[Cała rata]]-Kredyt1[[#This Row],[Kapitał]]) -> 1043.9985 | J33: {=IFERROR(-PPMT(Kredyt1[[#This Row],[Oprocentowanie]]/12,Kredyt1[[#This Row],[Miesiąc kredytu]],IlośćRat,KwotaKredytu),"")} -> 512.05052 | K33: {=IF(Kredyt1[[#This Row],[Miesiąc kredytu]]="","",-PMT(Kredyt1[[#This Row],[Oprocentowanie]]/12,IlośćRat,KwotaKredytu))} -> 1556.049 | L33: 0 | M33: =IFERROR(M32-J33-Kredyt1[[#This Row],[Nadpłata]],"") -> 312687.49
D34: {=IF(ROW(29:29)<=IlośćRat,ROW(29:29),"")} -> 29 | E34: =IFERROR(ROUNDUP(Kredyt1[[#This Row],[Miesiąc kredytu]]/12,0),"") -> 3 | F34: =IFERROR(EDATE($B$6,D34-1),"") -> 44958 | G34: {=IF(Kredyt1[[#This Row],[Data]]="","",WIBOR3M)} -> 0.02 | H34: {=IF(Kredyt1[[#This Row],[Data]]="","",G34+MarżaBAnku)} -> 0.04 | I34: =IF(Kredyt1[[#This Row],[Data]]="","",Kredyt1[[#This Row],[Cała rata]]-Kredyt1[[#This Row],[Kapitał]]) -> 1042.2916 | J34: {=IFERROR(-PPMT(Kredyt1[[#This Row],[Oprocentowanie]]/12,Kredyt1[[#This Row],[Miesiąc kredytu]],IlośćRat,KwotaKredytu),"")} -> 513.75736 | K34: {=IF(Kredyt1[[#This Row],[Miesiąc kredytu]]="","",-PMT(Kredyt1[[#This Row],[Oprocentowanie]]/12,IlośćRat,KwotaKredytu))} -> 1556.049 | L34: 0 | M34: =IFERROR(M33-J34-Kredyt1[[#This Row],[Nadpłata]],"") -> 312173.73
D35: {=IF(ROW(30:30)<=IlośćRat,ROW(30:30),"")} -> 30 | E35: =IFERROR(ROUNDUP(Kredyt1[[#This Row],[Miesiąc kredytu]]/12,0),"") -> 3 | F35: =IFERROR(EDATE($B$6,D35-1),"") -> 44986 | G35: {=IF(Kredyt1[[#This Row],[Data]]="","",WIBOR3M)} -> 0.02 | H35: {=IF(Kredyt1[[#This Row],[Data]]="","",G35+MarżaBAnku)} -> 0.04 | I35: =IF(Kredyt1[[#This Row],[Data]]="","",Kredyt1[[#This Row],[Cała rata]]-Kredyt1[[#This Row],[Kapitał]]) -> 1040.5791 | J35: {=IFERROR(-PPMT(Kredyt1[[#This Row],[Oprocentowanie]]/12,Kredyt1[[#This Row],[Miesiąc kredytu]],IlośćRat,KwotaKredytu),"")} -> 515.46988 | K35: {=IF(Kredyt1[[#This Row],[Miesiąc kredytu]]="","",-PMT(Kredyt1[[#This Row],[Oprocentowanie]]/12,IlośćRat,KwotaKredytu))} -> 1556.049 | L35: 0 | M35: =IFERROR(M34-J35-Kredyt1[[#This Row],[Nadpłata]],"") -> 311658.26
D36: {=IF(ROW(31:31)<=IlośćRat,ROW(31:31),"")} -> 31 | E36: =IFERROR(ROUNDUP(Kredyt1[[#This Row],[Miesiąc kredytu]]/12,0),"") -> 3 | F36: =IFERROR(EDATE($B$6,D36-1),"") -> 45017 | G36: {=IF(Kredyt1[[#This Row],[Data]]="","",WIBOR3M)} -> 0.02 | H36: {=IF(Kredyt1[[#This Row],[Data]]="","",G36+MarżaBAnku)} -> 0.04 | I36: =IF(Kredyt1[[#This Row],[Data]]="","",Kredyt1[[#This Row],[Cała rata]]-Kredyt1[[#This Row],[Kapitał]]) -> 1038.8609 | J36: {=IFERROR(-PPMT(Kredyt1[[#This Row],[Oprocentowanie]]/12,Kredyt1[[#This Row],[Miesiąc kredytu]],IlośćRat,KwotaKredytu),"")} -> 517.18811 | K36: {=IF(Kredyt1[[#This Row],[Miesiąc kredytu]]="","",-PMT(Kredyt1[[#This Row],[Oprocentowanie]]/12,IlośćRat,KwotaKredytu))} -> 1556.049 | L36: 0 | M36: =IFERROR(M35-J36-Kredyt1[[#This Row],[Nadpłata]],"") -> 311141.07
D37: {=IF(ROW(32:32)<=IlośćRat,ROW(32:32),"")} -> 32 | E37: =IFERROR(ROUNDUP(Kredyt1[[#This Row],[Miesiąc kredytu]]/12,0),"") -> 3 | F37: =IFERROR(EDATE($B$6,D37-1),"") -> 45047 | G37: {=IF(Kredyt1[[#This Row],[Data]]="","",WIBOR3M)} -> 0.02 | H37: {=IF(Kredyt1[[#This Row],[Data]]="","",G37+MarżaBAnku)} -> 0.04 | I37: =IF(Kredyt1[[#This Row],[Data]]="","",Kredyt1[[#This Row],[Cała rata]]-Kredyt1[[#This Row],[Kapitał]]) -> 1037.1369 | J37: {=IFERROR(-PPMT(Kredyt1[[#This Row],[Oprocentowanie]]/12,Kredyt1[[#This Row],[Miesiąc kredytu]],IlośćRat,KwotaKredytu),"")} -> 518.91207 | K37: {=IF(Kredyt1[[#This Row],[Miesiąc kredytu]]="","",-PMT(Kredyt1[[#This Row],[Oprocentowanie]]/12,IlośćRat,KwotaKredytu))} -> 1556.049 | L37: 0 | M37: =IFERROR(M36-J37-Kredyt1[[#This Row],[Nadpłata]],"") -> 310622.16
D38: {=IF(ROW(33:33)<=IlośćRat,ROW(33:33),"")} -> 33 | E38: =IFERROR(ROUNDUP(Kredyt1[[#This Row],[Miesiąc kredytu]]/12,0),"") -> 3 | F38: =IFERROR(EDATE($B$6,D38-1),"") -> 45078 | G38: {=IF(Kredyt1[[#This Row],[Data]]="","",WIBOR3M)} -> 0.02 | H38: {=IF(Kredyt1[[#This Row],[Data]]="","",G38+MarżaBAnku)} -> 0.04 | I38: =IF(Kredyt1[[#This Row],[Data]]="","",Kredyt1[[#This Row],[Cała rata]]-Kredyt1[[#This Row],[Kapitał]]) -> 1035.4072 | J38: {=IFERROR(-PPMT(Kredyt1[[#This Row],[Oprocentowanie]]/12,Kredyt1[[#This Row],[Miesiąc kredytu]],IlośćRat,KwotaKredytu),"")} -> 520.64178 | K38: {=IF(Kredyt1[[#This Row],[Miesiąc kredytu]]="","",-PMT(Kredyt1[[#This Row],[Oprocentowanie]]/12,IlośćRat,KwotaKredytu))} -> 1556.049 | L38: 0 | M38: =IFERROR(M37-J38-Kredyt1[[#This Row],[Nadpłata]],"") -> 310101.52
D39: {=IF(ROW(34:34)<=IlośćRat,ROW(34:34),"")} -> 34 | E39: =IFERROR(ROUNDUP(Kredyt1[[#This Row],[Miesiąc kredytu]]/12,0),"") -> 3 | F39: =IFERROR(EDATE($B$6,D39-1),"") -> 45108 | G39: {=IF(Kredyt1[[#This Row],[Data]]="","",WIBOR3M)} -> 0.02 | H39: {=IF(Kredyt1[[#This Row],[Data]]="","",G39+MarżaBAnku)} -> 0.04 | I39: =IF(Kredyt1[[#This Row],[Data]]="","",Kredyt1[[#This Row],[Cała rata]]-Kredyt1[[#This Row],[Kapitał]]) -> 1033.6717 | J39: {=IFERROR(-PPMT(Kredyt1[[#This Row],[Oprocentowanie]]/12,Kredyt1[[#This Row],[Miesiąc kredytu]],IlośćRat,KwotaKredytu),"")} -> 522.37725 | K39: {=IF(Kredyt1[[#This Row],[Miesiąc kredytu]]="","",-PMT(Kredyt1[[#This Row],[Oprocentowanie]]/12,IlośćRat,KwotaKredytu))} -> 1556.049 | L39: 0 | M39: =IFERROR(M38-J39-Kredyt1[[#This Row],[Nadpłata]],"") -> 309579.14
D40: {=IF(ROW(35:35)<=IlośćRat,ROW(35:35),"")} -> 35 | E40: =IFERROR(ROUNDUP(Kredyt1[[#This Row],[Miesiąc kredytu]]/12,0),"") -> 3 | F40: =IFERROR(EDATE($B$6,D40-1),"") -> 45139 | G40: {=IF(Kredyt1[[#This Row],[Data]]="","",WIBOR3M)} -> 0.02 | H40: {=IF(Kredyt1[[#This Row],[Data]]="","",G40+MarżaBAnku)} -> 0.04 | I40: =IF(Kredyt1[[#This Row],[Data]]="","",Kredyt1[[#This Row],[Cała rata]]-Kredyt1[[#This Row],[Kapitał]]) -> 1031.9305 | J40: {=IFERROR(-PPMT(Kredyt1[[#This Row],[Oprocentowanie]]/12,Kredyt1[[#This Row],[Miesiąc kredytu]],IlośćRat,KwotaKredytu),"")} -> 524.11851 | K40: {=IF(Kredyt1[[#This Row],[Miesiąc kredytu]]="","",-PMT(Kredyt1[[#This Row],[Oprocentowanie]]/12,IlośćRat,KwotaKredytu))} -> 1556.049 | L40: 0 | M40: =IFERROR(M39-J40-Kredyt1[[#This Row],[Nadpłata]],"") -> 309055.02
D41: {=IF(ROW(36:36)<=IlośćRat,ROW(36:36),"")} -> 36 | E41: =IFERROR(ROUNDUP(Kredyt1[[#This Row],[Miesiąc kredytu]]/12,0),"") -> 3 | F41: =IFERROR(EDATE($B$6,D41-1),"") -> 45170 | G41: {=IF(Kredyt1[[#This Row],[Data]]="","",WIBOR3M)} -> 0.02 | H41: {=IF(Kredyt1[[#This Row],[Data]]="","",G41+MarżaBAnku)} -> 0.04 | I41: =IF(Kredyt1[[#This Row],[Data]]="","",Kredyt1[[#This Row],[Cała rata]]-Kredyt1[[#This Row],[Kapitał]]) -> 1030.1834 | J41: {=IFERROR(-PPMT(Kredyt1[[#This Row],[Oprocentowanie]]/12,Kredyt1[[#This Row],[Miesiąc kredytu]],IlośćRat,KwotaKredytu),"")} -> 525.86557 | K41: {=IF(Kredyt1[[#This Row],[Miesiąc kredytu]]="","",-PMT(Kredyt1[[#This Row],[Oprocentowanie]]/12,IlośćRat,KwotaKredytu))} -> 1556.049 | L41: 0 | M41: =IFERROR(M40-J41-Kredyt1[[#This Row],[Nadpłata]],"") -> 308529.16
D42: {=IF(ROW(37:37)<=IlośćRat,ROW(37:37),"")} -> 37 | E42: =IFERROR(ROUNDUP(Kredyt1[[#This Row],[Miesiąc kredytu]]/12,0),"") -> 4 | F42: =IFERROR(EDATE($B$6,D42-1),"") -> 45200 | G42: {=IF(Kredyt1[[#This Row],[Data]]="","",WIBOR3M)} -> 0.02 | H42: {=IF(Kredyt1[[#This Row],[Data]]="","",G42+MarżaBAnku)} -> 0.04 | I42: =IF(Kredyt1[[#This Row],[Data]]="","",Kredyt1[[#This Row],[Cała rata]]-Kredyt1[[#This Row],[Kapitał]]) -> 1028.4305 | J42: {=IFERROR(-PPMT(Kredyt1[[#This Row],[Oprocentowanie]]/12,Kredyt1[[#This Row],[Miesiąc kredytu]],IlośćRat,KwotaKredytu),"")} -> 527.61846 | K42: {=IF(Kredyt1[[#This Row],[Miesiąc kredytu]]="","",-PMT(Kredyt1[[#This Row],[Oprocentowanie]]/12,IlośćRat,KwotaKredytu))} -> 1556.049 | L42: 0 | M42: =IFERROR(M41-J42-Kredyt1[[#This Row],[Nadpłata]],"") -> 308001.54
D43: {=IF(ROW(38:38)<=IlośćRat,ROW(38:38),"")} -> 38 | E43: =IFERROR(ROUNDUP(Kredyt1[[#This Row],[Miesiąc kredytu]]/12,0),"") -> 4 | F43: =IFERROR(EDATE($B$6,D43-1),"") -> 45231 | G43: {=IF(Kredyt1[[#This Row],[Data]]="","",WIBOR3M)} -> 0.02 | H43: {=IF(Kredyt1[[#This Row],[Data]]="","",G43+MarżaBAnku)} -> 0.04 | I43: =IF(Kredyt1[[#This Row],[Data]]="","",Kredyt1[[#This Row],[Cała rata]]-Kredyt1[[#This Row],[Kapitał]]) -> 1026.6718 | J43: {=IFERROR(-PPMT(Kredyt1[[#This Row],[Oprocentowanie]]/12,Kredyt1[[#This Row],[Miesiąc kredytu]],IlośćRat,KwotaKredytu),"")} -> 529.37719 | K43: {=IF(Kredyt1[[#This Row],[Miesiąc kredytu]]="","",-PMT(Kredyt1[[#This Row],[Oprocentowanie]]/12,IlośćRat,KwotaKredytu))} -> 1556.049 | L43: 0 | M43: =IFERROR(M42-J43-Kredyt1[[#This Row],[Nadpłata]],"") -> 307472.16
D44: {=IF(ROW(39:39)<=IlośćRat,ROW(39:39),"")} -> 39 | E44: =IFERROR(ROUNDUP(Kredyt1[[#This Row],[Miesiąc kredytu]]/12,0),"") -> 4 | F44: =IFERROR(EDATE($B$6,D44-1),"") -> 45261 | G44: {=IF(Kredyt1[[#This Row],[Data]]="","",WIBOR3M)} -> 0.02 | H44: {=IF(Kredyt1[[#This Row],[Data]]="","",G44+MarżaBAnku)} -> 0.04 | I44: =IF(Kredyt1[[#This Row],[Data]]="","",Kredyt1[[#This Row],[Cała rata]]-Kredyt1[[#This Row],[Kapitał]]) -> 1024.9072 | J44: {=IFERROR(-PPMT(Kredyt1[[#This Row],[Oprocentowanie]]/12,Kredyt1[[#This Row],[Miesiąc kredytu]],IlośćRat,KwotaKredytu),"")} -> 531.14178 | K44: {=IF(Kredyt1[[#This Row],[Miesiąc kredytu]]="","",-PMT(Kredyt1[[#This Row],[Oprocentowanie]]/12,IlośćRat,KwotaKredytu))} -> 1556.049 | L44: 0 | M44: =IFERROR(M43-J44-Kredyt1[[#This Row],[Nadpłata]],"") -> 306941.02
D45: {=IF(ROW(40:40)<=IlośćRat,ROW(40:40),"")} -> 40 | E45: =IFERROR(ROUNDUP(Kredyt1[[#This Row],[Miesiąc kredytu]]/12,0),"") -> 4 | F45: =IFERROR(EDATE($B$6,D45-1),"") -> 45292 | G45: {=IF(Kredyt1[[#This Row],[Data]]="","",WIBOR3M)} -> 0.02 | H45: {=IF(Kredyt1[[#This Row],[Data]]="","",G45+MarżaBAnku)} -> 0.04 | I45: =IF(Kredyt1[[#This Row],[Data]]="","",Kredyt1[[#This Row],[Cała rata]]-Kredyt1[[#This Row],[Kapitał]]) -> 1023.1367 | J45: {=IFERROR(-PPMT(Kredyt1[[#This Row],[Oprocentowanie]]/12,Kredyt1[[#This Row],[Miesiąc kredytu]],IlośćRat,KwotaKredytu),"")} -> 532.91225 | K45: {=IF(Kredyt1[[#This Row],[Miesiąc kredytu]]="","",-PMT(Kredyt1[[#This Row],[Oprocentowanie]]/12,IlośćRat,KwotaKredytu))} -> 1556.049 | L45: 0 | M45: =IFERROR(M44-J45-Kredyt1[[#This Row],[Nadpłata]],"") -> 306408.11
D46: {=IF(ROW(41:41)<=IlośćRat,ROW(41:41),"")} -> 41 | E46: =IFERROR(ROUNDUP(Kredyt1[[#This Row],[Miesiąc kredytu]]/12,0),"") -> 4 | F46: =IFERROR(EDATE($B$6,D46-1),"") -> 45323 | G46: {=IF(Kredyt1[[#This Row],[Data]]="","",WIBOR3M)} -> 0.02 | H46: {=IF(Kredyt1[[#This Row],[Data]]="","",G46+MarżaBAnku)} -> 0.04 | I46: =IF(Kredyt1[[#This Row],[Data]]="","",Kredyt1[[#This Row],[Cała rata]]-Kredyt1[[#This Row],[Kapitał]]) -> 1021.3604 | J46: {=IFERROR(-PPMT(Kredyt1[[#This Row],[Oprocentowanie]]/12,Kredyt1[[#This Row],[Miesiąc kredytu]],IlośćRat,KwotaKredytu),"")} -> 534.68862 | K46: {=IF(Kredyt1[[#This Row],[Miesiąc kredytu]]="","",-PMT(Kredyt1[[#This Row],[Oprocentowanie]]/12,IlośćRat,KwotaKredytu))} -> 1556.049 | L46: 0 | M46: =IFERROR(M45-J46-Kredyt1[[#This Row],[Nadpłata]],"") -> 305873.42
D47: {=IF(ROW(42:42)<=IlośćRat,ROW(42:42),"")} -> 42 | E47: =IFERROR(ROUNDUP(Kredyt1[[#This Row],[Miesiąc kredytu]]/12,0),"") -> 4 | F47: =IFERROR(EDATE($B$6,D47-1),"") -> 45352 | G47: {=IF(Kredyt1[[#This Row],[Data]]="","",WIBOR3M)} -> 0.02 | H47: {=IF(Kredyt1[[#This Row],[Data]]="","",G47+MarżaBAnku)} -> 0.04 | I47: =IF(Kredyt1[[#This Row],[Data]]="","",Kredyt1[[#This Row],[Cała rata]]-Kredyt1[[#This Row],[Kapitał]]) -> 1019.5781 | J47: {=IFERROR(-PPMT(Kredyt1[[#This Row],[Oprocentowanie]]/12,Kredyt1[[#This Row],[Miesiąc kredytu]],IlośćRat,KwotaKredytu),"")} -> 536.47092 | K47: {=IF(Kredyt1[[#This Row],[Miesiąc kredytu]]="","",-PMT(Kredyt1[[#This Row],[Oprocentowanie]]/12,IlośćRat,KwotaKredytu))} -> 1556.049 | L47: 0 | M47: =IFERROR(M46-J47-Kredyt1[[#This Row],[Nadpłata]],"") -> 305336.95
D48: {=IF(ROW(43:43)<=IlośćRat,ROW(43:43),"")} -> 43 | E48: =IFERROR(ROUNDUP(Kredyt1[[#This Row],[Miesiąc kredytu]]/12,0),"") -> 4 | F48: =IFERROR(EDATE($B$6,D48-1),"") -> 45383 | G48: {=IF(Kredyt1[[#This Row],[Data]]="","",WIBOR3M)} -> 0.02 | H48: {=IF(Kredyt1[[#This Row],[Data]]="","",G48+MarżaBAnku)} -> 0.04 | I48: =IF(Kredyt1[[#This Row],[Data]]="","",Kredyt1[[#This Row],[Cała rata]]-Kredyt1[[#This Row],[Kapitał]]) -> 1017.7898 | J48: {=IFERROR(-PPMT(Kredyt1[[#This Row],[Oprocentowanie]]/12,Kredyt1[[#This Row],[Miesiąc kredytu]],IlośćRat,KwotaKredytu),"")} -> 538.25916 | K48: {=IF(Kredyt1[[#This Row],[Miesiąc kredytu]]="","",-PMT(Kredyt1[[#This Row],[Oprocentowanie]]/12,IlośćRat,KwotaKredytu))} -> 1556.049 | L48: 0 | M48: =IFERROR(M47-J48-Kredyt1[[#This Row],[Nadpłata]],"") -> 304798.69
D49: {=IF(ROW(44:44)<=IlośćRat,ROW(44:44),"")} -> 44 | E49: =IFERROR(ROUNDUP(Kredyt1[[#This Row],[Miesiąc kredytu]]/12,0),"") -> 4 | F49: =IFERROR(EDATE($B$6,D49-1),"") -> 45413 | G49: {=IF(Kredyt1[[#This Row],[Data]]="","",WIBOR3M)} -> 0.02 | H49: {=IF(Kredyt1[[#This Row],[Data]]="","",G49+MarżaBAnku)} -> 0.04 | I49: =IF(Kredyt1[[#This Row],[Data]]="","",Kredyt1[[#This Row],[Cała rata]]-Kredyt1[[#This Row],[Kapitał]]) -> 1015.9956 | J49: {=IFERROR(-PPMT(Kredyt1[[#This Row],[Oprocentowanie]]/12,Kredyt1[[#This Row],[Miesiąc kredytu]],IlośćRat,KwotaKredytu),"")} -> 540.05335 | K49: {=IF(Kredyt1[[#This Row],[Miesiąc kredytu]]="","",-PMT(Kredyt1[[#This Row],[Oprocentowanie]]/12,IlośćRat,KwotaKredytu))} -> 1556.049 | L49: 0 | M49: =IFERROR(M48-J49-Kredyt1[[#This Row],[Nadpłata]],"") -> 304258.64
D50: {=IF(ROW(45:45)<=IlośćRat,ROW(45:45),"")} -> 45 | E50: =IFERROR(ROUNDUP(Kredyt1[[#This Row],[Miesiąc kredytu]]/12,0),"") -> 4 | F50: =IFERROR(EDATE($B$6,D50-1),"") -> 45444 | G50: {=IF(Kredyt1[[#This Row],[Data]]="","",WIBOR3M)} -> 0.02 | H50: {=IF(Kredyt1[[#This Row],[Data]]="","",G50+MarżaBAnku)} -> 0.04 | I50: =IF(Kredyt1[[#This Row],[Data]]="","",Kredyt1[[#This Row],[Cała rata]]-Kredyt1[[#This Row],[Kapitał]]) -> 1014.1955 | J50: {=IFERROR(-PPMT(Kredyt1[[#This Row],[Oprocentowanie]]/12,Kredyt1[[#This Row],[Miesiąc kredytu]],IlośćRat,KwotaKredytu),"")} -> 541.85353 | K50: {=IF(Kredyt1[[#This Row],[Miesiąc kredytu]]="","",-PMT(Kredyt1[[#This Row],[Oprocentowanie]]/12,IlośćRat,KwotaKredytu))} -> 1556.049 | L50: 0 | M50: =IFERROR(M49-J50-Kredyt1[[#This Row],[Nadpłata]],"") -> 303716.78 | AQ50: {=IFERROR(INDEX(Kredyt!$M:$M,11+Kredyt!D486AP32*12) * UbezŻyć,"")}
D51: {=IF(ROW(46:46)<=IlośćRat,ROW(46:46),"")} -> 46 | E51: =IFERROR(ROUNDUP(Kredyt1[[#This Row],[Miesiąc kredytu]]/12,0),"") -> 4 | F51: =IFERROR(EDATE($B$6,D51-1),"") -> 45474 | G51: {=IF(Kredyt1[[#This Row],[Data]]="","",WIBOR3M)} -> 0.02 | H51: {=IF(Kredyt1[[#This Row],[Data]]="","",G51+MarżaBAnku)} -> 0.04 | I51: =IF(Kredyt1[[#This Row],[Data]]="","",Kredyt1[[#This Row],[Cała rata]]-Kredyt1[[#This Row],[Kapitał]]) -> 1012.3893 | J51: {=IFERROR(-PPMT(Kredyt1[[#This Row],[Oprocentowanie]]/12,Kredyt1[[#This Row],[Miesiąc kredytu]],IlośćRat,KwotaKredytu),"")} -> 543.65971 | K51: {=IF(Kredyt1[[#This Row],[Miesiąc kredytu]]="","",-PMT(Kredyt1[[#This Row],[Oprocentowanie]]/12,IlośćRat,KwotaKredytu))} -> 1556.049 | L51: 0 | M51: =IFERROR(M50-J51-Kredyt1[[#This Row],[Nadpłata]],"") -> 303173.12
D52: {=IF(ROW(47:47)<=IlośćRat,ROW(47:47),"")} -> 47 | E52: =IFERROR(ROUNDUP(Kredyt1[[#This Row],[Miesiąc kredytu]]/12,0),"") -> 4 | F52: =IFERROR(EDATE($B$6,D52-1),"") -> 45505 | G52: {=IF(Kredyt1[[#This Row],[Data]]="","",WIBOR3M)} -> 0.02 | H52: {=IF(Kredyt1[[#This Row],[Data]]="","",G52+MarżaBAnku)} -> 0.04 | I52: =IF(Kredyt1[[#This Row],[Data]]="","",Kredyt1[[#This Row],[Cała rata]]-Kredyt1[[#This Row],[Kapitał]]) -> 1010.5771 | J52: {=IFERROR(-PPMT(Kredyt1[[#This Row],[Oprocentowanie]]/12,Kredyt1[[#This Row],[Miesiąc kredytu]],IlośćRat,KwotaKredytu),"")} -> 545.47191 | K52: {=IF(Kredyt1[[#This Row],[Miesiąc kredytu]]="","",-PMT(Kredyt1[[#This Row],[Oprocentowanie]]/12,IlośćRat,KwotaKredytu))} -> 1556.049 | L52: 0 | M52: =IFERROR(M51-J52-Kredyt1[[#This Row],[Nadpłata]],"") -> 302627.65
D53: {=IF(ROW(48:48)<=IlośćRat,ROW(48:48),"")} -> 48 | E53: =IFERROR(ROUNDUP(Kredyt1[[#This Row],[Miesiąc kredytu]]/12,0),"") -> 4 | F53: =IFERROR(EDATE($B$6,D53-1),"") -> 45536 | G53: {=IF(Kredyt1[[#This Row],[Data]]="","",WIBOR3M)} -> 0.02 | H53: {=IF(Kredyt1[[#This Row],[Data]]="","",G53+MarżaBAnku)} -> 0.04 | I53: =IF(Kredyt1[[#This Row],[Data]]="","",Kredyt1[[#This Row],[Cała rata]]-Kredyt1[[#This Row],[Kapitał]]) -> 1008.7588 | J53: {=IFERROR(-PPMT(Kredyt1[[#This Row],[Oprocentowanie]]/12,Kredyt1[[#This Row],[Miesiąc kredytu]],IlośćRat,KwotaKredytu),"")} -> 547.29015 | K53: {=IF(Kredyt1[[#This Row],[Miesiąc kredytu]]="","",-PMT(Kredyt1[[#This Row],[Oprocentowanie]]/12,IlośćRat,KwotaKredytu))} -> 1556.049 | L53: 0 | M53: =IFERROR(M52-J53-Kredyt1[[#This Row],[Nadpłata]],"") -> 302080.36
D54: {=IF(ROW(49:49)<=IlośćRat,ROW(49:49),"")} -> 49 | E54: =IFERROR(ROUNDUP(Kredyt1[[#This Row],[Miesiąc kredytu]]/12,0),"") -> 5 | F54: =IFERROR(EDATE($B$6,D54-1),"") -> 45566 | G54: {=IF(Kredyt1[[#This Row],[Data]]="","",WIBOR3M)} -> 0.02 | H54: {=IF(Kredyt1[[#This Row],[Data]]="","",G54+MarżaBAnku)} -> 0.04 | I54: =IF(Kredyt1[[#This Row],[Data]]="","",Kredyt1[[#This Row],[Cała rata]]-Kredyt1[[#This Row],[Kapitał]]) -> 1006.9345 | J54: {=IFERROR(-PPMT(Kredyt1[[#This Row],[Oprocentowanie]]/12,Kredyt1[[#This Row],[Miesiąc kredytu]],IlośćRat,KwotaKredytu),"")} -> 549.11445 | K54: {=IF(Kredyt1[[#This Row],[Miesiąc kredytu]]="","",-PMT(Kredyt1[[#This Row],[Oprocentowanie]]/12,IlośćRat,KwotaKredytu))} -> 1556.049 | L54: 0 | M54: =IFERROR(M53-J54-Kredyt1[[#This Row],[Nadpłata]],"") -> 301531.25
D55: {=IF(ROW(50:50)<=IlośćRat,ROW(50:50),"")} -> 50 | E55: =IFERROR(ROUNDUP(Kredyt1[[#This Row],[Miesiąc kredytu]]/12,0),"") -> 5 | F55: =IFERROR(EDATE($B$6,D55-1),"") -> 45597 | G55: {=IF(Kredyt1[[#This Row],[Data]]="","",WIBOR3M)} -> 0.02 | H55: {=IF(Kredyt1[[#This Row],[Data]]="","",G55+MarżaBAnku)} -> 0.04 | I55: =IF(Kredyt1[[#This Row],[Data]]="","",Kredyt1[[#This Row],[Cała rata]]-Kredyt1[[#This Row],[Kapitał]]) -> 1005.1042 | J55: {=IFERROR(-PPMT(Kredyt1[[#This Row],[Oprocentowanie]]/12,Kredyt1[[#This Row],[Miesiąc kredytu]],IlośćRat,KwotaKredytu),"")} -> 550.94483 | K55: {=IF(Kredyt1[[#This Row],[Miesiąc kredytu]]="","",-PMT(Kredyt1[[#This Row],[Oprocentowanie]]/12,IlośćRat,KwotaKredytu))} -> 1556.049 | L55: 0 | M55: =IFERROR(M54-J55-Kredyt1[[#This Row],[Nadpłata]],"") -> 300980.3
D56: {=IF(ROW(51:51)<=IlośćRat,ROW(51:51),"")} -> 51 | E56: =IFERROR(ROUNDUP(Kredyt1[[#This Row],[Miesiąc kredytu]]/12,0),"") -> 5 | F56: =IFERROR(EDATE($B$6,D56-1),"") -> 45627 | G56: {=IF(Kredyt1[[#This Row],[Data]]="","",WIBOR3M)} -> 0.02 | H56: {=IF(Kredyt1[[#This Row],[Data]]="","",G56+MarżaBAnku)} -> 0.04 | I56: =IF(Kredyt1[[#This Row],[Data]]="","",Kredyt1[[#This Row],[Cała rata]]-Kredyt1[[#This Row],[Kapitał]]) -> 1003.2677 | J56: {=IFERROR(-PPMT(Kredyt1[[#This Row],[Oprocentowanie]]/12,Kredyt1[[#This Row],[Miesiąc kredytu]],IlośćRat,KwotaKredytu),"")} -> 552.78131 | K56: {=IF(Kredyt1[[#This Row],[Miesiąc kredytu]]="","",-PMT(Kredyt1[[#This Row],[Oprocentowanie]]/12,IlośćRat,KwotaKredytu))} -> 1556.049 | L56: 0 | M56: =IFERROR(M55-J56-Kredyt1[[#This Row],[Nadpłata]],"") -> 300427.52
D57: {=IF(ROW(52:52)<=IlośćRat,ROW(52:52),"")} -> 52 | E57: =IFERROR(ROUNDUP(Kredyt1[[#This Row],[Miesiąc kredytu]]/12,0),"") -> 5 | F57: =IFERROR(EDATE($B$6,D57-1),"") -> 45658 | G57: {=IF(Kredyt1[[#This Row],[Data]]="","",WIBOR3M)} -> 0.02 | H57: {=IF(Kredyt1[[#This Row],[Data]]="","",G57+MarżaBAnku)} -> 0.04 | I57: =IF(Kredyt1[[#This Row],[Data]]="","",Kredyt1[[#This Row],[Cała rata]]-Kredyt1[[#This Row],[Kapitał]]) -> 1001.4251 | J57: {=IFERROR(-PPMT(Kredyt1[[#This Row],[Oprocentowanie]]/12,Kredyt1[[#This Row],[Miesiąc kredytu]],IlośćRat,KwotaKredytu),"")} -> 554.62392 | K57: {=IF(Kredyt1[[#This Row],[Miesiąc kredytu]]="","",-PMT(Kredyt1[[#This Row],[Oprocentowanie]]/12,IlośćRat,KwotaKredytu))} -> 1556.049 | L57: 0 | M57: =IFERROR(M56-J57-Kredyt1[[#This Row],[Nadpłata]],"") -> 299872.9
D58: {=IF(ROW(53:53)<=IlośćRat,ROW(53:53),"")} -> 53 | E58: =IFERROR(ROUNDUP(Kredyt1[[#This Row],[Miesiąc kredytu]]/12,0),"") -> 5 | F58: =IFERROR(EDATE($B$6,D58-1),"") -> 45689 | G58: {=IF(Kredyt1[[#This Row],[Data]]="","",WIBOR3M)} -> 0.02 | H58: {=IF(Kredyt1[[#This Row],[Data]]="","",G58+MarżaBAnku)} -> 0.04 | I58: =IF(Kredyt1[[#This Row],[Data]]="","",Kredyt1[[#This Row],[Cała rata]]-Kredyt1[[#This Row],[Kapitał]]) -> 999.57632 | J58: {=IFERROR(-PPMT(Kredyt1[[#This Row],[Oprocentowanie]]/12,Kredyt1[[#This Row],[Miesiąc kredytu]],IlośćRat,KwotaKredytu),"")} -> 556.47266 | K58: {=IF(Kredyt1[[#This Row],[Miesiąc kredytu]]="","",-PMT(Kredyt1[[#This Row],[Oprocentowanie]]/12,IlośćRat,KwotaKredytu))} -> 1556.049 | L58: 0 | M58: =IFERROR(M57-J58-Kredyt1[[#This Row],[Nadpłata]],"") -> 299316.42
D59: {=IF(ROW(54:54)<=IlośćRat,ROW(54:54),"")} -> 54 | E59: =IFERROR(ROUNDUP(Kredyt1[[#This Row],[Miesiąc kredytu]]/12,0),"") -> 5 | F59: =IFERROR(EDATE($B$6,D59-1),"") -> 45717 | G59: {=IF(Kredyt1[[#This Row],[Data]]="","",WIBOR3M)} -> 0.02 | H59: {=IF(Kredyt1[[#This Row],[Data]]="","",G59+MarżaBAnku)} -> 0.04 | I59: =IF(Kredyt1[[#This Row],[Data]]="","",Kredyt1[[#This Row],[Cała rata]]-Kredyt1[[#This Row],[Kapitał]]) -> 997.72141 | J59: {=IFERROR(-PPMT(Kredyt1[[#This Row],[Oprocentowanie]]/12,Kredyt1[[#This Row],[Miesiąc kredytu]],IlośćRat,KwotaKredytu),"")} -> 558.32757 | K59: {=IF(Kredyt1[[#This Row],[Miesiąc kredytu]]="","",-PMT(Kredyt1[[#This Row],[Oprocentowanie]]/12,IlośćRat,KwotaKredytu))} -> 1556.049 | L59: 0 | M59: =IFERROR(M58-J59-Kredyt1[[#This Row],[Nadpłata]],"") -> 298758.1
D60: {=IF(ROW(55:55)<=IlośćRat,ROW(55:55),"")} -> 55 | E60: =IFERROR(ROUNDUP(Kredyt1[[#This Row],[Miesiąc kredytu]]/12,0),"") -> 5 | F60: =IFERROR(EDATE($B$6,D60-1),"") -> 45748 | G60: {=IF(Kredyt1[[#This Row],[Data]]="","",WIBOR3M)} -> 0.02 | H60: {=IF(Kredyt1[[#This Row],[Data]]="","",G60+MarżaBAnku)} -> 0.04 | I60: =IF(Kredyt1[[#This Row],[Data]]="","",Kredyt1[[#This Row],[Cała rata]]-Kredyt1[[#This Row],[Kapitał]]) -> 995.86032 | J60: {=IFERROR(-PPMT(Kredyt1[[#This Row],[Oprocentowanie]]/12,Kredyt1[[#This Row],[Miesiąc kredytu]],IlośćRat,KwotaKredytu),"")} -> 560.18866 | K60: {=IF(Kredyt1[[#This Row],[Miesiąc kredytu]]="","",-PMT(Kredyt1[[#This Row],[Oprocentowanie]]/12,IlośćRat,KwotaKredytu))} -> 1556.049 | L60: 0 | M60: =IFERROR(M59-J60-Kredyt1[[#This Row],[Nadpłata]],"") -> 298197.91
D61: {=IF(ROW(56:56)<=IlośćRat,ROW(56:56),"")} -> 56 | E61: =IFERROR(ROUNDUP(Kredyt1[[#This Row],[Miesiąc kredytu]]/12,0),"") -> 5 | F61: =IFERROR(EDATE($B$6,D61-1),"") -> 45778 | G61: {=IF(Kredyt1[[#This Row],[Data]]="","",WIBOR3M)} -> 0.02 | H61: {=IF(Kredyt1[[#This Row],[Data]]="","",G61+MarżaBAnku)} -> 0.04 | I61: =IF(Kredyt1[[#This Row],[Data]]="","",Kredyt1[[#This Row],[Cała rata]]-Kredyt1[[#This Row],[Kapitał]]) -> 993.99303 | J61: {=IFERROR(-PPMT(Kredyt1[[#This Row],[Oprocentowanie]]/12,Kredyt1[[#This Row],[Miesiąc kredytu]],IlośćRat,KwotaKredytu),"")} -> 562.05596 | K61: {=IF(Kredyt1[[#This Row],[Miesiąc kredytu]]="","",-PMT(Kredyt1[[#This Row],[Oprocentowanie]]/12,IlośćRat,KwotaKredytu))} -> 1556.049 | L61: 0 | M61: =IFERROR(M60-J61-Kredyt1[[#This Row],[Nadpłata]],"") -> 297635.85
D62: {=IF(ROW(57:57)<=IlośćRat,ROW(57:57),"")} -> 57 | E62: =IFERROR(ROUNDUP(Kredyt1[[#This Row],[Miesiąc kredytu]]/12,0),"") -> 5 | F62: =IFERROR(EDATE($B$6,D62-1),"") -> 45809 | G62: {=IF(Kredyt1[[#This Row],[Data]]="","",WIBOR3M)} -> 0.02 | H62: {=IF(Kredyt1[[#This Row],[Data]]="","",G62+MarżaBAnku)} -> 0.04 | I62: =IF(Kredyt1[[#This Row],[Data]]="","",Kredyt1[[#This Row],[Cała rata]]-Kredyt1[[#This Row],[Kapitał]]) -> 992.11951 | J62: {=IFERROR(-PPMT(Kredyt1[[#This Row],[Oprocentowanie]]/12,Kredyt1[[#This Row],[Miesiąc kredytu]],IlośćRat,KwotaKredytu),"")} -> 563.92948 | K62: {=IF(Kredyt1[[#This Row],[Miesiąc kredytu]]="","",-PMT(Kredyt1[[#This Row],[Oprocentowanie]]/12,IlośćRat,KwotaKredytu))} -> 1556.049 | L62: 0 | M62: =IFERROR(M61-J62-Kredyt1[[#This Row],[Nadpłata]],"") -> 297071.92
D63: {=IF(ROW(58:58)<=IlośćRat,ROW(58:58),"")} -> 58 | E63: =IFERROR(ROUNDUP(Kredyt1[[#This Row],[Miesiąc kredytu]]/12,0),"") -> 5 | F63: =IFERROR(EDATE($B$6,D63-1),"") -> 45839 | G63: {=IF(Kredyt1[[#This Row],[Data]]="","",WIBOR3M)} -> 0.02 | H63: {=IF(Kredyt1[[#This Row],[Data]]="","",G63+MarżaBAnku)} -> 0.04 | I63: =IF(Kredyt1[[#This Row],[Data]]="","",Kredyt1[[#This Row],[Cała rata]]-Kredyt1[[#This Row],[Kapitał]]) -> 990.23974 | J63: {=IFERROR(-PPMT(Kredyt1[[#This Row],[Oprocentowanie]]/12,Kredyt1[[#This Row],[Miesiąc kredytu]],IlośćRat,KwotaKredytu),"")} -> 565.80925 | K63: {=IF(Kredyt1[[#This Row],[Miesiąc kredytu]]="","",-PMT(Kredyt1[[#This Row],[Oprocentowanie]]/12,IlośćRat,KwotaKredytu))} -> 1556.049 | L63: 0 | M63: =IFERROR(M62-J63-Kredyt1[[#This Row],[Nadpłata]],"") -> 296506.11
D64: {=IF(ROW(59:59)<=IlośćRat,ROW(59:59),"")} -> 59 | E64: =IFERROR(ROUNDUP(Kredyt1[[#This Row],[Miesiąc kredytu]]/12,0),"") -> 5 | F64: =IFERROR(EDATE($B$6,D64-1),"") -> 45870 | G64: {=IF(Kredyt1[[#This Row],[Data]]="","",WIBOR3M)} -> 0.02 | H64: {=IF(Kredyt1[[#This Row],[Data]]="","",G64+MarżaBAnku)} -> 0.04 | I64: =IF(Kredyt1[[#This Row],[Data]]="","",Kredyt1[[#This Row],[Cała rata]]-Kredyt1[[#This Row],[Kapitał]]) -> 988.35371 | J64: {=IFERROR(-PPMT(Kredyt1[[#This Row],[Oprocentowanie]]/12,Kredyt1[[#This Row],[Miesiąc kredytu]],IlośćRat,KwotaKredytu),"")} -> 567.69528 | K64: {=IF(Kredyt1[[#This Row],[Miesiąc kredytu]]="","",-PMT(Kredyt1[[#This Row],[Oprocentowanie]]/12,IlośćRat,KwotaKredytu))} -> 1556.049 | L64: 0 | M64: =IFERROR(M63-J64-Kredyt1[[#This Row],[Nadpłata]],"") -> 295938.42
D65: {=IF(ROW(60:60)<=IlośćRat,ROW(60:60),"")} -> 60 | E65: =IFERROR(ROUNDUP(Kredyt1[[#This Row],[Miesiąc kredytu]]/12,0),"") -> 5 | F65: =IFERROR(EDATE($B$6,D65-1),"") -> 45901 | G65: {=IF(Kredyt1[[#This Row],[Data]]="","",WIBOR3M)} -> 0.02 | H65: {=IF(Kredyt1[[#This Row],[Data]]="","",G65+MarżaBAnku)} -> 0.04 | I65: =IF(Kredyt1[[#This Row],[Data]]="","",Kredyt1[[#This Row],[Cała rata]]-Kredyt1[[#This Row],[Kapitał]]) -> 986.46139 | J65: {=IFERROR(-PPMT(Kredyt1[[#This Row],[Oprocentowanie]]/12,Kredyt1[[#This Row],[Miesiąc kredytu]],IlośćRat,KwotaKredytu),"")} -> 569.58759 | K65: {=IF(Kredyt1[[#This Row],[Miesiąc kredytu]]="","",-PMT(Kredyt1[[#This Row],[Oprocentowanie]]/12,IlośćRat,KwotaKredytu))} -> 1556.049 | L65: 0 | M65: =IFERROR(M64-J65-Kredyt1[[#This Row],[Nadpłata]],"") -> 295368.83
D66: {=IF(ROW(61:61)<=IlośćRat,ROW(61:61),"")} -> 61 | E66: =IFERROR(ROUNDUP(Kredyt1[[#This Row],[Miesiąc kredytu]]/12,0),"") -> 6 | F66: =IFERROR(EDATE($B$6,D66-1),"") -> 45931 | G66: {=IF(Kredyt1[[#This Row],[Data]]="","",WIBOR3M)} -> 0.02 | H66: {=IF(Kredyt1[[#This Row],[Data]]="","",G66+MarżaBAnku)} -> 0.04 | I66: =IF(Kredyt1[[#This Row],[Data]]="","",Kredyt1[[#This Row],[Cała rata]]-Kredyt1[[#This Row],[Kapitał]]) -> 984.56277 | J66: {=IFERROR(-PPMT(Kredyt1[[#This Row],[Oprocentowanie]]/12,Kredyt1[[#This Row],[Miesiąc kredytu]],IlośćRat,KwotaKredytu),"")} -> 571.48622 | K66: {=IF(Kredyt1[[#This Row],[Miesiąc kredytu]]="","",-PMT(Kredyt1[[#This Row],[Oprocentowanie]]/12,IlośćRat,KwotaKredytu))} -> 1556.049 | L66: 0 | M66: =IFERROR(M65-J66-Kredyt1[[#This Row],[Nadpłata]],"") -> 294797.34
D67: {=IF(ROW(62:62)<=IlośćRat,ROW(62:62),"")} -> 62 | E67: =IFERROR(ROUNDUP(Kredyt1[[#This Row],[Miesiąc kredytu]]/12,0),"") -> 6 | F67: =IFERROR(EDATE($B$6,D67-1),"") -> 45962 | G67: {=IF(Kredyt1[[#This Row],[Data]]="","",WIBOR3M)} -> 0.02 | H67: {=IF(Kredyt1[[#This Row],[Data]]="","",G67+MarżaBAnku)} -> 0.04 | I67: =IF(Kredyt1[[#This Row],[Data]]="","",Kredyt1[[#This Row],[Cała rata]]-Kredyt1[[#This Row],[Kapitał]]) -> 982.65781 | J67: {=IFERROR(-PPMT(Kredyt1[[#This Row],[Oprocentowanie]]/12,Kredyt1[[#This Row],[Miesiąc kredytu]],IlośćRat,KwotaKredytu),"")} -> 573.39117 | K67: {=IF(Kredyt1[[#This Row],[Miesiąc kredytu]]="","",-PMT(Kredyt1[[#This Row],[Oprocentowanie]]/12,IlośćRat,KwotaKredytu))} -> 1556.049 | L67: 0 | M67: =IFERROR(M66-J67-Kredyt1[[#This Row],[Nadpłata]],"") -> 294223.95
D68: {=IF(ROW(63:63)<=IlośćRat,ROW(63:63),"")} -> 63 | E68: =IFERROR(ROUNDUP(Kredyt1[[#This Row],[Miesiąc kredytu]]/12,0),"") -> 6 | F68: =IFERROR(EDATE($B$6,D68-1),"") -> 45992 | G68: {=IF(Kredyt1[[#This Row],[Data]]="","",WIBOR3M)} -> 0.02 | H68: {=IF(Kredyt1[[#This Row],[Data]]="","",G68+MarżaBAnku)} -> 0.04 | I68: =IF(Kredyt1[[#This Row],[Data]]="","",Kredyt1[[#This Row],[Cała rata]]-Kredyt1[[#This Row],[Kapitał]]) -> 980.74651 | J68: {=IFERROR(-PPMT(Kredyt1[[#This Row],[Oprocentowanie]]/12,Kredyt1[[#This Row],[Miesiąc kredytu]],IlośćRat,KwotaKredytu),"")} -> 575.30248 | K68: {=IF(Kredyt1[[#This Row],[Miesiąc kredytu]]="","",-PMT(Kredyt1[[#This Row],[Oprocentowanie]]/12,IlośćRat,KwotaKredytu))} -> 1556.049 | L68: 0 | M68: =IFERROR(M67-J68-Kredyt1[[#This Row],[Nadpłata]],"") -> 293648.65
D69: {=IF(ROW(64:64)<=IlośćRat,ROW(64:64),"")} -> 64 | E69: =IFERROR(ROUNDUP(Kredyt1[[#This Row],[Miesiąc kredytu]]/12,0),"") -> 6 | F69: =IFERROR(EDATE($B$6,D69-1),"") -> 46023 | G69: {=IF(Kredyt1[[#This Row],[Data]]="","",WIBOR3M)} -> 0.02 | H69: {=IF(Kredyt1[[#This Row],[Data]]="","",G69+MarżaBAnku)} -> 0.04 | I69: =IF(Kredyt1[[#This Row],[Data]]="","",Kredyt1[[#This Row],[Cała rata]]-Kredyt1[[#This Row],[Kapitał]]) -> 978.82884 | J69: {=IFERROR(-PPMT(Kredyt1[[#This Row],[Oprocentowanie]]/12,Kredyt1[[#This Row],[Miesiąc kredytu]],IlośćRat,KwotaKredytu),"")} -> 577.22015 | K69: {=IF(Kredyt1[[#This Row],[Miesiąc kredytu]]="","",-PMT(Kredyt1[[#This Row],[Oprocentowanie]]/12,IlośćRat,KwotaKredytu))} -> 1556.049 | L69: 0 | M69: =IFERROR(M68-J69-Kredyt1[[#This Row],[Nadpłata]],"") -> 293071.43
D70: {=IF(ROW(65:65)<=IlośćRat,ROW(65:65),"")} -> 65 | E70: =IFERROR(ROUNDUP(Kredyt1[[#This Row],[Miesiąc kredytu]]/12,0),"") -> 6 | F70: =IFERROR(EDATE($B$6,D70-1),"") -> 46054 | G70: {=IF(Kredyt1[[#This Row],[Data]]="","",WIBOR3M)} -> 0.02 | H70: {=IF(Kredyt1[[#This Row],[Data]]="","",G70+MarżaBAnku)} -> 0.04 | I70: =IF(Kredyt1[[#This Row],[Data]]="","",Kredyt1[[#This Row],[Cała rata]]-Kredyt1[[#This Row],[Kapitał]]) -> 976.90477 | J70: {=IFERROR(-PPMT(Kredyt1[[#This Row],[Oprocentowanie]]/12,Kredyt1[[#This Row],[Miesiąc kredytu]],IlośćRat,KwotaKredytu),"")} -> 579.14422 | K70: {=IF(Kredyt1[[#This Row],[Miesiąc kredytu]]="","",-PMT(Kredyt1[[#This Row],[Oprocentowanie]]/12,IlośćRat,KwotaKredytu))} -> 1556.049 | L70: 0 | M70: =IFERROR(M69-J70-Kredyt1[[#This Row],[Nadpłata]],"") -> 292492.29
D71: {=IF(ROW(66:66)<=IlośćRat,ROW(66:66),"")} -> 66 | E71: =IFERROR(ROUNDUP(Kredyt1[[#This Row],[Miesiąc kredytu]]/12,0),"") -> 6 | F71: =IFERROR(EDATE($B$6,D71-1),"") -> 46082 | G71: {=IF(Kredyt1[[#This Row],[Data]]="","",WIBOR3M)} -> 0.02 | H71: {=IF(Kredyt1[[#This Row],[Data]]="","",G71+MarżaBAnku)} -> 0.04 | I71: =IF(Kredyt1[[#This Row],[Data]]="","",Kredyt1[[#This Row],[Cała rata]]-Kredyt1[[#This Row],[Kapitał]]) -> 974.97429 | J71: {=IFERROR(-PPMT(Kredyt1[[#This Row],[Oprocentowanie]]/12,Kredyt1[[#This Row],[Miesiąc kredytu]],IlośćRat,KwotaKredytu),"")} -> 581.0747 | K71: {=IF(Kredyt1[[#This Row],[Miesiąc kredytu]]="","",-PMT(Kredyt1[[#This Row],[Oprocentowanie]]/12,IlośćRat,KwotaKredytu))} -> 1556.049 | L71: 0 | M71: =IFERROR(M70-J71-Kredyt1[[#This Row],[Nadpłata]],"") -> 291911.21
D72: {=IF(ROW(67:67)<=IlośćRat,ROW(67:67),"")} -> 67 | E72: =IFERROR(ROUNDUP(Kredyt1[[#This Row],[Miesiąc kredytu]]/12,0),"") -> 6 | F72: =IFERROR(EDATE($B$6,D72-1),"") -> 46113 | G72: {=IF(Kredyt1[[#This Row],[Data]]="","",WIBOR3M)} -> 0.02 | H72: {=IF(Kredyt1[[#This Row],[Data]]="","",G72+MarżaBAnku)} -> 0.04 | I72: =IF(Kredyt1[[#This Row],[Data]]="","",Kredyt1[[#This Row],[Cała rata]]-Kredyt1[[#This Row],[Kapitał]]) -> 973.03737 | J72: {=IFERROR(-PPMT(Kredyt1[[#This Row],[Oprocentowanie]]/12,Kredyt1[[#This Row],[Miesiąc kredytu]],IlośćRat,KwotaKredytu),"")} -> 583.01162 | K72: {=IF(Kredyt1[[#This Row],[Miesiąc kredytu]]="","",-PMT(Kredyt1[[#This Row],[Oprocentowanie]]/12,IlośćRat,KwotaKredytu))} -> 1556.049 | L72: 0 | M72: =IFERROR(M71-J72-Kredyt1[[#This Row],[Nadpłata]],"") -> 291328.2
D73: {=IF(ROW(68:68)<=IlośćRat,ROW(68:68),"")} -> 68 | E73: =IFERROR(ROUNDUP(Kredyt1[[#This Row],[Miesiąc kredytu]]/12,0),"") -> 6 | F73: =IFERROR(EDATE($B$6,D73-1),"") -> 46143 | G73: {=IF(Kredyt1[[#This Row],[Data]]="","",WIBOR3M)} -> 0.02 | H73: {=IF(Kredyt1[[#This Row],[Data]]="","",G73+MarżaBAnku)} -> 0.04 | I73: =IF(Kredyt1[[#This Row],[Data]]="","",Kredyt1[[#This Row],[Cała rata]]-Kredyt1[[#This Row],[Kapitał]]) -> 971.094 | J73: {=IFERROR(-PPMT(Kredyt1[[#This Row],[Oprocentowanie]]/12,Kredyt1[[#This Row],[Miesiąc kredytu]],IlośćRat,KwotaKredytu),"")} -> 584.95499 | K73: {=IF(Kredyt1[[#This Row],[Miesiąc kredytu]]="","",-PMT(Kredyt1[[#This Row],[Oprocentowanie]]/12,IlośćRat,KwotaKredytu))} -> 1556.049 | L73: 0 | M73: =IFERROR(M72-J73-Kredyt1[[#This Row],[Nadpłata]],"") -> 290743.24
D74: {=IF(ROW(69:69)<=IlośćRat,ROW(69:69),"")} -> 69 | E74: =IFERROR(ROUNDUP(Kredyt1[[#This Row],[Miesiąc kredytu]]/12,0),"") -> 6 | F74: =IFERROR(EDATE($B$6,D74-1),"") -> 46174 | G74: {=IF(Kredyt1[[#This Row],[Data]]="","",WIBOR3M)} -> 0.02 | H74: {=IF(Kredyt1[[#This Row],[Data]]="","",G74+MarżaBAnku)} -> 0.04 | I74: =IF(Kredyt1[[#This Row],[Data]]="","",Kredyt1[[#This Row],[Cała rata]]-Kredyt1[[#This Row],[Kapitał]]) -> 969.14415 | J74: {=IFERROR(-PPMT(Kredyt1[[#This Row],[Oprocentowanie]]/12,Kredyt1[[#This Row],[Miesiąc kredytu]],IlośćRat,KwotaKredytu),"")} -> 586.90484 | K74: {=IF(Kredyt1[[#This Row],[Miesiąc kredytu]]="","",-PMT(Kredyt1[[#This Row],[Oprocentowanie]]/12,IlośćRat,KwotaKredytu))} -> 1556.049 | L74: 0 | M74: =IFERROR(M73-J74-Kredyt1[[#This Row],[Nadpłata]],"") -> 290156.34
D75: {=IF(ROW(70:70)<=IlośćRat,ROW(70:70),"")} -> 70 | E75: =IFERROR(ROUNDUP(Kredyt1[[#This Row],[Miesiąc kredytu]]/12,0),"") -> 6 | F75: =IFERROR(EDATE($B$6,D75-1),"") -> 46204 | G75: {=IF(Kredyt1[[#This Row],[Data]]="","",WIBOR3M)} -> 0.02 | H75: {=IF(Kredyt1[[#This Row],[Data]]="","",G75+MarżaBAnku)} -> 0.04 | I75: =IF(Kredyt1[[#This Row],[Data]]="","",Kredyt1[[#This Row],[Cała rata]]-Kredyt1[[#This Row],[Kapitał]]) -> 967.1878 | J75: {=IFERROR(-PPMT(Kredyt1[[#This Row],[Oprocentowanie]]/12,Kredyt1[[#This Row],[Miesiąc kredytu]],IlośćRat,KwotaKredytu),"")} -> 588.86119 | K75: {=IF(Kredyt1[[#This Row],[Miesiąc kredytu]]="","",-PMT(Kredyt1[[#This Row],[Oprocentowanie]]/12,IlośćRat,KwotaKredytu))} -> 1556.049 | L75: 0 | M75: =IFERROR(M74-J75-Kredyt1[[#This Row],[Nadpłata]],"") -> 289567.48
D76: {=IF(ROW(71:71)<=IlośćRat,ROW(71:71),"")} -> 71 | E76: =IFERROR(ROUNDUP(Kredyt1[[#This Row],[Miesiąc kredytu]]/12,0),"") -> 6 | F76: =IFERROR(EDATE($B$6,D76-1),"") -> 46235 | G76: {=IF(Kredyt1[[#This Row],[Data]]="","",WIBOR3M)} -> 0.02 | H76: {=IF(Kredyt1[[#This Row],[Data]]="","",G76+MarżaBAnku)} -> 0.04 | I76: =IF(Kredyt1[[#This Row],[Data]]="","",Kredyt1[[#This Row],[Cała rata]]-Kredyt1[[#This Row],[Kapitał]]) -> 965.22493 | J76: {=IFERROR(-PPMT(Kredyt1[[#This Row],[Oprocentowanie]]/12,Kredyt1[[#This Row],[Miesiąc kredytu]],IlośćRat,KwotaKredytu),"")} -> 590.82406 | K76: {=IF(Kredyt1[[#This Row],[Miesiąc kredytu]]="","",-PMT(Kredyt1[[#This Row],[Oprocentowanie]]/12,IlośćRat,KwotaKredytu))} -> 1556.049 | L76: 0 | M76: =IFERROR(M75-J76-Kredyt1[[#This Row],[Nadpłata]],"") -> 288976.65
D77: {=IF(ROW(72:72)<=IlośćRat,ROW(72:72),"")} -> 72 | E77: =IFERROR(ROUNDUP(Kredyt1[[#This Row],[Miesiąc kredytu]]/12,0),"") -> 6 | F77: =IFERROR(EDATE($B$6,D77-1),"") -> 46266 | G77: {=IF(Kredyt1[[#This Row],[Data]]="","",WIBOR3M)} -> 0.02 | H77: {=IF(Kredyt1[[#This Row],[Data]]="","",G77+MarżaBAnku)} -> 0.04 | I77: =IF(Kredyt1[[#This Row],[Data]]="","",Kredyt1[[#This Row],[Cała rata]]-Kredyt1[[#This Row],[Kapitał]]) -> 963.25552 | J77: {=IFERROR(-PPMT(Kredyt1[[#This Row],[Oprocentowanie]]/12,Kredyt1[[#This Row],[Miesiąc kredytu]],IlośćRat,KwotaKredytu),"")} -> 592.79347 | K77: {=IF(Kredyt1[[#This Row],[Miesiąc kredytu]]="","",-PMT(Kredyt1[[#This Row],[Oprocentowanie]]/12,IlośćRat,KwotaKredytu))} -> 1556.049 | L77: 0 | M77: =IFERROR(M76-J77-Kredyt1[[#This Row],[Nadpłata]],"") -> 288383.86
D78: {=IF(ROW(73:73)<=IlośćRat,ROW(73:73),"")} -> 73 | E78: =IFERROR(ROUNDUP(Kredyt1[[#This Row],[Miesiąc kredytu]]/12,0),"") -> 7 | F78: =IFERROR(EDATE($B$6,D78-1),"") -> 46296 | G78: {=IF(Kredyt1[[#This Row],[Data]]="","",WIBOR3M)} -> 0.02 | H78: {=IF(Kredyt1[[#This Row],[Data]]="","",G78+MarżaBAnku)} -> 0.04 | I78: =IF(Kredyt1[[#This Row],[Data]]="","",Kredyt1[[#This Row],[Cała rata]]-Kredyt1[[#This Row],[Kapitał]]) -> 961.27954 | J78: {=IFERROR(-PPMT(Kredyt1[[#This Row],[Oprocentowanie]]/12,Kredyt1[[#This Row],[Miesiąc kredytu]],IlośćRat,KwotaKredytu),"")} -> 594.76945 | K78: {=IF(Kredyt1[[#This Row],[Miesiąc kredytu]]="","",-PMT(Kredyt1[[#This Row],[Oprocentowanie]]/12,IlośćRat,KwotaKredytu))} -> 1556.049 | L78: 0 | M78: =IFERROR(M77-J78-Kredyt1[[#This Row],[Nadpłata]],"") -> 287789.09
D79: {=IF(ROW(74:74)<=IlośćRat,ROW(74:74),"")} -> 74 | E79: =IFERROR(ROUNDUP(Kredyt1[[#This Row],[Miesiąc kredytu]]/12,0),"") -> 7 | F79: =IFERROR(EDATE($B$6,D79-1),"") -> 46327 | G79: {=IF(Kredyt1[[#This Row],[Data]]="","",WIBOR3M)} -> 0.02 | H79: {=IF(Kredyt1[[#This Row],[Data]]="","",G79+MarżaBAnku)} -> 0.04 | I79: =IF(Kredyt1[[#This Row],[Data]]="","",Kredyt1[[#This Row],[Cała rata]]-Kredyt1[[#This Row],[Kapitał]]) -> 959.29697 | J79: {=IFERROR(-PPMT(Kredyt1[[#This Row],[Oprocentowanie]]/12,Kredyt1[[#This Row],[Miesiąc kredytu]],IlośćRat,KwotaKredytu),"")} -> 596.75201 | K79: {=IF(Kredyt1[[#This Row],[Miesiąc kredytu]]="","",-PMT(Kredyt1[[#This Row],[Oprocentowanie]]/12,IlośćRat,KwotaKredytu))} -> 1556.049 | L79: 0 | M79: =IFERROR(M78-J79-Kredyt1[[#This Row],[Nadpłata]],"") -> 287192.34
D80: {=IF(ROW(75:75)<=IlośćRat,ROW(75:75),"")} -> 75 | E80: =IFERROR(ROUNDUP(Kredyt1[[#This Row],[Miesiąc kredytu]]/12,0),"") -> 7 | F80: =IFERROR(EDATE($B$6,D80-1),"") -> 46357 | G80: {=IF(Kredyt1[[#This Row],[Data]]="","",WIBOR3M)} -> 0.02 | H80: {=IF(Kredyt1[[#This Row],[Data]]="","",G80+MarżaBAnku)} -> 0.04 | I80: =IF(Kredyt1[[#This Row],[Data]]="","",Kredyt1[[#This Row],[Cała rata]]-Kredyt1[[#This Row],[Kapitał]]) -> 957.3078 | J80: {=IFERROR(-PPMT(Kredyt1[[#This Row],[Oprocentowanie]]/12,Kredyt1[[#This Row],[Miesiąc kredytu]],IlośćRat,KwotaKredytu),"")} -> 598.74119 | K80: {=IF(Kredyt1[[#This Row],[Miesiąc kredytu]]="","",-PMT(Kredyt1[[#This Row],[Oprocentowanie]]/12,IlośćRat,KwotaKredytu))} -> 1556.049 | L80: 0 | M80: =IFERROR(M79-J80-Kredyt1[[#This Row],[Nadpłata]],"") -> 286593.6
D81: {=IF(ROW(76:76)<=IlośćRat,ROW(76:76),"")} -> 76 | E81: =IFERROR(ROUNDUP(Kredyt1[[#This Row],[Miesiąc kredytu]]/12,0),"") -> 7 | F81: =IFERROR(EDATE($B$6,D81-1),"") -> 46388 | G81: {=IF(Kredyt1[[#This Row],[Data]]="","",WIBOR3M)} -> 0.02 | H81: {=IF(Kredyt1[[#This Row],[Data]]="","",G81+MarżaBAnku)} -> 0.04 | I81: =IF(Kredyt1[[#This Row],[Data]]="","",Kredyt1[[#This Row],[Cała rata]]-Kredyt1[[#This Row],[Kapitał]]) -> 955.312 | J81: {=IFERROR(-PPMT(Kredyt1[[#This Row],[Oprocentowanie]]/12,Kredyt1[[#This Row],[Miesiąc kredytu]],IlośćRat,KwotaKredytu),"")} -> 600.73699 | K81: {=IF(Kredyt1[[#This Row],[Miesiąc kredytu]]="","",-PMT(Kredyt1[[#This Row],[Oprocentowanie]]/12,IlośćRat,KwotaKredytu))} -> 1556.049 | L81: 0 | M81: =IFERROR(M80-J81-Kredyt1[[#This Row],[Nadpłata]],"") -> 285992.86
D82: {=IF(ROW(77:77)<=IlośćRat,ROW(77:77),"")} -> 77 | E82: =IFERROR(ROUNDUP(Kredyt1[[#This Row],[Miesiąc kredytu]]/12,0),"") -> 7 | F82: =IFERROR(EDATE($B$6,D82-1),"") -> 46419 | G82: {=IF(Kredyt1[[#This Row],[Data]]="","",WIBOR3M)} -> 0.02 | H82: {=IF(Kredyt1[[#This Row],[Data]]="","",G82+MarżaBAnku)} -> 0.04 | I82: =IF(Kredyt1[[#This Row],[Data]]="","",Kredyt1[[#This Row],[Cała rata]]-Kredyt1[[#This Row],[Kapitał]]) -> 953.30954 | J82: {=IFERROR(-PPMT(Kredyt1[[#This Row],[Oprocentowanie]]/12,Kredyt1[[#This Row],[Miesiąc kredytu]],IlośćRat,KwotaKredytu),"")} -> 602.73945 | K82: {=IF(Kredyt1[[#This Row],[Miesiąc kredytu]]="","",-PMT(Kredyt1[[#This Row],[Oprocentowanie]]/12,IlośćRat,KwotaKredytu))} -> 1556.049 | L82: 0 | M82: =IFERROR(M81-J82-Kredyt1[[#This Row],[Nadpłata]],"") -> 285390.12
D83: {=IF(ROW(78:78)<=IlośćRat,ROW(78:78),"")} -> 78 | E83: =IFERROR(ROUNDUP(Kredyt1[[#This Row],[Miesiąc kredytu]]/12,0),"") -> 7 | F83: =IFERROR(EDATE($B$6,D83-1),"") -> 46447 | G83: {=IF(Kredyt1[[#This Row],[Data]]="","",WIBOR3M)} -> 0.02 | H83: {=IF(Kredyt1[[#This Row],[Data]]="","",G83+MarżaBAnku)} -> 0.04 | I83: =IF(Kredyt1[[#This Row],[Data]]="","",Kredyt1[[#This Row],[Cała rata]]-Kredyt1[[#This Row],[Kapitał]]) -> 951.30041 | J83: {=IFERROR(-PPMT(Kredyt1[[#This Row],[Oprocentowanie]]/12,Kredyt1[[#This Row],[Miesiąc kredytu]],IlośćRat,KwotaKredytu),"")} -> 604.74858 | K83: {=IF(Kredyt1[[#This Row],[Miesiąc kredytu]]="","",-PMT(Kredyt1[[#This Row],[Oprocentowanie]]/12,IlośćRat,KwotaKredytu))} -> 1556.049 | L83: 0 | M83: =IFERROR(M82-J83-Kredyt1[[#This Row],[Nadpłata]],"") -> 284785.37
D84: {=IF(ROW(79:79)<=IlośćRat,ROW(79:79),"")} -> 79 | E84: =IFERROR(ROUNDUP(Kredyt1[[#This Row],[Miesiąc kredytu]]/12,0),"") -> 7 | F84: =IFERROR(EDATE($B$6,D84-1),"") -> 46478 | G84: {=IF(Kredyt1[[#This Row],[Data]]="","",WIBOR3M)} -> 0.02 | H84: {=IF(Kredyt1[[#This Row],[Data]]="","",G84+MarżaBAnku)} -> 0.04 | I84: =IF(Kredyt1[[#This Row],[Data]]="","",Kredyt1[[#This Row],[Cała rata]]-Kredyt1[[#This Row],[Kapitał]]) -> 949.28458 | J84: {=IFERROR(-PPMT(Kredyt1[[#This Row],[Oprocentowanie]]/12,Kredyt1[[#This Row],[Miesiąc kredytu]],IlośćRat,KwotaKredytu),"")} -> 606.76441 | K84: {=IF(Kredyt1[[#This Row],[Miesiąc kredytu]]="","",-PMT(Kredyt1[[#This Row],[Oprocentowanie]]/12,IlośćRat,KwotaKredytu))} -> 1556.049 | L84: 0 | M84: =IFERROR(M83-J84-Kredyt1[[#This Row],[Nadpłata]],"") -> 284178.61
D85: {=IF(ROW(80:80)<=IlośćRat,ROW(80:80),"")} -> 80 | E85: =IFERROR(ROUNDUP(Kredyt1[[#This Row],[Miesiąc kredytu]]/12,0),"") -> 7 | F85: =IFERROR(EDATE($B$6,D85-1),"") -> 46508 | G85: {=IF(Kredyt1[[#This Row],[Data]]="","",WIBOR3M)} -> 0.02 | H85: {=IF(Kredyt1[[#This Row],[Data]]="","",G85+MarżaBAnku)} -> 0.04 | I85: =IF(Kredyt1[[#This Row],[Data]]="","",Kredyt1[[#This Row],[Cała rata]]-Kredyt1[[#This Row],[Kapitał]]) -> 947.26203 | J85: {=IFERROR(-PPMT(Kredyt1[[#This Row],[Oprocentowanie]]/12,Kredyt1[[#This Row],[Miesiąc kredytu]],IlośćRat,KwotaKredytu),"")} -> 608.78696 | K85: {=IF(Kredyt1[[#This Row],[Miesiąc kredytu]]="","",-PMT(Kredyt1[[#This Row],[Oprocentowanie]]/12,IlośćRat,KwotaKredytu))} -> 1556.049 | L85: 0 | M85: =IFERROR(M84-J85-Kredyt1[[#This Row],[Nadpłata]],"") -> 283569.82
D86: {=IF(ROW(81:81)<=IlośćRat,ROW(81:81),"")} -> 81 | E86: =IFERROR(ROUNDUP(Kredyt1[[#This Row],[Miesiąc kredytu]]/12,0),"") -> 7 | F86: =IFERROR(EDATE($B$6,D86-1),"") -> 46539 | G86: {=IF(Kredyt1[[#This Row],[Data]]="","",WIBOR3M)} -> 0.02 | H86: {=IF(Kredyt1[[#This Row],[Data]]="","",G86+MarżaBAnku)} -> 0.04 | I86: =IF(Kredyt1[[#This Row],[Data]]="","",Kredyt1[[#This Row],[Cała rata]]-Kredyt1[[#This Row],[Kapitał]]) -> 945.23274 | J86: {=IFERROR(-PPMT(Kredyt1[[#This Row],[Oprocentowanie]]/12,Kredyt1[[#This Row],[Miesiąc kredytu]],IlośćRat,KwotaKredytu),"")} -> 610.81625 | K86: {=IF(Kredyt1[[#This Row],[Miesiąc kredytu]]="","",-PMT(Kredyt1[[#This Row],[Oprocentowanie]]/12,IlośćRat,KwotaKredytu))} -> 1556.049 | L86: 0 | M86: =IFERROR(M85-J86-Kredyt1[[#This Row],[Nadpłata]],"") -> 282959.01
D87: {=IF(ROW(82:82)<=IlośćRat,ROW(82:82),"")} -> 82 | E87: =IFERROR(ROUNDUP(Kredyt1[[#This Row],[Miesiąc kredytu]]/12,0),"") -> 7 | F87: =IFERROR(EDATE($B$6,D87-1),"") -> 46569 | G87: {=IF(Kredyt1[[#This Row],[Data]]="","",WIBOR3M)} -> 0.02 | H87: {=IF(Kredyt1[[#This Row],[Data]]="","",G87+MarżaBAnku)} -> 0.04 | I87: =IF(Kredyt1[[#This Row],[Data]]="","",Kredyt1[[#This Row],[Cała rata]]-Kredyt1[[#This Row],[Kapitał]]) -> 943.19669 | J87: {=IFERROR(-PPMT(Kredyt1[[#This Row],[Oprocentowanie]]/12,Kredyt1[[#This Row],[Miesiąc kredytu]],IlośćRat,KwotaKredytu),"")} -> 612.8523 | K87: {=IF(Kredyt1[[#This Row],[Miesiąc kredytu]]="","",-PMT(Kredyt1[[#This Row],[Oprocentowanie]]/12,IlośćRat,KwotaKredytu))} -> 1556.049 | L87: 0 | M87: =IFERROR(M86-J87-Kredyt1[[#This Row],[Nadpłata]],"") -> 282346.15
D88: {=IF(ROW(83:83)<=IlośćRat,ROW(83:83),"")} -> 83 | E88: =IFERROR(ROUNDUP(Kredyt1[[#This Row],[Miesiąc kredytu]]/12,0),"") -> 7 | F88: =IFERROR(EDATE($B$6,D88-1),"") -> 46600 | G88: {=IF(Kredyt1[[#This Row],[Data]]="","",WIBOR3M)} -> 0.02 | H88: {=IF(Kredyt1[[#This Row],[Data]]="","",G88+MarżaBAnku)} -> 0.04 | I88: =IF(Kredyt1[[#This Row],[Data]]="","",Kredyt1[[#This Row],[Cała rata]]-Kredyt1[[#This Row],[Kapitał]]) -> 941.15385 | J88: {=IFERROR(-PPMT(Kredyt1[[#This Row],[Oprocentowanie]]/12,Kredyt1[[#This Row],[Miesiąc kredytu]],IlośćRat,KwotaKredytu),"")} -> 614.89514 | K88: {=IF(Kredyt1[[#This Row],[Miesiąc kredytu]]="","",-PMT(Kredyt1[[#This Row],[Oprocentowanie]]/12,IlośćRat,KwotaKredytu))} -> 1556.049 | L88: 0 | M88: =IFERROR(M87-J88-Kredyt1[[#This Row],[Nadpłata]],"") -> 281731.26
D89: {=IF(ROW(84:84)<=IlośćRat,ROW(84:84),"")} -> 84 | E89: =IFERROR(ROUNDUP(Kredyt1[[#This Row],[Miesiąc kredytu]]/12,0),"") -> 7 | F89: =IFERROR(EDATE($B$6,D89-1),"") -> 46631 | G89: {=IF(Kredyt1[[#This Row],[Data]]="","",WIBOR3M)} -> 0.02 | H89: {=IF(Kredyt1[[#This Row],[Data]]="","",G89+MarżaBAnku)} -> 0.04 | I89: =IF(Kredyt1[[#This Row],[Data]]="","",Kredyt1[[#This Row],[Cała rata]]-Kredyt1[[#This Row],[Kapitał]]) -> 939.1042 | J89: {=IFERROR(-PPMT(Kredyt1[[#This Row],[Oprocentowanie]]/12,Kredyt1[[#This Row],[Miesiąc kredytu]],IlośćRat,KwotaKredytu),"")} -> 616.94479 | K89: {=IF(Kredyt1[[#This Row],[Miesiąc kredytu]]="","",-PMT(Kredyt1[[#This Row],[Oprocentowanie]]/12,IlośćRat,KwotaKredytu))} -> 1556.049 | L89: 0 | M89: =IFERROR(M88-J89-Kredyt1[[#This Row],[Nadpłata]],"") -> 281114.31
D90: {=IF(ROW(85:85)<=IlośćRat,ROW(85:85),"")} -> 85 | E90: =IFERROR(ROUNDUP(Kredyt1[[#This Row],[Miesiąc kredytu]]/12,0),"") -> 8 | F90: =IFERROR(EDATE($B$6,D90-1),"") -> 46661 | G90: {=IF(Kredyt1[[#This Row],[Data]]="","",WIBOR3M)} -> 0.02 | H90: {=IF(Kredyt1[[#This Row],[Data]]="","",G90+MarżaBAnku)} -> 0.04 | I90: =IF(Kredyt1[[#This Row],[Data]]="","",Kredyt1[[#This Row],[Cała rata]]-Kredyt1[[#This Row],[Kapitał]]) -> 937.04771 | J90: {=IFERROR(-PPMT(Kredyt1[[#This Row],[Oprocentowanie]]/12,Kredyt1[[#This Row],[Miesiąc kredytu]],IlośćRat,KwotaKredytu),"")} -> 619.00127 | K90: {=IF(Kredyt1[[#This Row],[Miesiąc kredytu]]="","",-PMT(Kredyt1[[#This Row],[Oprocentowanie]]/12,IlośćRat,KwotaKredytu))} -> 1556.049 | L90: 0 | M90: =IFERROR(M89-J90-Kredyt1[[#This Row],[Nadpłata]],"") -> 280495.31
D91: {=IF(ROW(86:86)<=IlośćRat,ROW(86:86),"")} -> 86 | E91: =IFERROR(ROUNDUP(Kredyt1[[#This Row],[Miesiąc kredytu]]/12,0),"") -> 8 | F91: =IFERROR(EDATE($B$6,D91-1),"") -> 46692 | G91: {=IF(Kredyt1[[#This Row],[Data]]="","",WIBOR3M)} -> 0.02 | H91: {=IF(Kredyt1[[#This Row],[Data]]="","",G91+MarżaBAnku)} -> 0.04 | I91: =IF(Kredyt1[[#This Row],[Data]]="","",Kredyt1[[#This Row],[Cała rata]]-Kredyt1[[#This Row],[Kapitał]]) -> 934.98438 | J91: {=IFERROR(-PPMT(Kredyt1[[#This Row],[Oprocentowanie]]/12,Kredyt1[[#This Row],[Miesiąc kredytu]],IlośćRat,KwotaKredytu),"")} -> 621.06461 | K91: {=IF(Kredyt1[[#This Row],[Miesiąc kredytu]]="","",-PMT(Kredyt1[[#This Row],[Oprocentowanie]]/12,IlośćRat,KwotaKredytu))} -> 1556.049 | L91: 0 | M91: =IFERROR(M90-J91-Kredyt1[[#This Row],[Nadpłata]],"") -> 279874.25
D92: {=IF(ROW(87:87)<=IlośćRat,ROW(87:87),"")} -> 87 | E92: =IFERROR(ROUNDUP(Kredyt1[[#This Row],[Miesiąc kredytu]]/12,0),"") -> 8 | F92: =IFERROR(EDATE($B$6,D92-1),"") -> 46722 | G92: {=IF(Kredyt1[[#This Row],[Data]]="","",WIBOR3M)} -> 0.02 | H92: {=IF(Kredyt1[[#This Row],[Data]]="","",G92+MarżaBAnku)} -> 0.04 | I92: =IF(Kredyt1[[#This Row],[Data]]="","",Kredyt1[[#This Row],[Cała rata]]-Kredyt1[[#This Row],[Kapitał]]) -> 932.91416 | J92: {=IFERROR(-PPMT(Kredyt1[[#This Row],[Oprocentowanie]]/12,Kredyt1[[#This Row],[Miesiąc kredytu]],IlośćRat,KwotaKredytu),"")} -> 623.13483 | K92: {=IF(Kredyt1[[#This Row],[Miesiąc kredytu]]="","",-PMT(Kredyt1[[#This Row],[Oprocentowanie]]/12,IlośćRat,KwotaKredytu))} -> 1556.049 | L92: 0 | M92: =IFERROR(M91-J92-Kredyt1[[#This Row],[Nadpłata]],"") -> 279251.11
D93: {=IF(ROW(88:88)<=IlośćRat,ROW(88:88),"")} -> 88 | E93: =IFERROR(ROUNDUP(Kredyt1[[#This Row],[Miesiąc kredytu]]/12,0),"") -> 8 | F93: =IFERROR(EDATE($B$6,D93-1),"") -> 46753 | G93: {=IF(Kredyt1[[#This Row],[Data]]="","",WIBOR3M)} -> 0.02 | H93: {=IF(Kredyt1[[#This Row],[Data]]="","",G93+MarżaBAnku)} -> 0.04 | I93: =IF(Kredyt1[[#This Row],[Data]]="","",Kredyt1[[#This Row],[Cała rata]]-Kredyt1[[#This Row],[Kapitał]]) -> 930.83704 | J93: {=IFERROR(-PPMT(Kredyt1[[#This Row],[Oprocentowanie]]/12,Kredyt1[[#This Row],[Miesiąc kredytu]],IlośćRat,KwotaKredytu),"")} -> 625.21194 | K93: {=IF(Kredyt1[[#This Row],[Miesiąc kredytu]]="","",-PMT(Kredyt1[[#This Row],[Oprocentowanie]]/12,IlośćRat,KwotaKredytu))} -> 1556.049 | L93: 0 | M93: =IFERROR(M92-J93-Kredyt1[[#This Row],[Nadpłata]],"") -> 278625.9
D94: {=IF(ROW(89:89)<=IlośćRat,ROW(89:89),"")} -> 89 | E94: =IFERROR(ROUNDUP(Kredyt1[[#This Row],[Miesiąc kredytu]]/12,0),"") -> 8 | F94: =IFERROR(EDATE($B$6,D94-1),"") -> 46784 | G94: {=IF(Kredyt1[[#This Row],[Data]]="","",WIBOR3M)} -> 0.02 | H94: {=IF(Kredyt1[[#This Row],[Data]]="","",G94+MarżaBAnku)} -> 0.04 | I94: =IF(Kredyt1[[#This Row],[Data]]="","",Kredyt1[[#This Row],[Cała rata]]-Kredyt1[[#This Row],[Kapitał]]) -> 928.753 | J94: {=IFERROR(-PPMT(Kredyt1[[#This Row],[Oprocentowanie]]/12,Kredyt1[[#This Row],[Miesiąc kredytu]],IlośćRat,KwotaKredytu),"")} -> 627.29598 | K94: {=IF(Kredyt1[[#This Row],[Miesiąc kredytu]]="","",-PMT(Kredyt1[[#This Row],[Oprocentowanie]]/12,IlośćRat,KwotaKredytu))} -> 1556.049 | L94: 0 | M94: =IFERROR(M93-J94-Kredyt1[[#This Row],[Nadpłata]],"") -> 277998.61
D95: {=IF(ROW(90:90)<=IlośćRat,ROW(90:90),"")} -> 90 | E95: =IFERROR(ROUNDUP(Kredyt1[[#This Row],[Miesiąc kredytu]]/12,0),"") -> 8 | F95: =IFERROR(EDATE($B$6,D95-1),"") -> 46813 | G95: {=IF(Kredyt1[[#This Row],[Data]]="","",WIBOR3M)} -> 0.02 | H95: {=IF(Kredyt1[[#This Row],[Data]]="","",G95+MarżaBAnku)} -> 0.04 | I95: =IF(Kredyt1[[#This Row],[Data]]="","",Kredyt1[[#This Row],[Cała rata]]-Kredyt1[[#This Row],[Kapitał]]) -> 926.66202 | J95: {=IFERROR(-PPMT(Kredyt1[[#This Row],[Oprocentowanie]]/12,Kredyt1[[#This Row],[Miesiąc kredytu]],IlośćRat,KwotaKredytu),"")} -> 629.38697 | K95: {=IF(Kredyt1[[#This Row],[Miesiąc kredytu]]="","",-PMT(Kredyt1[[#This Row],[Oprocentowanie]]/12,IlośćRat,KwotaKredytu))} -> 1556.049 | L95: 0 | M95: =IFERROR(M94-J95-Kredyt1[[#This Row],[Nadpłata]],"") -> 277369.22
D96: {=IF(ROW(91:91)<=IlośćRat,ROW(91:91),"")} -> 91 | E96: =IFERROR(ROUNDUP(Kredyt1[[#This Row],[Miesiąc kredytu]]/12,0),"") -> 8 | F96: =IFERROR(EDATE($B$6,D96-1),"") -> 46844 | G96: {=IF(Kredyt1[[#This Row],[Data]]="","",WIBOR3M)} -> 0.02 | H96: {=IF(Kredyt1[[#This Row],[Data]]="","",G96+MarżaBAnku)} -> 0.04 | I96: =IF(Kredyt1[[#This Row],[Data]]="","",Kredyt1[[#This Row],[Cała rata]]-Kredyt1[[#This Row],[Kapitał]]) -> 924.56406 | J96: {=IFERROR(-PPMT(Kredyt1[[#This Row],[Oprocentowanie]]/12,Kredyt1[[#This Row],[Miesiąc kredytu]],IlośćRat,KwotaKredytu),"")} -> 631.48493 | K96: {=IF(Kredyt1[[#This Row],[Miesiąc kredytu]]="","",-PMT(Kredyt1[[#This Row],[Oprocentowanie]]/12,IlośćRat,KwotaKredytu))} -> 1556.049 | L96: 0 | M96: =IFERROR(M95-J96-Kredyt1[[#This Row],[Nadpłata]],"") -> 276737.73
D97: {=IF(ROW(92:92)<=IlośćRat,ROW(92:92),"")} -> 92 | E97: =IFERROR(ROUNDUP(Kredyt1[[#This Row],[Miesiąc kredytu]]/12,0),"") -> 8 | F97: =IFERROR(EDATE($B$6,D97-1),"") -> 46874 | G97: {=IF(Kredyt1[[#This Row],[Data]]="","",WIBOR3M)} -> 0.02 | H97: {=IF(Kredyt1[[#This Row],[Data]]="","",G97+MarżaBAnku)} -> 0.04 | I97: =IF(Kredyt1[[#This Row],[Data]]="","",Kredyt1[[#This Row],[Cała rata]]-Kredyt1[[#This Row],[Kapitał]]) -> 922.45911 | J97: {=IFERROR(-PPMT(Kredyt1[[#This Row],[Oprocentowanie]]/12,Kredyt1[[#This Row],[Miesiąc kredytu]],IlośćRat,KwotaKredytu),"")} -> 633.58988 | K97: {=IF(Kredyt1[[#This Row],[Miesiąc kredytu]]="","",-PMT(Kredyt1[[#This Row],[Oprocentowanie]]/12,IlośćRat,KwotaKredytu))} -> 1556.049 | L97: 0 | M97: =IFERROR(M96-J97-Kredyt1[[#This Row],[Nadpłata]],"") -> 276104.14
D98: {=IF(ROW(93:93)<=IlośćRat,ROW(93:93),"")} -> 93 | E98: =IFERROR(ROUNDUP(Kredyt1[[#This Row],[Miesiąc kredytu]]/12,0),"") -> 8 | F98: =IFERROR(EDATE($B$6,D98-1),"") -> 46905 | G98: {=IF(Kredyt1[[#This Row],[Data]]="","",WIBOR3M)} -> 0.02 | H98: {=IF(Kredyt1[[#This Row],[Data]]="","",G98+MarżaBAnku)} -> 0.04 | I98: =IF(Kredyt1[[#This Row],[Data]]="","",Kredyt1[[#This Row],[Cała rata]]-Kredyt1[[#This Row],[Kapitał]]) -> 920.34714 | J98: {=IFERROR(-PPMT(Kredyt1[[#This Row],[Oprocentowanie]]/12,Kredyt1[[#This Row],[Miesiąc kredytu]],IlośćRat,KwotaKredytu),"")} -> 635.70184 | K98: {=IF(Kredyt1[[#This Row],[Miesiąc kredytu]]="","",-PMT(Kredyt1[[#This Row],[Oprocentowanie]]/12,IlośćRat,KwotaKredytu))} -> 1556.049 | L98: 0 | M98: =IFERROR(M97-J98-Kredyt1[[#This Row],[Nadpłata]],"") -> 275468.44
D99: {=IF(ROW(94:94)<=IlośćRat,ROW(94:94),"")} -> 94 | E99: =IFERROR(ROUNDUP(Kredyt1[[#This Row],[Miesiąc kredytu]]/12,0),"") -> 8 | F99: =IFERROR(EDATE($B$6,D99-1),"") -> 46935 | G99: {=IF(Kredyt1[[#This Row],[Data]]="","",WIBOR3M)} -> 0.02 | H99: {=IF(Kredyt1[[#This Row],[Data]]="","",G99+MarżaBAnku)} -> 0.04 | I99: =IF(Kredyt1[[#This Row],[Data]]="","",Kredyt1[[#This Row],[Cała rata]]-Kredyt1[[#This Row],[Kapitał]]) -> 918.22814 | J99: {=IFERROR(-PPMT(Kredyt1[[#This Row],[Oprocentowanie]]/12,Kredyt1[[#This Row],[Miesiąc kredytu]],IlośćRat,KwotaKredytu),"")} -> 637.82085 | K99: {=IF(Kredyt1[[#This Row],[Miesiąc kredytu]]="","",-PMT(Kredyt1[[#This Row],[Oprocentowanie]]/12,IlośćRat,KwotaKredytu))} -> 1556.049 | L99: 0 | M99: =IFERROR(M98-J99-Kredyt1[[#This Row],[Nadpłata]],"") -> 274830.62
D100: {=IF(ROW(95:95)<=IlośćRat,ROW(95:95),"")} -> 95 | E100: =IFERROR(ROUNDUP(Kredyt1[[#This Row],[Miesiąc kredytu]]/12,0),"") -> 8 | F100: =IFERROR(EDATE($B$6,D100-1),"") -> 46966 | G100: {=IF(Kredyt1[[#This Row],[Data]]="","",WIBOR3M)} -> 0.02 | H100: {=IF(Kredyt1[[#This Row],[Data]]="","",G100+MarżaBAnku)} -> 0.04 | I100: =IF(Kredyt1[[#This Row],[Data]]="","",Kredyt1[[#This Row],[Cała rata]]-Kredyt1[[#This Row],[Kapitał]]) -> 916.10207 | J100: {=IFERROR(-PPMT(Kredyt1[[#This Row],[Oprocentowanie]]/12,Kredyt1[[#This Row],[Miesiąc kredytu]],IlośćRat,KwotaKredytu),"")} -> 639.94692 | K100: {=IF(Kredyt1[[#This Row],[Miesiąc kredytu]]="","",-PMT(Kredyt1[[#This Row],[Oprocentowanie]]/12,IlośćRat,KwotaKredytu))} -> 1556.049 | L100: 0 | M100: =IFERROR(M99-J100-Kredyt1[[#This Row],[Nadpłata]],"") -> 274190.67
D101: {=IF(ROW(96:96)<=IlośćRat,ROW(96:96),"")} -> 96 | E101: =IFERROR(ROUNDUP(Kredyt1[[#This Row],[Miesiąc kredytu]]/12,0),"") -> 8 | F101: =IFERROR(EDATE($B$6,D101-1),"") -> 46997 | G101: {=IF(Kredyt1[[#This Row],[Data]]="","",WIBOR3M)} -> 0.02 | H101: {=IF(Kredyt1[[#This Row],[Data]]="","",G101+MarżaBAnku)} -> 0.04 | I101: =IF(Kredyt1[[#This Row],[Data]]="","",Kredyt1[[#This Row],[Cała rata]]-Kredyt1[[#This Row],[Kapitał]]) -> 913.96891 | J101: {=IFERROR(-PPMT(Kredyt1[[#This Row],[Oprocentowanie]]/12,Kredyt1[[#This Row],[Miesiąc kredytu]],IlośćRat,KwotaKredytu),"")} -> 642.08007 | K101: {=IF(Kredyt1[[#This Row],[Miesiąc kredytu]]="","",-PMT(Kredyt1[[#This Row],[Oprocentowanie]]/12,IlośćRat,KwotaKredytu))} -> 1556.049 | L101: 0 | M101: =IFERROR(M100-J101-Kredyt1[[#This Row],[Nadpłata]],"") -> 273548.59
...

Sheet Wynik 
B2: Dane początkowe dotyczące wynajmu mieszkania | K2: Podsumownaie
B4: Horyzont Inwestycji | D4: 20 | E4: Ile lat w przód chcesz przeanalizować? Maksymalny horyzont inwestycji to 50 lat | K4: Zysk netto całkowity na koniec horyzontu inwestycyjnego | N4: {=IF(HoryzontInw>=1,SUM(OFFSET(Wyniki2!$AB$54,0,0,HoryzontInwestycyjny,1)),"")+N17} -> 381670.12 | Q4: Przy założeniu że mieszkanie jest wynajmowane i sprzedane na koniec horyzontu inwestycyjnego
K5: IRR (wewnętrzna stopa zwrotu) wg. zysku netto | N5: {=IRR(OFFSET($C$80, 0, 0, 1, HoryzontInw+1))} -> 0.075660787 | Q5: Średnia stopa zwrotu z całej inwestycji (najem + sprzedaż na koniec) w horyzoncie czasowym
B6: Przychody z najmu
B8: Średnioroczna inflacja w całym okresie inwestycji | D8: 0.03 | E8: Załóż jaka bedzie inflacja przez cały okres trwania inwestycji. Wartości dla poszczególnych lat można zmieniać w Tabeli wyników finansowych z tytułu najmu | K8: Wynik netto z najmu w horyzoncie inwestycji | N8: {=IF(HoryzontInw>=1, SUM(OFFSET($D$78, 0, 0, 1, HoryzontInw)), "")} -> 398361.83 | Q8: Nie brana jest pod uwagę wydana gotówka na zakup nieruchomości
K9: ROI w pierwszym roku inwestycji | N9: =D87 -> 0.025836592 | Q9: Zysk z najmu netto w stosunku do wszystkich kosztów poniesionych na inwestycję
B10: miesiące wynajmu w roku | D10: 12 | E10: Załóż przez ile miesięcy będziesz wynajmować mieszkanie w roku w którym nie ma remontów ani niezaplanowanych przestojów. Pamiętaj że ostrożnościowe podejście powinno zakładać 1 miesiąc pustostanu w roku.
K11: ROE w pierwszym roku inwestycji | N11: =D86 -> 0.6324921 | Q11: Zysk z najmu netto w stosunku do gotówki wydanej przez inwestora
B12: Kwota czynszu dla właściciela w 1 roku inwestycji miesięcznie | D12: 3200 | E12: Za ile chcesz wynajć mieszkanie na początku inwestycji? Czyszn właściciela to kwota przychodu właściciela, bez opłat za media oraz do administracji budynku.
K13: Wartość nieruchomości na koniec horyzontu inwestycji | N13: {=INDEX(D85:BA85,1,HoryzontInw)} -> 715430.47
B14: Zmiana Odstępnego w czasie | D14: inflacyjnie | E14: Wskaż o jaki wskaźnik ma zmieniać się odstępne co roku podczas trwania inwestycji. Dla poszczególnych lat możesz zmienić odstępne w Tabeli wyników finansowych z tytułu najmu
K15: Zmiana wartości nieruchomości | N15: {=INDEX(D85:BA85,1,HoryzontInw)-WartośćM} -> 307430.47 | Q15: O ile więcej warta jest nieruchomość na koniec horyzontu Inwestycji
B17: Stały % zmiany stawki | D17: 0.04 | E17: O taki % zmieni się kwota odstępnego | K17: Wynik na hipotetycznej transakcji sprzedaży nieruchomości | N17: {=IF(CzyKredyt="NIE",INDEX('Wynik '!D85:BA85,1,HoryzontInw)-SumaK,INDEX('Wynik '!D85:BA85,1,HoryzontInw)-SumaK-KosztyKredytu)} -> 375129.56 | Q17: Brane są pod uwagę koszty transakcyjne przy zakupie
B18: Stała kwota zmiany stawki | D18: 150 | E18: O tyle co roku zmieni się kwota odstępnego
K19: Payback period (okres zwrotu wydanej gotówki w latach) | N19: {=MATCH(1, (D88:BA88>0)*1, 0)} -> 2 | Q19: Po ilu latach najmu inwestor odzyska zainwestowany kapitał
B20: Koszty Najmu
B22: Co ile lat mały remont | D22: 0 | E22: Mały remont to lekkie odświerzenia, np. odmalowanie
B23: Czas trwania małego remontu (miesiące) | D23: 1 | E23: Załóż ile miesięcy będzie trwać Mały remont, mieszkanie będzie wtedy puste
B24: Koszt małego remontu | D24: 5000 | E24: Ile kosztować będzie Mały remont, kwota wyrażona wg. dzisiejszych kosztów | L24: Jeżeli masz mieszkanie na wynajem we Wrocławiu Domowik chętnie się nim zajmie. Ty możesz zarabiać pasywnie a my zajmiemy się wszystkim.
B26: Co ile lat dużu remont | D26: 0 | E26: Duży remont to np. remont łazienki, wymiana podłóg, wymiana instalacji.
B27: Czas trwania dużego remontu (miesiące) | D27: 2 | E27: Załóż ile miesięcy będzie trwać Duży remont, mieszkanie będzie wtedy puste
B28: Kost dużego remontu | D28: 20000 | E28: Ile kosztować będzie Duży remont, kwota wyrażona wg. dzisiejszych kosztów.
L29: Napisz do nas na: | O29: kontakt@domowik.pl
B30: Wysokość czynszu do wspólnoty miesięcznie | D30: 500 | E30: Czynsz należdy do administracji budynku na początku inwestycji
B31: Podatek od nieruchmości rocznie | D31: 400
B32: Inne koszty rocznie | D32: 150 | E32: np. wymiana zamków po wyporadzce najemców, internet
B33: Koszty Zarządzania Najmem | D33: 0.15
B34: Koszty uwzględniają inflację | D34: Tak | E34: Czy koszty mają być waloryzowane?
B35: Stawka podatku od przychodów do 100 tys. | D35: 0.085
B36: Staka podatku od przychodów powyżej 100 tys | D36: 0.125
B38: Zmiana wartości nieruchomości
B40: Zmiana wartości nieruchmości na przestrzeni lat | D40: inflacyjnie | E40: Wskaż o jaki wskaźnik ma zmieniać się wartość nieruchomości co roku podczas trwania inwestycji. Dla poszczególnych lat możesz zmienić odstępne w Tabeli wyników finansowych z tytułu najmu
B43: Stały % | D43: 0.01 | E43: O jaki % rocznie zmieni się wartość nieruchomości
B44: Stała kwota | D44: 50000 | E44: O jaką kwotę rocznie zmieni się wartość nieruchomości
B47: Tabela wyników finansowych z tytułu najmu
B49: Rok | C49: Początek inwestycji | D49: 1 | E49: 2 | F49: 3 | G49: 4 | H49: 5 | I49: 6 | J49: 7 | K49: 8 | L49: 9 | M49: 10 | N49: 11 | O49: 12 | P49: 13 | Q49: 14 | R49: 15 | S49: 16 | T49: 17 | U49: 18 | V49: 19 | W49: 20 | X49: 21 | Y49: 22 | Z49: 23 | AA49: 24 | AB49: 25 | AC49: 26 | AD49: 27 | AE49: 28 | AF49: 29 | AG49: 30 | AH49: 31 | AI49: 32 | AJ49: 33 | AK49: 34 | AL49: 35 | AM49: 36 | AN49: 37 | AO49: 38 | AP49: 39 | AQ49: 40 | AR49: 41 | AS49: 42 | AT49: 43 | AU49: 44 | AV49: 45 | AW49: 46 | AX49: 47 | AY49: 48 | AZ49: 49 | BA49: 50
B50: Przychody z wynajmu
B51: Inflacja | D51: 0 | E51: {=IF(ZmiOds="Inflacyjnie",Inf,0)} -> 0.03 | F51: {=IF(ZmiOds="Inflacyjnie",Inf,0)} -> 0.03 | G51: {=IF(ZmiOds="Inflacyjnie",Inf,0)} -> 0.03 | H51: {=IF(ZmiOds="Inflacyjnie",Inf,0)} -> 0.03 | I51: {=IF(ZmiOds="Inflacyjnie",Inf,0)} -> 0.03 | J51: {=IF(ZmiOds="Inflacyjnie",Inf,0)} -> 0.03 | K51: {=IF(ZmiOds="Inflacyjnie",Inf,0)} -> 0.03 | L51: {=IF(ZmiOds="Inflacyjnie",Inf,0)} -> 0.03 | ... BA51: {=IF(ZmiOds="Inflacyjnie",Inf,0)} -> 0.03
B52: Stały % zmiany stawki | D52: 0 | E52: {=ProcZmi} -> 0.04 | F52: {=ProcZmi} -> 0.04 | G52: {=ProcZmi} -> 0.04 | H52: {=ProcZmi} -> 0.04 | I52: {=ProcZmi} -> 0.04 | J52: {=ProcZmi} -> 0.04 | K52: {=ProcZmi} -> 0.04 | L52: {=ProcZmi} -> 0.04 | ... BA52: {=ProcZmi} -> 0.04
B53: Stała kwota zmiany stawki | D53: 0 | E53: {=KwoZmi} -> 150 | F53: {=KwoZmi} -> 150 | G53: {=KwoZmi} -> 150 | H53: {=KwoZmi} -> 150 | I53: {=KwoZmi} -> 150 | J53: {=KwoZmi} -> 150 | K53: {=KwoZmi} -> 150 | L53: {=KwoZmi} -> 150 | ... BA53: {=KwoZmi} -> 150
B54: Miesięczna stawka wynajmu | D54: {=Ods} -> 3200 | E54: {=IF(ZmiOds="bez zmian",'Wynik '!D54,IF(ZmiOds="inflacyjnie",'Wynik '!D54*(1+'Wynik '!E51),IF(ZmiOds="stały %",'Wynik '!D54*(1+'Wynik '!E52),IF(ZmiOds="stała kwota",'Wynik '!D54+'Wynik '!E53,'Wynik '!D54))))} -> 3296 | F54: {=IF(ZmiOds="bez zmian",'Wynik '!E54,IF(ZmiOds="inflacyjnie",'Wynik '!E54*(1+'Wynik '!F51),IF(ZmiOds="stały %",'Wynik '!E54*(1+'Wynik '!F52),IF(ZmiOds="stała kwota",'Wynik '!E54+'Wynik '!F53,'Wynik '!E54))))} -> 3394.88 | G54: {=IF(ZmiOds="bez zmian",'Wynik '!F54,IF(ZmiOds="inflacyjnie",'Wynik '!F54*(1+'Wynik '!G51),IF(ZmiOds="stały %",'Wynik '!F54*(1+'Wynik '!G52),IF(ZmiOds="stała kwota",'Wynik '!F54+'Wynik '!G53,'Wynik '!F54))))} -> 3496.7264 | H54: {=IF(ZmiOds="bez zmian",'Wynik '!G54,IF(ZmiOds="inflacyjnie",'Wynik '!G54*(1+'Wynik '!H51),IF(ZmiOds="stały %",'Wynik '!G54*(1+'Wynik '!H52),IF(ZmiOds="stała kwota",'Wynik '!G54+'Wynik '!H53,'Wynik '!G54))))} -> 3601.6282 | I54: {=IF(ZmiOds="bez zmian",'Wynik '!H54,IF(ZmiOds="inflacyjnie",'Wynik '!H54*(1+'Wynik '!I51),IF(ZmiOds="stały %",'Wynik '!H54*(1+'Wynik '!I52),IF(ZmiOds="stała kwota",'Wynik '!H54+'Wynik '!I53,'Wynik '!H54))))} -> 3709.677 | J54: {=IF(ZmiOds="bez zmian",'Wynik '!I54,IF(ZmiOds="inflacyjnie",'Wynik '!I54*(1+'Wynik '!J51),IF(ZmiOds="stały %",'Wynik '!I54*(1+'Wynik '!J52),IF(ZmiOds="stała kwota",'Wynik '!I54+'Wynik '!J53,'Wynik '!I54))))} -> 3820.9673 | K54: {=IF(ZmiOds="bez zmian",'Wynik '!J54,IF(ZmiOds="inflacyjnie",'Wynik '!J54*(1+'Wynik '!K51),IF(ZmiOds="stały %",'Wynik '!J54*(1+'Wynik '!K52),IF(ZmiOds="stała kwota",'Wynik '!J54+'Wynik '!K53,'Wynik '!J54))))} -> 3935.5964 | L54: {=IF(ZmiOds="bez zmian",'Wynik '!K54,IF(ZmiOds="inflacyjnie",'Wynik '!K54*(1+'Wynik '!L51),IF(ZmiOds="stały %",'Wynik '!K54*(1+'Wynik '!L52),IF(ZmiOds="stała kwota",'Wynik '!K54+'Wynik '!L53,'Wynik '!K54))))} -> 4053.6643 | ... BA54: {=IF(ZmiOds="bez zmian",'Wynik '!AZ54,IF(ZmiOds="inflacyjnie",'Wynik '!AZ54*(1+'Wynik '!BA51),IF(ZmiOds="stały %",'Wynik '!AZ54*(1+'Wynik '!BA52),IF(ZmiOds="stała kwota",'Wynik '!AZ54+'Wynik '!BA53,'Wynik '!AZ54))))} -> 13619.902
B55: Liczba wynajętych miesięcy w roku | D55: {=MAX(0, MieWyn - MAX(0, MAX(IFERROR(IF(MOD(D$49, Małrem) = 0, T_MałRem, 0),0),IFERROR(IF(MOD(D$49, DużRem) = 0, T_DużRem, 0),0)) - (12 - MieWyn)))} -> 12 | E55: {=MAX(0, MieWyn - MAX(0, MAX(IFERROR(IF(MOD(E$49, Małrem) = 0, T_MałRem, 0),0),IFERROR(IF(MOD(E$49, DużRem) = 0, T_DużRem, 0),0)) - (12 - MieWyn)))} -> 12 | F55: {=MAX(0, MieWyn - MAX(0, MAX(IFERROR(IF(MOD(F$49, Małrem) = 0, T_MałRem, 0),0),IFERROR(IF(MOD(F$49, DużRem) = 0, T_DużRem, 0),0)) - (12 - MieWyn)))} -> 12 | G55: {=MAX(0, MieWyn - MAX(0, MAX(IFERROR(IF(MOD(G$49, Małrem) = 0, T_MałRem, 0),0),IFERROR(IF(MOD(G$49, DużRem) = 0, T_DużRem, 0),0)) - (12 - MieWyn)))} -> 12 | H55: {=MAX(0, MieWyn - MAX(0, MAX(IFERROR(IF(MOD(H$49, Małrem) = 0, T_MałRem, 0),0),IFERROR(IF(MOD(H$49, DużRem) = 0, T_DużRem, 0),0)) - (12 - MieWyn)))} -> 12 | I55: {=MAX(0, MieWyn - MAX(0, MAX(IFERROR(IF(MOD(I$49, Małrem) = 0, T_MałRem, 0),0),IFERROR(IF(MOD(I$49, DużRem) = 0, T_DużRem, 0),0)) - (12 - MieWyn)))} -> 12 | J55: {=MAX(0, MieWyn - MAX(0, MAX(IFERROR(IF(MOD(J$49, Małrem) = 0, T_MałRem, 0),0),IFERROR(IF(MOD(J$49, DużRem) = 0, T_DużRem, 0),0)) - (12 - MieWyn)))} -> 12 | K55: {=MAX(0, MieWyn - MAX(0, MAX(IFERROR(IF(MOD(K$49, Małrem) = 0, T_MałRem, 0),0),IFERROR(IF(MOD(K$49, DużRem) = 0, T_DużRem, 0),0)) - (12 - MieWyn)))} -> 12 | ... BA55: {=MAX(0, MieWyn - MAX(0, MAX(IFERROR(IF(MOD(BA$49, Małrem) = 0, T_MałRem, 0),0),IFERROR(IF(MOD(BA$49, DużRem) = 0, T_DużRem, 0),0)) - (12 - MieWyn)))} -> 12
B56: Przychody z wynajmu | D56: =D54*D55+D54*D55*D51 -> 38400 | E56: =E54*E55+E54*E55*E51 -> 40738.56 | F56: =F54*F55+F54*F55*F51 -> 41960.717 | G56: =G54*G55+G54*G55*G51 -> 43219.538 | H56: =H54*H55+H54*H55*H51 -> 44516.124 | I56: =I54*I55+I54*I55*I51 -> 45851.608 | J56: =J54*J55+J54*J55*J51 -> 47227.156 | K56: =K54*K55+K54*K55*K51 -> 48643.971 | ... BA56: =BA54*BA55+BA54*BA55*BA51 -> 168341.99
B58: Wydatki
B59: Inflacja | D59: 0 | E59: {=Inf} -> 0.03 | F59: {=Inf} -> 0.03 | G59: {=Inf} -> 0.03 | H59: {=Inf} -> 0.03 | I59: {=Inf} -> 0.03 | J59: {=Inf} -> 0.03 | K59: {=Inf} -> 0.03 | L59: {=Inf} -> 0.03 | ... BA59: {=Inf} -> 0.03
B60: Cena mieszkania + remont początkowy | C60: {=CenaM+KosztRemontu} -> 324564.05
B61: Koszt zakupu | C61: =WydatkiPozaCenąM -> 7821.66
B62: Koszt zaciągnięcia kredytu | C62: =KosztyKredytu -> 7915.2
B63: Mały remont podczas najmu | D63: {=IF(OR(ISBLANK(Małrem),Małrem=0),0,IF(MOD(D49,Małrem)=0,K_MałRem*IF(KosInf="Tak",PRODUCT(1+INDEX(ObszarInf,1,1):INDEX(ObszarInf,1,D49-1)),1),0))} -> 0 | E63: {=IF(OR(ISBLANK(Małrem),Małrem=0),0,IF(MOD(E49,Małrem)=0,K_MałRem*IF(KosInf="Tak",PRODUCT(1+INDEX(ObszarInf,1,1):INDEX(ObszarInf,1,E49-1)),1),0))} -> 0 | F63: {=IF(OR(ISBLANK(Małrem),Małrem=0),0,IF(MOD(F49,Małrem)=0,K_MałRem*IF(KosInf="Tak",PRODUCT(1+INDEX(ObszarInf,1,1):INDEX(ObszarInf,1,F49-1)),1),0))} -> 0 | G63: {=IF(OR(ISBLANK(Małrem),Małrem=0),0,IF(MOD(G49,Małrem)=0,K_MałRem*IF(KosInf="Tak",PRODUCT(1+INDEX(ObszarInf,1,1):INDEX(ObszarInf,1,G49-1)),1),0))} -> 0 | H63: {=IF(OR(ISBLANK(Małrem),Małrem=0),0,IF(MOD(H49,Małrem)=0,K_MałRem*IF(KosInf="Tak",PRODUCT(1+INDEX(ObszarInf,1,1):INDEX(ObszarInf,1,H49-1)),1),0))} -> 0 | I63: {=IF(OR(ISBLANK(Małrem),Małrem=0),0,IF(MOD(I49,Małrem)=0,K_MałRem*IF(KosInf="Tak",PRODUCT(1+INDEX(ObszarInf,1,1):INDEX(ObszarInf,1,I49-1)),1),0))} -> 0 | J63: {=IF(OR(ISBLANK(Małrem),Małrem=0),0,IF(MOD(J49,Małrem)=0,K_MałRem*IF(KosInf="Tak",PRODUCT(1+INDEX(ObszarInf,1,1):INDEX(ObszarInf,1,J49-1)),1),0))} -> 0 | K63: {=IF(OR(ISBLANK(Małrem),Małrem=0),0,IF(MOD(K49,Małrem)=0,K_MałRem*IF(KosInf="Tak",PRODUCT(1+INDEX(ObszarInf,1,1):INDEX(ObszarInf,1,K49-1)),1),0))} -> 0 | ... BA63: {=IF(OR(ISBLANK(Małrem),Małrem=0),0,IF(MOD(BA49,Małrem)=0,K_MałRem*IF(KosInf="Tak",PRODUCT(1+INDEX(ObszarInf,1,1):INDEX(ObszarInf,1,BA49-1)),1),0))} -> 0
B64: Duże remont podczas najmu | D64: {=IF(OR(ISBLANK(DużRem),DużRem=0),0,IF(MOD(D49,DużRem)=0,K_DużRem*IF(KosInf="Tak",PRODUCT(1+INDEX(ObszarInf,1,1):INDEX(ObszarInf,1,D49-1)),1),0))} -> 0 | E64: {=IF(OR(ISBLANK(DużRem),DużRem=0),0,IF(MOD(E49,DużRem)=0,K_DużRem*IF(KosInf="Tak",PRODUCT(1+INDEX(ObszarInf,1,1):INDEX(ObszarInf,1,E49-1)),1),0))} -> 0 | F64: {=IF(OR(ISBLANK(DużRem),DużRem=0),0,IF(MOD(F49,DużRem)=0,K_DużRem*IF(KosInf="Tak",PRODUCT(1+INDEX(ObszarInf,1,1):INDEX(ObszarInf,1,F49-1)),1),0))} -> 0 | G64: {=IF(OR(ISBLANK(DużRem),DużRem=0),0,IF(MOD(G49,DużRem)=0,K_DużRem*IF(KosInf="Tak",PRODUCT(1+INDEX(ObszarInf,1,1):INDEX(ObszarInf,1,G49-1)),1),0))} -> 0 | H64: {=IF(OR(ISBLANK(DużRem),DużRem=0),0,IF(MOD(H49,DużRem)=0,K_DużRem*IF(KosInf="Tak",PRODUCT(1+INDEX(ObszarInf,1,1):INDEX(ObszarInf,1,H49-1)),1),0))} -> 0 | I64: {=IF(OR(ISBLANK(DużRem),DużRem=0),0,IF(MOD(I49,DużRem)=0,K_DużRem*IF(KosInf="Tak",PRODUCT(1+INDEX(ObszarInf,1,1):INDEX(ObszarInf,1,I49-1)),1),0))} -> 0 | J64: {=IF(OR(ISBLANK(DużRem),DużRem=0),0,IF(MOD(J49,DużRem)=0,K_DużRem*IF(KosInf="Tak",PRODUCT(1+INDEX(ObszarInf,1,1):INDEX(ObszarInf,1,J49-1)),1),0))} -> 0 | K64: {=IF(OR(ISBLANK(DużRem),DużRem=0),0,IF(MOD(K49,DużRem)=0,K_DużRem*IF(KosInf="Tak",PRODUCT(1+INDEX(ObszarInf,1,1):INDEX(ObszarInf,1,K49-1)),1),0))} -> 0 | ... BA64: {=IF(OR(ISBLANK(DużRem),DużRem=0),0,IF(MOD(BA49,DużRem)=0,K_DużRem*IF(KosInf="Tak",PRODUCT(1+INDEX(ObszarInf,1,1):INDEX(ObszarInf,1,BA49-1)),1),0))} -> 0
B65: Czynsz do administracji opłacany przez właściciela | D65: {=IF(12-D55>0, (12-D55) * Czynsz * IF(KosInf="Tak", PRODUCT(1+D$59:INDEX($D$59:D59, COLUMNS($D$59:D59)-1)), 1), 0)} -> 0 | E65: {=IF(12-E55>0, (12-E55) * Czynsz * IF(KosInf="Tak", PRODUCT(1+E$59:INDEX($D$59:E59, COLUMNS($D$59:E59)-1)), 1), 0)} -> 0 | F65: {=IF(12-F55>0, (12-F55) * Czynsz * IF(KosInf="Tak", PRODUCT(1+F$59:INDEX($D$59:F59, COLUMNS($D$59:F59)-1)), 1), 0)} -> 0 | G65: {=IF(12-G55>0, (12-G55) * Czynsz * IF(KosInf="Tak", PRODUCT(1+G$59:INDEX($D$59:G59, COLUMNS($D$59:G59)-1)), 1), 0)} -> 0 | H65: {=IF(12-H55>0, (12-H55) * Czynsz * IF(KosInf="Tak", PRODUCT(1+H$59:INDEX($D$59:H59, COLUMNS($D$59:H59)-1)), 1), 0)} -> 0 | I65: {=IF(12-I55>0, (12-I55) * Czynsz * IF(KosInf="Tak", PRODUCT(1+I$59:INDEX($D$59:I59, COLUMNS($D$59:I59)-1)), 1), 0)} -> 0 | J65: {=IF(12-J55>0, (12-J55) * Czynsz * IF(KosInf="Tak", PRODUCT(1+J$59:INDEX($D$59:J59, COLUMNS($D$59:J59)-1)), 1), 0)} -> 0 | K65: {=IF(12-K55>0, (12-K55) * Czynsz * IF(KosInf="Tak", PRODUCT(1+K$59:INDEX($D$59:K59, COLUMNS($D$59:K59)-1)), 1), 0)} -> 0 | ... BA65: {=IF(12-BA55>0, (12-BA55) * Czynsz * IF(KosInf="Tak", PRODUCT(1+BA$59:INDEX($D$59:BA59, COLUMNS($D$59:BA59)-1)), 1), 0)} -> 0
B66: Rata kredytu: odsetki | D66: =SUMIF(Kredyt!$E:$E,'Wynik '!D49,Kredyt!$I:$I) -> 12951.876 | E66: =SUMIF(Kredyt!$E:$E,'Wynik '!E49,Kredyt!$I:$I) -> 12718.806 | F66: =SUMIF(Kredyt!$E:$E,'Wynik '!F49,Kredyt!$I:$I) -> 12476.24 | G66: =SUMIF(Kredyt!$E:$E,'Wynik '!G49,Kredyt!$I:$I) -> 12223.791 | H66: =SUMIF(Kredyt!$E:$E,'Wynik '!H49,Kredyt!$I:$I) -> 11961.057 | I66: =SUMIF(Kredyt!$E:$E,'Wynik '!I49,Kredyt!$I:$I) -> 11687.619 | J66: =SUMIF(Kredyt!$E:$E,'Wynik '!J49,Kredyt!$I:$I) -> 11403.04 | K66: =SUMIF(Kredyt!$E:$E,'Wynik '!K49,Kredyt!$I:$I) -> 11106.868 | ... BA66: =SUMIF(Kredyt!$E:$E,'Wynik '!BA49,Kredyt!$I:$I) -> 0
B67: Rata kredytu: kapitał | D67: =SUMIF(Kredyt!$E:$E,'Wynik '!D49,Kredyt!$J:$J) -> 5720.7114 | E67: =SUMIF(Kredyt!$E:$E,'Wynik '!E49,Kredyt!$J:$J) -> 5953.782 | F67: =SUMIF(Kredyt!$E:$E,'Wynik '!F49,Kredyt!$J:$J) -> 6196.3482 | G67: =SUMIF(Kredyt!$E:$E,'Wynik '!G49,Kredyt!$J:$J) -> 6448.797 | H67: =SUMIF(Kredyt!$E:$E,'Wynik '!H49,Kredyt!$J:$J) -> 6711.531 | I67: =SUMIF(Kredyt!$E:$E,'Wynik '!I49,Kredyt!$J:$J) -> 6984.9691 | J67: =SUMIF(Kredyt!$E:$E,'Wynik '!J49,Kredyt!$J:$J) -> 7269.5475 | K67: =SUMIF(Kredyt!$E:$E,'Wynik '!K49,Kredyt!$J:$J) -> 7565.7201 | ... BA67: =SUMIF(Kredyt!$E:$E,'Wynik '!BA49,Kredyt!$J:$J) -> 0
B68: Rata kredytu | D68: =D66+D67 -> 18672.588 | E68: =E66+E67 -> 18672.588 | F68: =F66+F67 -> 18672.588 | G68: =G66+G67 -> 18672.588 | H68: =H66+H67 -> 18672.588 | I68: =I66+I67 -> 18672.588 | J68: =J66+J67 -> 18672.588 | K68: =K66+K67 -> 18672.588 | ... BA68: =BA66+BA67 -> 0
B69: Ubezpieczenie na życie | D69: {=IFERROR(INDEX(Kredyt!$M:$M,11+D49*12) * UbezŻyć,"")} -> 953.19635 | E69: {=IFERROR(INDEX(Kredyt!$M:$M,11+E49*12) * UbezŻyć,"")} -> 934.97479 | F69: {=IFERROR(INDEX(Kredyt!$M:$M,11+F49*12) * UbezŻyć,"")} -> 916.01085 | G69: {=IFERROR(INDEX(Kredyt!$M:$M,11+G49*12) * UbezŻyć,"")} -> 896.27429 | H69: {=IFERROR(INDEX(Kredyt!$M:$M,11+H49*12) * UbezŻyć,"")} -> 875.73363 | I69: {=IFERROR(INDEX(Kredyt!$M:$M,11+I49*12) * UbezŻyć,"")} -> 854.35612 | J69: {=IFERROR(INDEX(Kredyt!$M:$M,11+J49*12) * UbezŻyć,"")} -> 832.10765 | K69: {=IFERROR(INDEX(Kredyt!$M:$M,11+K49*12) * UbezŻyć,"")} -> 808.95275 | ... BA69: {=IFERROR(INDEX(Kredyt!$M:$M,11+BA49*12) * UbezŻyć,"")}
B70: Ubezpiczenie mieszkania | D70: {=IF(KosInf="Tak", UbezMiesz * PRODUCT(1+D$59:D$59), UbezMiesz)} -> 408 | E70: {=IF(KosInf="Tak", D70 * PRODUCT(1+E$59:E$59), UbezMiesz)} -> 420.24 | F70: {=IF(KosInf="Tak", E70 * PRODUCT(1+F$59:F$59), UbezMiesz)} -> 432.8472 | G70: {=IF(KosInf="Tak", F70 * PRODUCT(1+G$59:G$59), UbezMiesz)} -> 445.83262 | H70: {=IF(KosInf="Tak", G70 * PRODUCT(1+H$59:H$59), UbezMiesz)} -> 459.20759 | I70: {=IF(KosInf="Tak", H70 * PRODUCT(1+I$59:I$59), UbezMiesz)} -> 472.98382 | J70: {=IF(KosInf="Tak", I70 * PRODUCT(1+J$59:J$59), UbezMiesz)} -> 487.17334 | K70: {=IF(KosInf="Tak", J70 * PRODUCT(1+K$59:K$59), UbezMiesz)} -> 501.78854 | L70: {=IF(KosInf="Tak", K70 * PRODUCT(1+L$59:L$59), UbezMiesz)} -> 516.84219 | ... BA70: {=IF(KosInf="Tak", AZ70 * PRODUCT(1+BA$59:BA$59), UbezMiesz)} -> 1736.5375
B71: Podatek od nieruchomości | D71: {=IF(KosInf="Tak", PodNie * PRODUCT(1+D$59:D59), PodNie)} -> 400 | E71: {=IF(KosInf="Tak", D71 * PRODUCT(1+E$59:E59), PodNie)} -> 412 | F71: {=IF(KosInf="Tak", E71 * PRODUCT(1+F$59:F59), PodNie)} -> 424.36 | G71: {=IF(KosInf="Tak", F71 * PRODUCT(1+G$59:G59), PodNie)} -> 437.0908 | H71: {=IF(KosInf="Tak", G71 * PRODUCT(1+H$59:H59), PodNie)} -> 450.20352 | I71: {=IF(KosInf="Tak", H71 * PRODUCT(1+I$59:I59), PodNie)} -> 463.70963 | J71: {=IF(KosInf="Tak", I71 * PRODUCT(1+J$59:J59), PodNie)} -> 477.62092 | K71: {=IF(KosInf="Tak", J71 * PRODUCT(1+K$59:K59), PodNie)} -> 491.94955 | L71: {=IF(KosInf="Tak", K71 * PRODUCT(1+L$59:L59), PodNie)} -> 506.70803 | ... BA71: {=IF(KosInf="Tak", AZ71 * PRODUCT(1+BA$59:BA59), PodNie)} -> 1702.4878
B72: Zarząd | D72: {=Zarząd*D56} -> 5760 | E72: {=Zarząd*E56} -> 6110.784 | F72: {=Zarząd*F56} -> 6294.1075 | G72: {=Zarząd*G56} -> 6482.9307 | H72: {=Zarząd*H56} -> 6677.4187 | I72: {=Zarząd*I56} -> 6877.7412 | J72: {=Zarząd*J56} -> 7084.0735 | K72: {=Zarząd*K56} -> 7296.5957 | ... BA72: {=Zarząd*BA56} -> 25251.299
B73: Inne koszty | D73: {=IF(KosInf="Tak", InneKoszty * PRODUCT(1+D$59:D59), InneKoszty)} -> 150 | E73: {=IF(KosInf="Tak", D73 * PRODUCT(1+E$59:E59), InneKoszty)} -> 154.5 | F73: {=IF(KosInf="Tak", E73 * PRODUCT(1+F$59:F59), InneKoszty)} -> 159.135 | G73: {=IF(KosInf="Tak", F73 * PRODUCT(1+G$59:G59), InneKoszty)} -> 163.90905 | H73: {=IF(KosInf="Tak", G73 * PRODUCT(1+H$59:H59), InneKoszty)} -> 168.82632 | I73: {=IF(KosInf="Tak", H73 * PRODUCT(1+I$59:I59), InneKoszty)} -> 173.89111 | J73: {=IF(KosInf="Tak", I73 * PRODUCT(1+J$59:J59), InneKoszty)} -> 179.10784 | K73: {=IF(KosInf="Tak", J73 * PRODUCT(1+K$59:K59), InneKoszty)} -> 184.48108 | L73: {=IF(KosInf="Tak", K73 * PRODUCT(1+L$59:L59), InneKoszty)} -> 190.01551 | ... BA73: {=IF(KosInf="Tak", AZ73 * PRODUCT(1+BA$59:BA59), InneKoszty)} -> 638.43292
B74: Wydatki całkowite | C74: =SUM(C60:C73) -> 340300.91 | D74: =SUM(D63:D73)-D68 -> 26343.784 | E74: =SUM(E63:E73)-E68 -> 26705.087 | F74: =SUM(F63:F73)-F68 -> 26899.048 | G74: =SUM(G63:G73)-G68 -> 27098.625 | H74: =SUM(H63:H73)-H68 -> 27303.978 | I74: =SUM(I63:I73)-I68 -> 27515.27 | J74: =SUM(J63:J73)-J68 -> 27732.671 | K74: =SUM(K63:K73)-K68 -> 27956.355 | ... BA74: =SUM(BA63:BA73)-BA68 -> 29328.757
B76: Podatek od przychodu | C76: 0 | D76: =IF(D56<=100000, D56*8.5%, 100000*8.5% + (D56-100000)*12.5%) -> 3264 | E76: =IF(E56<=100000, E56*8.5%, 100000*8.5% + (E56-100000)*12.5%) -> 3462.7776 | F76: =IF(F56<=100000, F56*8.5%, 100000*8.5% + (F56-100000)*12.5%) -> 3566.6609 | G76: =IF(G56<=100000, G56*8.5%, 100000*8.5% + (G56-100000)*12.5%) -> 3673.6608 | H76: =IF(H56<=100000, H56*8.5%, 100000*8.5% + (H56-100000)*12.5%) -> 3783.8706 | I76: =IF(I56<=100000, I56*8.5%, 100000*8.5% + (I56-100000)*12.5%) -> 3897.3867 | J76: =IF(J56<=100000, J56*8.5%, 100000*8.5% + (J56-100000)*12.5%) -> 4014.3083 | K76: =IF(K56<=100000, K56*8.5%, 100000*8.5% + (K56-100000)*12.5%) -> 4134.7375 | ... BA76: =IF(BA56<=100000, BA56*8.5%, 100000*8.5% + (BA56-100000)*12.5%) -> 17042.749
B78: Zysk netto rocznie | D78: =D56-D74-D76 -> 8792.2158 | E78: =E56-E74-E76 -> 10570.696 | F78: =F56-F74-F76 -> 11495.007 | G78: =G56-G74-G76 -> 12447.252 | H78: =H56-H74-H76 -> 13428.276 | I78: =I56-I74-I76 -> 14438.952 | J78: =J56-J74-J76 -> 15480.177 | K78: =K56-K74-K76 -> 16552.878 | ... BA78: =BA56-BA74-BA76 -> 121970.49
B79: Skumulowany Zysk netto z najmu | D79: =D78 -> 8792.2158 | E79: =E78+D79 -> 19362.912 | F79: =F78+E79 -> 30857.919 | G79: =G78+F79 -> 43305.171 | H79: =H78+G79 -> 56733.448 | I79: =I78+H79 -> 71172.399 | J79: =J78+I79 -> 86652.576 | K79: =K78+J79 -> 103205.45 | L79: =L78+K79 -> 120863.46 | ... BA79: =BA78+AZ79 -> 2702222
B80: Przepływy pieniężne w danym roku | C80: =-C74 -> -340300.91 | D80: {=D78+IF((COLUMN()-COLUMN($D$78)+1)=HoryzontInw,D85,0)} -> 8792.2158 | E80: {=E78+IF((COLUMN()-COLUMN($D$78)+1)=HoryzontInw,E85,0)} -> 10570.696 | F80: {=F78+IF((COLUMN()-COLUMN($D$78)+1)=HoryzontInw,F85,0)} -> 11495.007 | G80: {=G78+IF((COLUMN()-COLUMN($D$78)+1)=HoryzontInw,G85,0)} -> 12447.252 | H80: {=H78+IF((COLUMN()-COLUMN($D$78)+1)=HoryzontInw,H85,0)} -> 13428.276 | I80: {=I78+IF((COLUMN()-COLUMN($D$78)+1)=HoryzontInw,I85,0)} -> 14438.952 | J80: {=J78+IF((COLUMN()-COLUMN($D$78)+1)=HoryzontInw,J85,0)} -> 15480.177 | K80: {=K78+IF((COLUMN()-COLUMN($D$78)+1)=HoryzontInw,K85,0)} -> 16552.878 | ... BA80: {=BA78+IF((COLUMN()-COLUMN($D$78)+1)=HoryzontInw,BA85,0)} -> 121970.49
B81: Zmiana wartość nieruchomości
B82: Zmiana wartości o wskazany poziom Inflacji | D82: =D51 -> 0 | E82: =E51 -> 0.03 | F82: =F51 -> 0.03 | G82: =G51 -> 0.03 | H82: =H51 -> 0.03 | I82: =I51 -> 0.03 | J82: =J51 -> 0.03 | K82: =K51 -> 0.03 | ... BA82: =BA51 -> 0.03
B83: Stały % zmiany warrtości | D83: 0 | E83: =StałyProcZmianWarNier -> 0.01 | F83: =StałyProcZmianWarNier -> 0.01 | G83: =StałyProcZmianWarNier -> 0.01 | H83: =StałyProcZmianWarNier -> 0.01 | I83: =StałyProcZmianWarNier -> 0.01 | J83: =StałyProcZmianWarNier -> 0.01 | K83: =StałyProcZmianWarNier -> 0.01 | L83: =StałyProcZmianWarNier -> 0.01 | ... BA83: =StałyProcZmianWarNier -> 0.01
B84: Stała kwota zmiany wartości | D84: 0 | E84: =StałaKwotaZmianyWartoNierucho -> 50000 | F84: =StałaKwotaZmianyWartoNierucho -> 50000 | G84: =StałaKwotaZmianyWartoNierucho -> 50000 | H84: =StałaKwotaZmianyWartoNierucho -> 50000 | I84: =StałaKwotaZmianyWartoNierucho -> 50000 | J84: =StałaKwotaZmianyWartoNierucho -> 50000 | K84: =StałaKwotaZmianyWartoNierucho -> 50000 | L84: =StałaKwotaZmianyWartoNierucho -> 50000 | ... BA84: =StałaKwotaZmianyWartoNierucho -> 50000
B85: Wartość nieruchomości | D85: =WartośćM -> 408000 | E85: =IF(WspółZmianyWartoNierucho="bez zmian",'Wynik '!D85,IF(WspółZmianyWartoNierucho="inflacyjnie",'Wynik '!D85*(1+E82),IF(WspółZmianyWartoNierucho="stały %",D85*(1+E83),IF(WspółZmianyWartoNierucho="stała kwota",D85+E84,D85)))) -> 420240 | F85: =IF(WspółZmianyWartoNierucho="bez zmian",'Wynik '!E85,IF(WspółZmianyWartoNierucho="inflacyjnie",'Wynik '!E85*(1+F82),IF(WspółZmianyWartoNierucho="stały %",E85*(1+F83),IF(WspółZmianyWartoNierucho="stała kwota",E85+F84,E85)))) -> 432847.2 | G85: =IF(WspółZmianyWartoNierucho="bez zmian",'Wynik '!F85,IF(WspółZmianyWartoNierucho="inflacyjnie",'Wynik '!F85*(1+G82),IF(WspółZmianyWartoNierucho="stały %",F85*(1+G83),IF(WspółZmianyWartoNierucho="stała kwota",F85+G84,F85)))) -> 445832.62 | H85: =IF(WspółZmianyWartoNierucho="bez zmian",'Wynik '!G85,IF(WspółZmianyWartoNierucho="inflacyjnie",'Wynik '!G85*(1+H82),IF(WspółZmianyWartoNierucho="stały %",G85*(1+H83),IF(WspółZmianyWartoNierucho="stała kwota",G85+H84,G85)))) -> 459207.59 | I85: =IF(WspółZmianyWartoNierucho="bez zmian",'Wynik '!H85,IF(WspółZmianyWartoNierucho="inflacyjnie",'Wynik '!H85*(1+I82),IF(WspółZmianyWartoNierucho="stały %",H85*(1+I83),IF(WspółZmianyWartoNierucho="stała kwota",H85+I84,H85)))) -> 472983.82 | J85: =IF(WspółZmianyWartoNierucho="bez zmian",'Wynik '!I85,IF(WspółZmianyWartoNierucho="inflacyjnie",'Wynik '!I85*(1+J82),IF(WspółZmianyWartoNierucho="stały %",I85*(1+J83),IF(WspółZmianyWartoNierucho="stała kwota",I85+J84,I85)))) -> 487173.34 | K85: =IF(WspółZmianyWartoNierucho="bez zmian",'Wynik '!J85,IF(WspółZmianyWartoNierucho="inflacyjnie",'Wynik '!J85*(1+K82),IF(WspółZmianyWartoNierucho="stały %",J85*(1+K83),IF(WspółZmianyWartoNierucho="stała kwota",J85+K84,J85)))) -> 501788.54 | L85: =IF(WspółZmianyWartoNierucho="bez zmian",'Wynik '!K85,IF(WspółZmianyWartoNierucho="inflacyjnie",'Wynik '!K85*(1+L82),IF(WspółZmianyWartoNierucho="stały %",K85*(1+L83),IF(WspółZmianyWartoNierucho="stała kwota",K85+L84,K85)))) -> 516842.19 | ... BA85: =IF(WspółZmianyWartoNierucho="bez zmian",'Wynik '!AZ85,IF(WspółZmianyWartoNierucho="inflacyjnie",'Wynik '!AZ85*(1+BA82),IF(WspółZmianyWartoNierucho="stały %",AZ85*(1+BA83),IF(WspółZmianyWartoNierucho="stała kwota",AZ85+BA84,AZ85)))) -> 1736537.5
B86: ROE z najmu | D86: {=D78/IF(CzyKredyt="Tak",WydanaGotówka2,WydanaGotówka1)} -> 0.6324921 | E86: {=E78/IF(CzyKredyt="Tak",WydanaGotówka2,WydanaGotówka1)} -> 0.76043193 | F86: {=F78/IF(CzyKredyt="Tak",WydanaGotówka2,WydanaGotówka1)} -> 0.82692482 | G86: {=G78/IF(CzyKredyt="Tak",WydanaGotówka2,WydanaGotówka1)} -> 0.89542715 | H86: {=H78/IF(CzyKredyt="Tak",WydanaGotówka2,WydanaGotówka1)} -> 0.9659998 | I86: {=I78/IF(CzyKredyt="Tak",WydanaGotówka2,WydanaGotówka1)} -> 1.0387055 | J86: {=J78/IF(CzyKredyt="Tak",WydanaGotówka2,WydanaGotówka1)} -> 1.1136089 | K86: {=K78/IF(CzyKredyt="Tak",WydanaGotówka2,WydanaGotówka1)} -> 1.1907766 | ... BA86: {=BA78/IF(CzyKredyt="Tak",WydanaGotówka2,WydanaGotówka1)} -> 8.7742806
B87: ROI z najmu | D87: {=D78/IF(CzyKredyt="Tak",SumaKosztówPoczątkowychInwestycji,SumaKosztów)} -> 0.025836592 | E87: {=E78/IF(CzyKredyt="Tak",SumaKosztówPoczątkowychInwestycji,SumaKosztów)} -> 0.03106279 | F87: {=F78/IF(CzyKredyt="Tak",SumaKosztówPoczątkowychInwestycji,SumaKosztów)} -> 0.03377895 | G87: {=G78/IF(CzyKredyt="Tak",SumaKosztówPoczątkowychInwestycji,SumaKosztów)} -> 0.036577193 | H87: {=H78/IF(CzyKredyt="Tak",SumaKosztówPoczątkowychInwestycji,SumaKosztów)} -> 0.039460007 | I87: {=I78/IF(CzyKredyt="Tak",SumaKosztówPoczątkowychInwestycji,SumaKosztów)} -> 0.042429953 | J87: {=J78/IF(CzyKredyt="Tak",SumaKosztówPoczątkowychInwestycji,SumaKosztów)} -> 0.045489673 | K87: {=K78/IF(CzyKredyt="Tak",SumaKosztówPoczątkowychInwestycji,SumaKosztów)} -> 0.048641886 | ... BA87: {=BA78/IF(CzyKredyt="Tak",SumaKosztówPoczątkowychInwestycji,SumaKosztów)} -> 0.35841951
B88: Payback period | D88: {=-IF(CzyKredyt="Tak",WydanaGotówka2,WydanaGotówka1)+D79} -> -5108.6942 | E88: {=-IF(CzyKredyt="Tak",WydanaGotówka2,WydanaGotówka1)+E79} -> 5462.0016 | F88: {=-IF(CzyKredyt="Tak",WydanaGotówka2,WydanaGotówka1)+F79} -> 16957.009 | G88: {=-IF(CzyKredyt="Tak",WydanaGotówka2,WydanaGotówka1)+G79} -> 29404.261 | H88: {=-IF(CzyKredyt="Tak",WydanaGotówka2,WydanaGotówka1)+H79} -> 42832.538 | I88: {=-IF(CzyKredyt="Tak",WydanaGotówka2,WydanaGotówka1)+I79} -> 57271.489 | J88: {=-IF(CzyKredyt="Tak",WydanaGotówka2,WydanaGotówka1)+J79} -> 72751.666 | K88: {=-IF(CzyKredyt="Tak",WydanaGotówka2,WydanaGotówka1)+K79} -> 89304.544 | ... BA88: {=-IF(CzyKredyt="Tak",WydanaGotówka2,WydanaGotówka1)+BA79} -> 2688321

Sheet Wyniki2
B2: Dane początkowe dotyczące wynajmu mieszkania | I2: Podsumowanie
B4: Horyzont Inwestycji | C4: 1 | D4: Ile lat w przód chcesz przeanalizować? Maksymalny horyzont inwestycji to 100 lat | L4: Zysk netto całkowity na koniec horyzontu inwestycyjnego | M4: {=IF(HoryzontInw>=1,SUM(OFFSET(AB54,0,0,HoryzontInwestycyjny,1)),"")+WynikNaSprzedażyNieruchomości} -> 74239.646 | N4: Przy założeniu że mieszkanie jest wynajmowane i sprzedane na koniec horyzontu inwestycyjnego
B6: Przychody z najmu | L6: IRR (wewnętrzna stopa zwrotu) wg. zysku netto | M6: =IRR(OFFSET(AH53, 0, 0, HoryzontInwestycyjny+1,1)) -> 0.21815882 | N6: Średnia stopa zwrotu z całej inwestycji (najem + sprzedaż na koniec) w horyzoncie czasowym. "Oprocentowanie netto (po podatku od przychodów kapitałowcych lokaty bankowej"
B8: Średnioroczna inflacja w całym okresie inwestycji | C8: 0.02 | D8: Załóż jaka bedzie inflacja przez cały okres trwania inwestycji. Wartości dla poszczególnych lat można zmieniać w Tabeli wyników finansowych z tytułu najmu | L8: Wynik netto z najmu w horyzoncie inwestycji | M8: {=IF(HoryzontInw>=1, SUM(OFFSET(AB54, 0, 0, HoryzontInwestycyjny, 1)), "")} -> 6540.5558 | N8: Nie brana jest pod uwagę wydana gotówka na zakup nieruchomości
B10: miesiące wynajmu w roku | C10: 11.8 | D10: Załóż przez ile miesięcy będziesz wynajmować mieszkanie w roku w którym nie ma remontów ani niezaplanowanych przestojów. Pamiętaj że ostrożnościowe podejście powinno zakładać 1 miesiąc pustostanu w roku. | L10: ROI w pierwszym roku inwestycji | M10: =AJ54 -> 0.019219919 | N10: Zysk z najmu netto w stosunku do wartości inwestycji (Koszty kredytu, zakupu + cena mieszkania)
B12: Kwota czynszu dla właściciela w 1 roku inwestycji miesięcznie | C12: 2500 | D12: Za ile chcesz wynajć mieszkanie na początku inwestycji? Czyszn właściciela to kwota przychodu właściciela, bez opłat za media oraz do administracji budynku. | L12: ROE w pierwszym roku inwestycji | M12: =AI54 -> 0.47051278 | N12: Zysk z najmu netto w stosunku do gotówki wydanej przez inwestora
B14: Zmiana Odstępnego w czasie | C14: inflacyjnie | D14: Wskaż o jaki wskaźnik ma zmieniać się odstępne co roku podczas trwania inwestycji. Dla poszczególnych lat możesz zmienić odstępne w Tabeli wyników finansowych z tytułu najmu | L14: Payback period (okres zwrotu wydanej gotówki w latach) | M14: =_xlfn.MINIFS(Tabela3[Rok],Tabela3[Payback period],">=0") -> 2 | N14: Po ilu latach najmu inwestor odzyska zainwestowany kapitał
L16: Wartość nieruchomości na koniec horyzontu inwestycji | M16: {=INDEX(Tabela3[Wartość nieruchomości],HoryzontInwestycyjny+1,1)} -> 408000
B17: Stały % zmiany stawki | C17: 0.04 | D17: O taki % zmieni się kwota odstępnego
B18: Stała kwota zmiany stawki | C18: 150 | D18: O tyle co roku zmieni się kwota odstępnego | L18: Zmiana wartości nieruchomości | M18: =M16-WartośćM -> 0 | N18: O ile więcej warta jest nieruchomość na koniec horyzontu Inwestycji
B20: Koszty Najmu | L20: Wynik na hipotetycznej transakcji sprzedaży nieruchomości | M20: {=IF(CzyKredyt="NIE",INDEX(Tabela3[Wartość nieruchomości],HoryzontInwestycyjny+1,1)-SumaK,INDEX(Tabela3[Wartość nieruchomości],HoryzontInwestycyjny+1,1)-SumaK-KosztyKredytu)} -> 67699.09 | N20: Brane są pod uwagę koszty transakcyjne przy zakupie
B22: Co ile lat mały remont | C22: 10 | D22: Mały remont to lekkie odświerzenia, np. odmalowanie
B23: Czas trwania małego remontu (miesiące) | C23: 1 | D23: Załóż ile miesięcy będzie trwać Mały remont, mieszkanie będzie wtedy puste
B24: Koszt małego remontu | C24: 5000 | D24: Ile kosztować będzie Mały remont, kwota wyrażona wg. dzisiejszych kosztów | I24: Jeżeli masz mieszkanie na wynajem we Wrocławiu Domowik chętnie się nim zajmie. Ty możesz zarabiać pasywnie a my zajmiemy się wszystkim.
B26: Co ile lat dużu remont | C26: 20 | D26: Duży remont to np. remont łazienki, wymiana podłóg, wymiana instalacji.
B27: Czas trwania dużego remontu (miesiące) | C27: 1 | D27: Załóż ile miesięcy będzie trwać Duży remont, mieszkanie będzie wtedy puste
B28: Kost dużego remontu | C28: 15000 | D28: Ile kosztować będzie Duży remont, kwota wyrażona wg. dzisiejszych kosztów.
B30: Wysokość czynszu do wspólnoty miesięcznie | C30: 300 | D30: Czynsz należdy do administracji budynku na początku inwestycji
B31: Podatek od nieruchmości rocznie | C31: 200
B32: Inne koszty rocznie | C32: 150 | D32: np. wymiana zamków po wyporadzce najemców, internet | I32: Napisz do nas na: | L32: kontakt@domowik.pl
B33: Koszty Zarządzania Najmem | C33: 0
B34: Koszty uwzględniają inflację | C34: Tak | D34: Czy koszty mają być waloryzowane?
B35: Stawka podatku od przychodów do 100 tys. | C35: 0.085
B36: Staka podatku od przychodów powyżej 100 tys | C36: 0.125
B38: Zmiana wartości nieruchomości
B40: Zmiana wartości nieruchmości na przestrzeni lat | C40: inflacyjnie | D40: Wskaż o jaki wskaźnik ma zmieniać się wartość nieruchomości co roku podczas trwania inwestycji. Dla poszczególnych lat możesz zmienić odstępne w Tabeli wyników finansowych z tytułu najmu
B43: Stały % | C43: 0.01 | D43: O jaki % rocznie zmieni się wartość nieruchomości
B44: Stała kwota | C44: 50000 | D44: O jaką kwotę rocznie zmieni się wartość nieruchomości
B50: Tabela wyników finansowych z tytułu najmu | G50: ,
D51: Przychody | J51: Koszty najmu | AB51: Wynik na najmie | AD51: Zmiana wartość nieruchomości
C52: Rok | D52: Inflacja | E52: Stały % zmiany stawki | F52: Stała kwota zmiany stawki | G52: Miesięczna stawka wynajmu | H52: Liczba wynajętych miesięcy w roku | I52: Przychody z wynajmu | J52: Inflacja2 | K52: Cena mieszkania + remont początkowy | L52: Koszt zakupu | M52: Koszt zaciągnięcia kredytu | N52: Mały remont podczas najmu | O52: Duże remont podczas najmu | P52: Czynsz do administracji opłacany przez właściciela | Q52: Rata kredytu: odsetki | R52: Rata kredytu: kapitał | S52: Rata kredytu | T52: Ubezpieczenie na życie | U52: Ubezpiczenie mieszkania | V52: Podatek od nieruchomości | W52: Zarząd | X52: Inne koszty | Y52: Wydatki związane z najmem całkowite | Z52: Podatek od przychodu | AA52: Wszystkie Koszty | AB52: Wynik z najmu netto rocznie | AC52: Skumulowany wynik z najmu netto z najmu | AD52: Inflacja3 | AE52: Stały % zmiany warrtości | AF52: Stała kwota zmiany wartości | AG52: Wartość nieruchomości | AH52: Przepływy pieniężne w danym roku | AI52: ROE z najmu | AJ52: ROI z najmu | AK52: Payback period
C53: Początek Inwestycji | K53: {=CenaM+KosztRemontu} -> 324564.05 | L53: =WydatkiPozaCenąM -> 7821.66 | M53: =KosztyKredytu -> 7915.2 | T53: {=IF(Tabela3[[#This Row],[Rok]]>HoryzontInwestycyjny,0,IFERROR(INDEX(Kredyt!$M:$M,11+Tabela3[[#This Row],[Rok]]*12) * UbezŻyć,""))} -> 0 | AA53: =Tabela3[[#This Row],[Wydatki związane z najmem całkowite]]+Tabela3[[#This Row],[Podatek od przychodu]] -> 0 | AH53: =-(Tabela3[[#This Row],[Cena mieszkania + remont początkowy]]+Tabela3[[#This Row],[Koszt zakupu]]+Tabela3[[#This Row],[Koszt zaciągnięcia kredytu]]) -> -340300.91
C54: 1 | D54: =IF(ZmianaOdstępnego="Inflacyjnie",Inflacja,0) -> 0.02 | E54: =ProcentZmianyOdstępnego -> 0.04 | F54: 0 | G54: =Odstępne -> 2500 | H54: =IF(Tabela3[[#This Row],[Rok]]>HoryzontInwestycyjny,0,MAX(0, MiesiąceNajmu - MAX(0, MAX(IFERROR(IF(MOD($C54, MałyRemont) = 0,Czas_MałyRemont, 0),0),IFERROR(IF(MOD($C54,DużyRemont) = 0,Czas_DużyRemont, 0),0)) - (12 -MiesiąceNajmu)))) -> 11.8 | I54: =G54*H54 -> 29500 | J54: =IF(Tabela3[[#This Row],[Rok]]>HoryzontInwestycyjny,"",IF(ZmianaKosztów="TAK",Inflacja,0)) -> 0.02 | N54: 0 | O54: 0 | P54: =IF(Tabela3[[#This Row],[Rok]]>HoryzontInwestycyjny,0,IF(12-Tabela3[[#This Row],[Liczba wynajętych miesięcy w roku]]>0, (12-Tabela3[[#This Row],[Liczba wynajętych miesięcy w roku]]) *CzynszWspólnoty,0)) -> 60 | Q54: =IF(Tabela3[[#This Row],[Rok]]>HoryzontInwestycyjny,0,SUMIF(Kredyt!$E:$E,Tabela3[[#This Row],[Rok]],Kredyt!$I:$I)) -> 12951.876 | R54: =IF(Tabela3[[#This Row],[Rok]]>HoryzontInwestycyjny,0,SUMIF(Kredyt!$E:$E,Tabela3[[#This Row],[Rok]],Kredyt!$J:$J)) -> 5720.7114 | S54: =Tabela3[[#This Row],[Rata kredytu: odsetki]]+Tabela3[[#This Row],[Rata kredytu: kapitał]] -> 18672.588 | T54: {=IF(Tabela3[[#This Row],[Rok]]>HoryzontInwestycyjny,0,IFERROR(INDEX(Kredyt!$M:$M,11+Tabela3[[#This Row],[Rok]]*12) * UbezŻyć,""))} -> 953.19635 | U54: {=IF(Tabela3[[#This Row],[Rok]]>HoryzontInwestycyjny,0,IF(CzasKredytu>=Tabela3[[#This Row],[Rok]],IF(ZmianaKosztów="Tak",UbezMiesz* PRODUCT(1+J54:J54), UbezMiesz),""))} -> 416.16 | V54: =PodatekOdNieruchomości -> 200 | W54: =KosztyZarządzania*Tabela3[[#This Row],[Przychody z wynajmu]] -> 0 | X54: =InneKosztyRocznie -> 150 | Y54: =SUM(Tabela3[[#This Row],[Cena mieszkania + remont początkowy]:[Inne koszty]])-Tabela3[[#This Row],[Rata kredytu]] -> 20451.944 | Z54: =IF(Tabela3[[#This Row],[Przychody z wynajmu]]<=100000, Tabela3[[#This Row],[Przychody z wynajmu]]*MałyPodatek, 100000*MałyPodatek + (Tabela3[[#This Row],[Przychody z wynajmu]]-100000)*DużyPodatek) -> 2507.5 | AA54: =Tabela3[[#This Row],[Wydatki związane z najmem całkowite]]+Tabela3[[#This Row],[Podatek od przychodu]] -> 22959.444 | AB54: =IF(Tabela3[[#This Row],[Rok]]>HoryzontInwestycyjny,0,Tabela3[[#This Row],[Przychody z wynajmu]]-Tabela3[[#This Row],[Wydatki związane z najmem całkowite]]-Tabela3[[#This Row],[Podatek od przychodu]]) -> 6540.5558 | AC54: =Tabela3[[#This Row],[Wynik z najmu netto rocznie]] -> 6540.5558 | AD54: =IF(Tabela3[[#This Row],[Rok]]>HoryzontInwestycyjny,"",IF(ZmianaWartościNieruchomości="Inflacyjnie",Inflacja,0)) -> 0.02 | AE54: =IF(Tabela3[[#This Row],[Rok]]>HoryzontInwestycyjny,"",StałyProcentZmianyWartościNieruchomości) -> 0.01 | AF54: =IF(Tabela3[[#This Row],[Rok]]>HoryzontInwestycyjny,"",StałaKwotaZmianyWartościNieruchomości) -> 50000 | AG54: =IF(Tabela3[[#This Row],[Rok]]>HoryzontInwestycyjny,0,WartośćM) -> 408000 | AH54: =IF(Tabela3[[#This Row],[Rok]]>HoryzontInwestycyjny,0,Tabela3[[#This Row],[Wynik z najmu netto rocznie]] + IF(Tabela3[[#This Row],[Rok]]=HoryzontInwestycyjny,Tabela3[[#This Row],[Wartość nieruchomości]], 0)) -> 414540.56 | AI54: {=Tabela3[[#This Row],[Wynik z najmu netto rocznie]]/IF(CzyKredyt="Tak",WydanaGotówka2,WydanaGotówka1)} -> 0.47051278 | AJ54: {=Tabela3[[#This Row],[Wynik z najmu netto rocznie]]/IF(CzyKredyt="Tak",SumaKosztówPoczątkowychInwestycji,SumaKosztów)} -> 0.019219919 | AK54: {=IF(Tabela3[[#This Row],[Rok]]>HoryzontInwestycyjny,0,-IF(CzyKredyt="Tak",WydanaGotówka2,WydanaGotówka1)+Tabela3[[#This Row],[Skumulowany wynik z najmu netto z najmu]])} -> -7360.3542
C55: 2 | D55: =IF(ZmianaOdstępnego="Inflacyjnie",Inflacja,0) -> 0.02 | E55: =ProcentZmianyOdstępnego -> 0.04 | F55: =KwotaZmianyOdstępnego -> 150 | G55: =IF(Tabela3[[#This Row],[Rok]]>HoryzontInwestycyjny,0,IF(ZmianaOdstępnego="bez zmian",G54,IF(ZmianaOdstępnego="inflacyjnie",G54*(1+Wyniki2!$D55),IF(ZmianaOdstępnego="stały %",G54*(1+Wyniki2!$E55),IF(ZmianaOdstępnego="stała kwota",G54+Wyniki2!$F55,))))) -> 0 | H55: =IF(Tabela3[[#This Row],[Rok]]>HoryzontInwestycyjny,0,MAX(0, MiesiąceNajmu - MAX(0, MAX(IFERROR(IF(MOD($C55, MałyRemont) = 0,Czas_MałyRemont, 0),0),IFERROR(IF(MOD($C55,DużyRemont) = 0,Czas_DużyRemont, 0),0)) - (12 -MiesiąceNajmu)))) -> 0 | I55: =G55*H55 -> 0 | J55: =IF(Tabela3[[#This Row],[Rok]]>HoryzontInwestycyjny,"",IF(ZmianaKosztów="TAK",Inflacja,0)) | N55: {=IF(Tabela3[[#This Row],[Rok]]>HoryzontInwestycyjny,0,IF(OR(ISBLANK(MałyRemont),MałyRemont=0),0,IF(MOD(Tabela3[[#This Row],[Rok]],MałyRemont)=0,Kwota_MałyRemont*IF(ZmianaKosztów="Tak",PRODUCT(1+INDEX(InflacjaWKażdymRoku,1,1):INDEX(InflacjaWKażdymRoku,Tabela3[[#This Row],[Rok]],1)),1),0)))} -> 0 | O55: {=IF(Tabela3[[#This Row],[Rok]]>HoryzontInwestycyjny,0,IF(OR(ISBLANK(DużyRemont),DużyRemont=0),0,IF(MOD(Tabela3[[#This Row],[Rok]],DużyRemont)=0,Kwota_DużyRemont*IF(ZmianaKosztów="Tak",PRODUCT(1+INDEX(InflacjaWKażdymRoku,1,1):INDEX(InflacjaWKażdymRoku,Tabela3[[#This Row],[Rok]],1)),1),0)))} -> 0 | P55: {=IF(Tabela3[[#This Row],[Rok]]>HoryzontInwestycyjny,0,IF(12-Tabela3[[#This Row],[Liczba wynajętych miesięcy w roku]]>0, (12-Tabela3[[#This Row],[Liczba wynajętych miesięcy w roku]]) *CzynszWspólnoty* IF(ZmianaKosztów="Tak", PRODUCT(1+J$54:INDEX($J$54:J55, ROWS($D$54:D55)-1)), 1), 0))} -> 0 | Q55: =IF(Tabela3[[#This Row],[Rok]]>HoryzontInwestycyjny,0,SUMIF(Kredyt!$E:$E,Tabela3[[#This Row],[Rok]],Kredyt!$I:$I)) -> 0 | R55: =IF(Tabela3[[#This Row],[Rok]]>HoryzontInwestycyjny,0,SUMIF(Kredyt!$E:$E,Tabela3[[#This Row],[Rok]],Kredyt!$J:$J)) -> 0 | S55: =Tabela3[[#This Row],[Rata kredytu: odsetki]]+Tabela3[[#This Row],[Rata kredytu: kapitał]] -> 0 | T55: {=IF(Tabela3[[#This Row],[Rok]]>HoryzontInwestycyjny,0,IFERROR(INDEX(Kredyt!$M:$M,11+Tabela3[[#This Row],[Rok]]*12) * UbezŻyć,""))} -> 0 | U55: {=IF(Tabela3[[#This Row],[Rok]]>HoryzontInwestycyjny,0,IF(CzasKredytu>=Tabela3[[#This Row],[Rok]],IF(ZmianaKosztów="Tak",UbezMiesz* PRODUCT(1+J55:J55), UbezMiesz),""))} -> 0 | V55: {=IF(Tabela3[[#This Row],[Rok]]>HoryzontInwestycyjny,0,IF(ZmianaKosztów="Tak", PodatekOdNieruchomości * PRODUCT(1+J$54:J54), PodNie))} -> 0 | W55: =KosztyZarządzania*Tabela3[[#This Row],[Przychody z wynajmu]] -> 0 | X55: {=IF(Tabela3[[#This Row],[Rok]]>HoryzontInwestycyjny,0,IF(ZmianaKosztów="Tak", InneKosztyRocznie* PRODUCT(1+J$55:J55), InneKosztyRocznie))} -> 0 | Y55: =SUM(Tabela3[[#This Row],[Cena mieszkania + remont początkowy]:[Inne koszty]])-Tabela3[[#This Row],[Rata kredytu]] -> 0 | Z55: =IF(Tabela3[[#This Row],[Przychody z wynajmu]]<=100000, Tabela3[[#This Row],[Przychody z wynajmu]]*MałyPodatek, 100000*MałyPodatek + (Tabela3[[#This Row],[Przychody z wynajmu]]-100000)*DużyPodatek) -> 0 | AA55: =Tabela3[[#This Row],[Wydatki związane z najmem całkowite]]+Tabela3[[#This Row],[Podatek od przychodu]] -> 0 | AB55: =IF(Tabela3[[#This Row],[Rok]]>HoryzontInwestycyjny,0,Tabela3[[#This Row],[Przychody z wynajmu]]-Tabela3[[#This Row],[Wydatki związane z najmem całkowite]]-Tabela3[[#This Row],[Podatek od przychodu]]) -> 0 | AC55: =IF(Tabela3[[#This Row],[Rok]]>HoryzontInwestycyjny,0,AC54+Tabela3[[#This Row],[Wynik z najmu netto rocznie]]) -> 0 | AD55: =IF(Tabela3[[#This Row],[Rok]]>HoryzontInwestycyjny,"",IF(ZmianaWartościNieruchomości="Inflacyjnie",Inflacja,0)) | AE55: =IF(Tabela3[[#This Row],[Rok]]>HoryzontInwestycyjny,"",StałyProcentZmianyWartościNieruchomości) | AF55: =IF(Tabela3[[#This Row],[Rok]]>HoryzontInwestycyjny,"",StałaKwotaZmianyWartościNieruchomości) | AG55: =IF(Tabela3[[#This Row],[Rok]]>HoryzontInwestycyjny,0,IF(ZmianaWartościNieruchomości="bez zmian",AG54,IF(ZmianaWartościNieruchomości="inflacyjnie",AG54*(1+Tabela3[[#This Row],[Inflacja3]]),IF(ZmianaWartościNieruchomości="stały %",AG54*(1+Tabela3[[#This Row],[Stały % zmiany warrtości]]),IF(ZmianaWartościNieruchomości="stała kwota",AG54+AF55,AG54))))) -> 0 | AH55: =IF(Tabela3[[#This Row],[Rok]]>HoryzontInwestycyjny,0,Tabela3[[#This Row],[Wynik z najmu netto rocznie]] + IF(Tabela3[[#This Row],[Rok]]=HoryzontInwestycyjny,Tabela3[[#This Row],[Wartość nieruchomości]], 0)) -> 0 | AI55: {=Tabela3[[#This Row],[Wynik z najmu netto rocznie]]/IF(CzyKredyt="Tak",WydanaGotówka2,WydanaGotówka1)} -> 0 | AJ55: {=Tabela3[[#This Row],[Wynik z najmu netto rocznie]]/IF(CzyKredyt="Tak",SumaKosztówPoczątkowychInwestycji,SumaKosztów)} -> 0 | AK55: {=IF(Tabela3[[#This Row],[Rok]]>HoryzontInwestycyjny,0,-IF(CzyKredyt="Tak",WydanaGotówka2,WydanaGotówka1)+Tabela3[[#This Row],[Skumulowany wynik z najmu netto z najmu]])} -> 0
C56: 3 | D56: =IF(ZmianaOdstępnego="Inflacyjnie",Inflacja,0) -> 0.02 | E56: =ProcentZmianyOdstępnego -> 0.04 | F56: =KwotaZmianyOdstępnego -> 150 | G56: =IF(Tabela3[[#This Row],[Rok]]>HoryzontInwestycyjny,0,IF(ZmianaOdstępnego="bez zmian",G55,IF(ZmianaOdstępnego="inflacyjnie",G55*(1+Wyniki2!$D56),IF(ZmianaOdstępnego="stały %",G55*(1+Wyniki2!$E56),IF(ZmianaOdstępnego="stała kwota",G55+Wyniki2!$F56,))))) -> 0 | H56: =IF(Tabela3[[#This Row],[Rok]]>HoryzontInwestycyjny,0,MAX(0, MiesiąceNajmu - MAX(0, MAX(IFERROR(IF(MOD($C56, MałyRemont) = 0,Czas_MałyRemont, 0),0),IFERROR(IF(MOD($C56,DużyRemont) = 0,Czas_DużyRemont, 0),0)) - (12 -MiesiąceNajmu)))) -> 0 | I56: =G56*H56 -> 0 | J56: =IF(Tabela3[[#This Row],[Rok]]>HoryzontInwestycyjny,"",IF(ZmianaKosztów="TAK",Inflacja,0)) | N56: {=IF(Tabela3[[#This Row],[Rok]]>HoryzontInwestycyjny,0,IF(OR(ISBLANK(MałyRemont),MałyRemont=0),0,IF(MOD(Tabela3[[#This Row],[Rok]],MałyRemont)=0,Kwota_MałyRemont*IF(ZmianaKosztów="Tak",PRODUCT(1+INDEX(InflacjaWKażdymRoku,1,1):INDEX(InflacjaWKażdymRoku,Tabela3[[#This Row],[Rok]],1)),1),0)))} -> 0 | O56: {=IF(Tabela3[[#This Row],[Rok]]>HoryzontInwestycyjny,0,IF(OR(ISBLANK(DużyRemont),DużyRemont=0),0,IF(MOD(Tabela3[[#This Row],[Rok]],DużyRemont)=0,Kwota_DużyRemont*IF(ZmianaKosztów="Tak",PRODUCT(1+INDEX(InflacjaWKażdymRoku,1,1):INDEX(InflacjaWKażdymRoku,Tabela3[[#This Row],[Rok]],1)),1),0)))} -> 0 | P56: {=IF(Tabela3[[#This Row],[Rok]]>HoryzontInwestycyjny,0,IF(12-Tabela3[[#This Row],[Liczba wynajętych miesięcy w roku]]>0, (12-Tabela3[[#This Row],[Liczba wynajętych miesięcy w roku]]) *CzynszWspólnoty* IF(ZmianaKosztów="Tak", PRODUCT(1+J$54:INDEX($J$54:J56, ROWS($D$54:D56)-1)), 1), 0))} -> 0 | Q56: =IF(Tabela3[[#This Row],[Rok]]>HoryzontInwestycyjny,0,SUMIF(Kredyt!$E:$E,Tabela3[[#This Row],[Rok]],Kredyt!$I:$I)) -> 0 | R56: =IF(Tabela3[[#This Row],[Rok]]>HoryzontInwestycyjny,0,SUMIF(Kredyt!$E:$E,Tabela3[[#This Row],[Rok]],Kredyt!$J:$J)) -> 0 | S56: =Tabela3[[#This Row],[Rata kredytu: odsetki]]+Tabela3[[#This Row],[Rata kredytu: kapitał]] -> 0 | T56: {=IF(Tabela3[[#This Row],[Rok]]>HoryzontInwestycyjny,0,IFERROR(INDEX(Kredyt!$M:$M,11+Tabela3[[#This Row],[Rok]]*12) * UbezŻyć,""))} -> 0 | U56: {=IF(Tabela3[[#This Row],[Rok]]>HoryzontInwestycyjny,0,IF(CzasKredytu>=Tabela3[[#This Row],[Rok]],IF(ZmianaKosztów="Tak",UbezMiesz* PRODUCT(1+J56:J56), UbezMiesz),""))} -> 0 | V56: {=IF(Tabela3[[#This Row],[Rok]]>HoryzontInwestycyjny,0,IF(ZmianaKosztów="Tak", PodatekOdNieruchomości * PRODUCT(1+J$54:J55), PodNie))} -> 0 | W56: =KosztyZarządzania*Tabela3[[#This Row],[Przychody z wynajmu]] -> 0 | X56: {=IF(Tabela3[[#This Row],[Rok]]>HoryzontInwestycyjny,0,IF(ZmianaKosztów="Tak", InneKosztyRocznie* PRODUCT(1+J$55:J56), InneKosztyRocznie))} -> 0 | Y56: =SUM(Tabela3[[#This Row],[Cena mieszkania + remont początkowy]:[Inne koszty]])-Tabela3[[#This Row],[Rata kredytu]] -> 0 | Z56: =IF(Tabela3[[#This Row],[Przychody z wynajmu]]<=100000, Tabela3[[#This Row],[Przychody z wynajmu]]*MałyPodatek, 100000*MałyPodatek + (Tabela3[[#This Row],[Przychody z wynajmu]]-100000)*DużyPodatek) -> 0 | AA56: =Tabela3[[#This Row],[Wydatki związane z najmem całkowite]]+Tabela3[[#This Row],[Podatek od przychodu]] -> 0 | AB56: =IF(Tabela3[[#This Row],[Rok]]>HoryzontInwestycyjny,0,Tabela3[[#This Row],[Przychody z wynajmu]]-Tabela3[[#This Row],[Wydatki związane z najmem całkowite]]-Tabela3[[#This Row],[Podatek od przychodu]]) -> 0 | AC56: =IF(Tabela3[[#This Row],[Rok]]>HoryzontInwestycyjny,0,AC55+Tabela3[[#This Row],[Wynik z najmu netto rocznie]]) -> 0 | AD56: =IF(Tabela3[[#This Row],[Rok]]>HoryzontInwestycyjny,"",IF(ZmianaWartościNieruchomości="Inflacyjnie",Inflacja,0)) | AE56: =IF(Tabela3[[#This Row],[Rok]]>HoryzontInwestycyjny,"",StałyProcentZmianyWartościNieruchomości) | AF56: =IF(Tabela3[[#This Row],[Rok]]>HoryzontInwestycyjny,"",StałaKwotaZmianyWartościNieruchomości) | AG56: =IF(Tabela3[[#This Row],[Rok]]>HoryzontInwestycyjny,0,IF(ZmianaWartościNieruchomości="bez zmian",AG55,IF(ZmianaWartościNieruchomości="inflacyjnie",AG55*(1+Tabela3[[#This Row],[Inflacja3]]),IF(ZmianaWartościNieruchomości="stały %",AG55*(1+Tabela3[[#This Row],[Stały % zmiany warrtości]]),IF(ZmianaWartościNieruchomości="stała kwota",AG55+AF56,AG55))))) -> 0 | AH56: =IF(Tabela3[[#This Row],[Rok]]>HoryzontInwestycyjny,0,Tabela3[[#This Row],[Wynik z najmu netto rocznie]] + IF(Tabela3[[#This Row],[Rok]]=HoryzontInwestycyjny,Tabela3[[#This Row],[Wartość nieruchomości]], 0)) -> 0 | AI56: {=Tabela3[[#This Row],[Wynik z najmu netto rocznie]]/IF(CzyKredyt="Tak",WydanaGotówka2,WydanaGotówka1)} -> 0 | AJ56: {=Tabela3[[#This Row],[Wynik z najmu netto rocznie]]/IF(CzyKredyt="Tak",SumaKosztówPoczątkowychInwestycji,SumaKosztów)} -> 0 | AK56: {=IF(Tabela3[[#This Row],[Rok]]>HoryzontInwestycyjny,0,-IF(CzyKredyt="Tak",WydanaGotówka2,WydanaGotówka1)+Tabela3[[#This Row],[Skumulowany wynik z najmu netto z najmu]])} -> 0
C57: 4 | D57: =IF(ZmianaOdstępnego="Inflacyjnie",Inflacja,0) -> 0.02 | E57: =ProcentZmianyOdstępnego -> 0.04 | F57: =KwotaZmianyOdstępnego -> 150 | G57: =IF(Tabela3[[#This Row],[Rok]]>HoryzontInwestycyjny,0,IF(ZmianaOdstępnego="bez zmian",G56,IF(ZmianaOdstępnego="inflacyjnie",G56*(1+Wyniki2!$D57),IF(ZmianaOdstępnego="stały %",G56*(1+Wyniki2!$E57),IF(ZmianaOdstępnego="stała kwota",G56+Wyniki2!$F57,))))) -> 0 | H57: =IF(Tabela3[[#This Row],[Rok]]>HoryzontInwestycyjny,0,MAX(0, MiesiąceNajmu - MAX(0, MAX(IFERROR(IF(MOD($C57, MałyRemont) = 0,Czas_MałyRemont, 0),0),IFERROR(IF(MOD($C57,DużyRemont) = 0,Czas_DużyRemont, 0),0)) - (12 -MiesiąceNajmu)))) -> 0 | I57: =G57*H57 -> 0 | J57: =IF(Tabela3[[#This Row],[Rok]]>HoryzontInwestycyjny,"",IF(ZmianaKosztów="TAK",Inflacja,0)) | N57: {=IF(Tabela3[[#This Row],[Rok]]>HoryzontInwestycyjny,0,IF(OR(ISBLANK(MałyRemont),MałyRemont=0),0,IF(MOD(Tabela3[[#This Row],[Rok]],MałyRemont)=0,Kwota_MałyRemont*IF(ZmianaKosztów="Tak",PRODUCT(1+INDEX(InflacjaWKażdymRoku,1,1):INDEX(InflacjaWKażdymRoku,Tabela3[[#This Row],[Rok]],1)),1),0)))} -> 0 | O57: {=IF(Tabela3[[#This Row],[Rok]]>HoryzontInwestycyjny,0,IF(OR(ISBLANK(DużyRemont),DużyRemont=0),0,IF(MOD(Tabela3[[#This Row],[Rok]],DużyRemont)=0,Kwota_DużyRemont*IF(ZmianaKosztów="Tak",PRODUCT(1+INDEX(InflacjaWKażdymRoku,1,1):INDEX(InflacjaWKażdymRoku,Tabela3[[#This Row],[Rok]],1)),1),0)))} -> 0 | P57: {=IF(Tabela3[[#This Row],[Rok]]>HoryzontInwestycyjny,0,IF(12-Tabela3[[#This Row],[Liczba wynajętych miesięcy w roku]]>0, (12-Tabela3[[#This Row],[Liczba wynajętych miesięcy w roku]]) *CzynszWspólnoty* IF(ZmianaKosztów="Tak", PRODUCT(1+J$54:INDEX($J$54:J57, ROWS($D$54:D57)-1)), 1), 0))} -> 0 | Q57: =IF(Tabela3[[#This Row],[Rok]]>HoryzontInwestycyjny,0,SUMIF(Kredyt!$E:$E,Tabela3[[#This Row],[Rok]],Kredyt!$I:$I)) -> 0 | R57: =IF(Tabela3[[#This Row],[Rok]]>HoryzontInwestycyjny,0,SUMIF(Kredyt!$E:$E,Tabela3[[#This Row],[Rok]],Kredyt!$J:$J)) -> 0 | S57: =Tabela3[[#This Row],[Rata kredytu: odsetki]]+Tabela3[[#This Row],[Rata kredytu: kapitał]] -> 0 | T57: {=IF(Tabela3[[#This Row],[Rok]]>HoryzontInwestycyjny,0,IFERROR(INDEX(Kredyt!$M:$M,11+Tabela3[[#This Row],[Rok]]*12) * UbezŻyć,""))} -> 0 | U57: {=IF(Tabela3[[#This Row],[Rok]]>HoryzontInwestycyjny,0,IF(CzasKredytu>=Tabela3[[#This Row],[Rok]],IF(ZmianaKosztów="Tak",UbezMiesz* PRODUCT(1+J57:J57), UbezMiesz),""))} -> 0 | V57: {=IF(Tabela3[[#This Row],[Rok]]>HoryzontInwestycyjny,0,IF(ZmianaKosztów="Tak", PodatekOdNieruchomości * PRODUCT(1+J$54:J56), PodNie))} -> 0 | W57: =KosztyZarządzania*Tabela3[[#This Row],[Przychody z wynajmu]] -> 0 | X57: {=IF(Tabela3[[#This Row],[Rok]]>HoryzontInwestycyjny,0,IF(ZmianaKosztów="Tak", InneKosztyRocznie* PRODUCT(1+J$55:J57), InneKosztyRocznie))} -> 0 | Y57: =SUM(Tabela3[[#This Row],[Cena mieszkania + remont początkowy]:[Inne koszty]])-Tabela3[[#This Row],[Rata kredytu]] -> 0 | Z57: =IF(Tabela3[[#This Row],[Przychody z wynajmu]]<=100000, Tabela3[[#This Row],[Przychody z wynajmu]]*MałyPodatek, 100000*MałyPodatek + (Tabela3[[#This Row],[Przychody z wynajmu]]-100000)*DużyPodatek) -> 0 | AA57: =Tabela3[[#This Row],[Wydatki związane z najmem całkowite]]+Tabela3[[#This Row],[Podatek od przychodu]] -> 0 | AB57: =IF(Tabela3[[#This Row],[Rok]]>HoryzontInwestycyjny,0,Tabela3[[#This Row],[Przychody z wynajmu]]-Tabela3[[#This Row],[Wydatki związane z najmem całkowite]]-Tabela3[[#This Row],[Podatek od przychodu]]) -> 0 | AC57: =IF(Tabela3[[#This Row],[Rok]]>HoryzontInwestycyjny,0,AC56+Tabela3[[#This Row],[Wynik z najmu netto rocznie]]) -> 0 | AD57: =IF(Tabela3[[#This Row],[Rok]]>HoryzontInwestycyjny,"",IF(ZmianaWartościNieruchomości="Inflacyjnie",Inflacja,0)) | AE57: =IF(Tabela3[[#This Row],[Rok]]>HoryzontInwestycyjny,"",StałyProcentZmianyWartościNieruchomości) | AF57: =IF(Tabela3[[#This Row],[Rok]]>HoryzontInwestycyjny,"",StałaKwotaZmianyWartościNieruchomości) | AG57: =IF(Tabela3[[#This Row],[Rok]]>HoryzontInwestycyjny,0,IF(ZmianaWartościNieruchomości="bez zmian",AG56,IF(ZmianaWartościNieruchomości="inflacyjnie",AG56*(1+Tabela3[[#This Row],[Inflacja3]]),IF(ZmianaWartościNieruchomości="stały %",AG56*(1+Tabela3[[#This Row],[Stały % zmiany warrtości]]),IF(ZmianaWartościNieruchomości="stała kwota",AG56+AF57,AG56))))) -> 0 | AH57: =IF(Tabela3[[#This Row],[Rok]]>HoryzontInwestycyjny,0,Tabela3[[#This Row],[Wynik z najmu netto rocznie]] + IF(Tabela3[[#This Row],[Rok]]=HoryzontInwestycyjny,Tabela3[[#This Row],[Wartość nieruchomości]], 0)) -> 0 | AI57: {=Tabela3[[#This Row],[Wynik z najmu netto rocznie]]/IF(CzyKredyt="Tak",WydanaGotówka2,WydanaGotówka1)} -> 0 | AJ57: {=Tabela3[[#This Row],[Wynik z najmu netto rocznie]]/IF(CzyKredyt="Tak",SumaKosztówPoczątkowychInwestycji,SumaKosztów)} -> 0 | AK57: {=IF(Tabela3[[#This Row],[Rok]]>HoryzontInwestycyjny,0,-IF(CzyKredyt="Tak",WydanaGotówka2,WydanaGotówka1)+Tabela3[[#This Row],[Skumulowany wynik z najmu netto z najmu]])} -> 0
C58: 5 | D58: =IF(ZmianaOdstępnego="Inflacyjnie",Inflacja,0) -> 0.02 | E58: =ProcentZmianyOdstępnego -> 0.04 | F58: =KwotaZmianyOdstępnego -> 150 | G58: =IF(Tabela3[[#This Row],[Rok]]>HoryzontInwestycyjny,0,IF(ZmianaOdstępnego="bez zmian",G57,IF(ZmianaOdstępnego="inflacyjnie",G57*(1+Wyniki2!$D58),IF(ZmianaOdstępnego="stały %",G57*(1+Wyniki2!$E58),IF(ZmianaOdstępnego="stała kwota",G57+Wyniki2!$F58,))))) -> 0 | H58: =IF(Tabela3[[#This Row],[Rok]]>HoryzontInwestycyjny,0,MAX(0, MiesiąceNajmu - MAX(0, MAX(IFERROR(IF(MOD($C58, MałyRemont) = 0,Czas_MałyRemont, 0),0),IFERROR(IF(MOD($C58,DużyRemont) = 0,Czas_DużyRemont, 0),0)) - (12 -MiesiąceNajmu)))) -> 0 | I58: =G58*H58 -> 0 | J58: =IF(Tabela3[[#This Row],[Rok]]>HoryzontInwestycyjny,"",IF(ZmianaKosztów="TAK",Inflacja,0)) | N58: {=IF(Tabela3[[#This Row],[Rok]]>HoryzontInwestycyjny,0,IF(OR(ISBLANK(MałyRemont),MałyRemont=0),0,IF(MOD(Tabela3[[#This Row],[Rok]],MałyRemont)=0,Kwota_MałyRemont*IF(ZmianaKosztów="Tak",PRODUCT(1+INDEX(InflacjaWKażdymRoku,1,1):INDEX(InflacjaWKażdymRoku,Tabela3[[#This Row],[Rok]],1)),1),0)))} -> 0 | O58: {=IF(Tabela3[[#This Row],[Rok]]>HoryzontInwestycyjny,0,IF(OR(ISBLANK(DużyRemont),DużyRemont=0),0,IF(MOD(Tabela3[[#This Row],[Rok]],DużyRemont)=0,Kwota_DużyRemont*IF(ZmianaKosztów="Tak",PRODUCT(1+INDEX(InflacjaWKażdymRoku,1,1):INDEX(InflacjaWKażdymRoku,Tabela3[[#This Row],[Rok]],1)),1),0)))} -> 0 | P58: {=IF(Tabela3[[#This Row],[Rok]]>HoryzontInwestycyjny,0,IF(12-Tabela3[[#This Row],[Liczba wynajętych miesięcy w roku]]>0, (12-Tabela3[[#This Row],[Liczba wynajętych miesięcy w roku]]) *CzynszWspólnoty* IF(ZmianaKosztów="Tak", PRODUCT(1+J$54:INDEX($J$54:J58, ROWS($D$54:D58)-1)), 1), 0))} -> 0 | Q58: =IF(Tabela3[[#This Row],[Rok]]>HoryzontInwestycyjny,0,SUMIF(Kredyt!$E:$E,Tabela3[[#This Row],[Rok]],Kredyt!$I:$I)) -> 0 | R58: =IF(Tabela3[[#This Row],[Rok]]>HoryzontInwestycyjny,0,SUMIF(Kredyt!$E:$E,Tabela3[[#This Row],[Rok]],Kredyt!$J:$J)) -> 0 | S58: =Tabela3[[#This Row],[Rata kredytu: odsetki]]+Tabela3[[#This Row],[Rata kredytu: kapitał]] -> 0 | T58: {=IF(Tabela3[[#This Row],[Rok]]>HoryzontInwestycyjny,0,IFERROR(INDEX(Kredyt!$M:$M,11+Tabela3[[#This Row],[Rok]]*12) * UbezŻyć,""))} -> 0 | U58: {=IF(Tabela3[[#This Row],[Rok]]>HoryzontInwestycyjny,0,IF(CzasKredytu>=Tabela3[[#This Row],[Rok]],IF(ZmianaKosztów="Tak",UbezMiesz* PRODUCT(1+J58:J58), UbezMiesz),""))} -> 0 | V58: {=IF(Tabela3[[#This Row],[Rok]]>HoryzontInwestycyjny,0,IF(ZmianaKosztów="Tak", PodatekOdNieruchomości * PRODUCT(1+J$54:J57), PodNie))} -> 0 | W58: =KosztyZarządzania*Tabela3[[#This Row],[Przychody z wynajmu]] -> 0 | X58: {=IF(Tabela3[[#This Row],[Rok]]>HoryzontInwestycyjny,0,IF(ZmianaKosztów="Tak", InneKosztyRocznie* PRODUCT(1+J$55:J58), InneKosztyRocznie))} -> 0 | Y58: =SUM(Tabela3[[#This Row],[Cena mieszkania + remont początkowy]:[Inne koszty]])-Tabela3[[#This Row],[Rata kredytu]] -> 0 | Z58: =IF(Tabela3[[#This Row],[Przychody z wynajmu]]<=100000, Tabela3[[#This Row],[Przychody z wynajmu]]*MałyPodatek, 100000*MałyPodatek + (Tabela3[[#This Row],[Przychody z wynajmu]]-100000)*DużyPodatek) -> 0 | AA58: =Tabela3[[#This Row],[Wydatki związane z najmem całkowite]]+Tabela3[[#This Row],[Podatek od przychodu]] -> 0 | AB58: =IF(Tabela3[[#This Row],[Rok]]>HoryzontInwestycyjny,0,Tabela3[[#This Row],[Przychody z wynajmu]]-Tabela3[[#This Row],[Wydatki związane z najmem całkowite]]-Tabela3[[#This Row],[Podatek od przychodu]]) -> 0 | AC58: =IF(Tabela3[[#This Row],[Rok]]>HoryzontInwestycyjny,0,AC57+Tabela3[[#This Row],[Wynik z najmu netto rocznie]]) -> 0 | AD58: =IF(Tabela3[[#This Row],[Rok]]>HoryzontInwestycyjny,"",IF(ZmianaWartościNieruchomości="Inflacyjnie",Inflacja,0)) | AE58: =IF(Tabela3[[#This Row],[Rok]]>HoryzontInwestycyjny,"",StałyProcentZmianyWartościNieruchomości) | AF58: =IF(Tabela3[[#This Row],[Rok]]>HoryzontInwestycyjny,"",StałaKwotaZmianyWartościNieruchomości) | AG58: =IF(Tabela3[[#This Row],[Rok]]>HoryzontInwestycyjny,0,IF(ZmianaWartościNieruchomości="bez zmian",AG57,IF(ZmianaWartościNieruchomości="inflacyjnie",AG57*(1+Tabela3[[#This Row],[Inflacja3]]),IF(ZmianaWartościNieruchomości="stały %",AG57*(1+Tabela3[[#This Row],[Stały % zmiany warrtości]]),IF(ZmianaWartościNieruchomości="stała kwota",AG57+AF58,AG57))))) -> 0 | AH58: =IF(Tabela3[[#This Row],[Rok]]>HoryzontInwestycyjny,0,Tabela3[[#This Row],[Wynik z najmu netto rocznie]] + IF(Tabela3[[#This Row],[Rok]]=HoryzontInwestycyjny,Tabela3[[#This Row],[Wartość nieruchomości]], 0)) -> 0 | AI58: {=Tabela3[[#This Row],[Wynik z najmu netto rocznie]]/IF(CzyKredyt="Tak",WydanaGotówka2,WydanaGotówka1)} -> 0 | AJ58: {=Tabela3[[#This Row],[Wynik z najmu netto rocznie]]/IF(CzyKredyt="Tak",SumaKosztówPoczątkowychInwestycji,SumaKosztów)} -> 0 | AK58: {=IF(Tabela3[[#This Row],[Rok]]>HoryzontInwestycyjny,0,-IF(CzyKredyt="Tak",WydanaGotówka2,WydanaGotówka1)+Tabela3[[#This Row],[Skumulowany wynik z najmu netto z najmu]])} -> 0
C59: 6 | D59: =IF(ZmianaOdstępnego="Inflacyjnie",Inflacja,0) -> 0.02 | E59: =ProcentZmianyOdstępnego -> 0.04 | F59: =KwotaZmianyOdstępnego -> 150 | G59: =IF(Tabela3[[#This Row],[Rok]]>HoryzontInwestycyjny,0,IF(ZmianaOdstępnego="bez zmian",G58,IF(ZmianaOdstępnego="inflacyjnie",G58*(1+Wyniki2!$D59),IF(ZmianaOdstępnego="stały %",G58*(1+Wyniki2!$E59),IF(ZmianaOdstępnego="stała kwota",G58+Wyniki2!$F59,))))) -> 0 | H59: =IF(Tabela3[[#This Row],[Rok]]>HoryzontInwestycyjny,0,MAX(0, MiesiąceNajmu - MAX(0, MAX(IFERROR(IF(MOD($C59, MałyRemont) = 0,Czas_MałyRemont, 0),0),IFERROR(IF(MOD($C59,DużyRemont) = 0,Czas_DużyRemont, 0),0)) - (12 -MiesiąceNajmu)))) -> 0 | I59: =G59*H59 -> 0 | J59: =IF(Tabela3[[#This Row],[Rok]]>HoryzontInwestycyjny,"",IF(ZmianaKosztów="TAK",Inflacja,0)) | N59: {=IF(Tabela3[[#This Row],[Rok]]>HoryzontInwestycyjny,0,IF(OR(ISBLANK(MałyRemont),MałyRemont=0),0,IF(MOD(Tabela3[[#This Row],[Rok]],MałyRemont)=0,Kwota_MałyRemont*IF(ZmianaKosztów="Tak",PRODUCT(1+INDEX(InflacjaWKażdymRoku,1,1):INDEX(InflacjaWKażdymRoku,Tabela3[[#This Row],[Rok]],1)),1),0)))} -> 0 | O59: {=IF(Tabela3[[#This Row],[Rok]]>HoryzontInwestycyjny,0,IF(OR(ISBLANK(DużyRemont),DużyRemont=0),0,IF(MOD(Tabela3[[#This Row],[Rok]],DużyRemont)=0,Kwota_DużyRemont*IF(ZmianaKosztów="Tak",PRODUCT(1+INDEX(InflacjaWKażdymRoku,1,1):INDEX(InflacjaWKażdymRoku,Tabela3[[#This Row],[Rok]],1)),1),0)))} -> 0 | P59: {=IF(Tabela3[[#This Row],[Rok]]>HoryzontInwestycyjny,0,IF(12-Tabela3[[#This Row],[Liczba wynajętych miesięcy w roku]]>0, (12-Tabela3[[#This Row],[Liczba wynajętych miesięcy w roku]]) *CzynszWspólnoty* IF(ZmianaKosztów="Tak", PRODUCT(1+J$54:INDEX($J$54:J59, ROWS($D$54:D59)-1)), 1), 0))} -> 0 | Q59: =IF(Tabela3[[#This Row],[Rok]]>HoryzontInwestycyjny,0,SUMIF(Kredyt!$E:$E,Tabela3[[#This Row],[Rok]],Kredyt!$I:$I)) -> 0 | R59: =IF(Tabela3[[#This Row],[Rok]]>HoryzontInwestycyjny,0,SUMIF(Kredyt!$E:$E,Tabela3[[#This Row],[Rok]],Kredyt!$J:$J)) -> 0 | S59: =Tabela3[[#This Row],[Rata kredytu: odsetki]]+Tabela3[[#This Row],[Rata kredytu: kapitał]] -> 0 | T59: {=IF(Tabela3[[#This Row],[Rok]]>HoryzontInwestycyjny,0,IFERROR(INDEX(Kredyt!$M:$M,11+Tabela3[[#This Row],[Rok]]*12) * UbezŻyć,""))} -> 0 | U59: {=IF(Tabela3[[#This Row],[Rok]]>HoryzontInwestycyjny,0,IF(CzasKredytu>=Tabela3[[#This Row],[Rok]],IF(ZmianaKosztów="Tak",UbezMiesz* PRODUCT(1+J59:J59), UbezMiesz),""))} -> 0 | V59: {=IF(Tabela3[[#This Row],[Rok]]>HoryzontInwestycyjny,0,IF(ZmianaKosztów="Tak", PodatekOdNieruchomości * PRODUCT(1+J$54:J58), PodNie))} -> 0 | W59: =KosztyZarządzania*Tabela3[[#This Row],[Przychody z wynajmu]] -> 0 | X59: {=IF(Tabela3[[#This Row],[Rok]]>HoryzontInwestycyjny,0,IF(ZmianaKosztów="Tak", InneKosztyRocznie* PRODUCT(1+J$55:J59), InneKosztyRocznie))} -> 0 | Y59: =SUM(Tabela3[[#This Row],[Cena mieszkania + remont początkowy]:[Inne koszty]])-Tabela3[[#This Row],[Rata kredytu]] -> 0 | Z59: =IF(Tabela3[[#This Row],[Przychody z wynajmu]]<=100000, Tabela3[[#This Row],[Przychody z wynajmu]]*MałyPodatek, 100000*MałyPodatek + (Tabela3[[#This Row],[Przychody z wynajmu]]-100000)*DużyPodatek) -> 0 | AA59: =Tabela3[[#This Row],[Wydatki związane z najmem całkowite]]+Tabela3[[#This Row],[Podatek od przychodu]] -> 0 | AB59: =IF(Tabela3[[#This Row],[Rok]]>HoryzontInwestycyjny,0,Tabela3[[#This Row],[Przychody z wynajmu]]-Tabela3[[#This Row],[Wydatki związane z najmem całkowite]]-Tabela3[[#This Row],[Podatek od przychodu]]) -> 0 | AC59: =IF(Tabela3[[#This Row],[Rok]]>HoryzontInwestycyjny,0,AC58+Tabela3[[#This Row],[Wynik z najmu netto rocznie]]) -> 0 | AD59: =IF(Tabela3[[#This Row],[Rok]]>HoryzontInwestycyjny,"",IF(ZmianaWartościNieruchomości="Inflacyjnie",Inflacja,0)) | AE59: =IF(Tabela3[[#This Row],[Rok]]>HoryzontInwestycyjny,"",StałyProcentZmianyWartościNieruchomości) | AF59: =IF(Tabela3[[#This Row],[Rok]]>HoryzontInwestycyjny,"",StałaKwotaZmianyWartościNieruchomości) | AG59: =IF(Tabela3[[#This Row],[Rok]]>HoryzontInwestycyjny,0,IF(ZmianaWartościNieruchomości="bez zmian",AG58,IF(ZmianaWartościNieruchomości="inflacyjnie",AG58*(1+Tabela3[[#This Row],[Inflacja3]]),IF(ZmianaWartościNieruchomości="stały %",AG58*(1+Tabela3[[#This Row],[Stały % zmiany warrtości]]),IF(ZmianaWartościNieruchomości="stała kwota",AG58+AF59,AG58))))) -> 0 | AH59: =IF(Tabela3[[#This Row],[Rok]]>HoryzontInwestycyjny,0,Tabela3[[#This Row],[Wynik z najmu netto rocznie]] + IF(Tabela3[[#This Row],[Rok]]=HoryzontInwestycyjny,Tabela3[[#This Row],[Wartość nieruchomości]], 0)) -> 0 | AI59: {=Tabela3[[#This Row],[Wynik z najmu netto rocznie]]/IF(CzyKredyt="Tak",WydanaGotówka2,WydanaGotówka1)} -> 0 | AJ59: {=Tabela3[[#This Row],[Wynik z najmu netto rocznie]]/IF(CzyKredyt="Tak",SumaKosztówPoczątkowychInwestycji,SumaKosztów)} -> 0 | AK59: {=IF(Tabela3[[#This Row],[Rok]]>HoryzontInwestycyjny,0,-IF(CzyKredyt="Tak",WydanaGotówka2,WydanaGotówka1)+Tabela3[[#This Row],[Skumulowany wynik z najmu netto z najmu]])} -> 0
C60: 7 | D60: =IF(ZmianaOdstępnego="Inflacyjnie",Inflacja,0) -> 0.02 | E60: =ProcentZmianyOdstępnego -> 0.04 | F60: =KwotaZmianyOdstępnego -> 150 | G60: =IF(Tabela3[[#This Row],[Rok]]>HoryzontInwestycyjny,0,IF(ZmianaOdstępnego="bez zmian",G59,IF(ZmianaOdstępnego="inflacyjnie",G59*(1+Wyniki2!$D60),IF(ZmianaOdstępnego="stały %",G59*(1+Wyniki2!$E60),IF(ZmianaOdstępnego="stała kwota",G59+Wyniki2!$F60,))))) -> 0 | H60: =IF(Tabela3[[#This Row],[Rok]]>HoryzontInwestycyjny,0,MAX(0, MiesiąceNajmu - MAX(0, MAX(IFERROR(IF(MOD($C60, MałyRemont) = 0,Czas_MałyRemont, 0),0),IFERROR(IF(MOD($C60,DużyRemont) = 0,Czas_DużyRemont, 0),0)) - (12 -MiesiąceNajmu)))) -> 0 | I60: =G60*H60 -> 0 | J60: =IF(Tabela3[[#This Row],[Rok]]>HoryzontInwestycyjny,"",IF(ZmianaKosztów="TAK",Inflacja,0)) | N60: {=IF(Tabela3[[#This Row],[Rok]]>HoryzontInwestycyjny,0,IF(OR(ISBLANK(MałyRemont),MałyRemont=0),0,IF(MOD(Tabela3[[#This Row],[Rok]],MałyRemont)=0,Kwota_MałyRemont*IF(ZmianaKosztów="Tak",PRODUCT(1+INDEX(InflacjaWKażdymRoku,1,1):INDEX(InflacjaWKażdymRoku,Tabela3[[#This Row],[Rok]],1)),1),0)))} -> 0 | O60: {=IF(Tabela3[[#This Row],[Rok]]>HoryzontInwestycyjny,0,IF(OR(ISBLANK(DużyRemont),DużyRemont=0),0,IF(MOD(Tabela3[[#This Row],[Rok]],DużyRemont)=0,Kwota_DużyRemont*IF(ZmianaKosztów="Tak",PRODUCT(1+INDEX(InflacjaWKażdymRoku,1,1):INDEX(InflacjaWKażdymRoku,Tabela3[[#This Row],[Rok]],1)),1),0)))} -> 0 | P60: {=IF(Tabela3[[#This Row],[Rok]]>HoryzontInwestycyjny,0,IF(12-Tabela3[[#This Row],[Liczba wynajętych miesięcy w roku]]>0, (12-Tabela3[[#This Row],[Liczba wynajętych miesięcy w roku]]) *CzynszWspólnoty* IF(ZmianaKosztów="Tak", PRODUCT(1+J$54:INDEX($J$54:J60, ROWS($D$54:D60)-1)), 1), 0))} -> 0 | Q60: =IF(Tabela3[[#This Row],[Rok]]>HoryzontInwestycyjny,0,SUMIF(Kredyt!$E:$E,Tabela3[[#This Row],[Rok]],Kredyt!$I:$I)) -> 0 | R60: =IF(Tabela3[[#This Row],[Rok]]>HoryzontInwestycyjny,0,SUMIF(Kredyt!$E:$E,Tabela3[[#This Row],[Rok]],Kredyt!$J:$J)) -> 0 | S60: =Tabela3[[#This Row],[Rata kredytu: odsetki]]+Tabela3[[#This Row],[Rata kredytu: kapitał]] -> 0 | T60: {=IF(Tabela3[[#This Row],[Rok]]>HoryzontInwestycyjny,0,IFERROR(INDEX(Kredyt!$M:$M,11+Tabela3[[#This Row],[Rok]]*12) * UbezŻyć,""))} -> 0 | U60: {=IF(Tabela3[[#This Row],[Rok]]>HoryzontInwestycyjny,0,IF(CzasKredytu>=Tabela3[[#This Row],[Rok]],IF(ZmianaKosztów="Tak",UbezMiesz* PRODUCT(1+J60:J60), UbezMiesz),""))} -> 0 | V60: {=IF(Tabela3[[#This Row],[Rok]]>HoryzontInwestycyjny,0,IF(ZmianaKosztów="Tak", PodatekOdNieruchomości * PRODUCT(1+J$54:J59), PodNie))} -> 0 | W60: =KosztyZarządzania*Tabela3[[#This Row],[Przychody z wynajmu]] -> 0 | X60: {=IF(Tabela3[[#This Row],[Rok]]>HoryzontInwestycyjny,0,IF(ZmianaKosztów="Tak", InneKosztyRocznie* PRODUCT(1+J$55:J60), InneKosztyRocznie))} -> 0 | Y60: =SUM(Tabela3[[#This Row],[Cena mieszkania + remont początkowy]:[Inne koszty]])-Tabela3[[#This Row],[Rata kredytu]] -> 0 | Z60: =IF(Tabela3[[#This Row],[Przychody z wynajmu]]<=100000, Tabela3[[#This Row],[Przychody z wynajmu]]*MałyPodatek, 100000*MałyPodatek + (Tabela3[[#This Row],[Przychody z wynajmu]]-100000)*DużyPodatek) -> 0 | AA60: =Tabela3[[#This Row],[Wydatki związane z najmem całkowite]]+Tabela3[[#This Row],[Podatek od przychodu]] -> 0 | AB60: =IF(Tabela3[[#This Row],[Rok]]>HoryzontInwestycyjny,0,Tabela3[[#This Row],[Przychody z wynajmu]]-Tabela3[[#This Row],[Wydatki związane z najmem całkowite]]-Tabela3[[#This Row],[Podatek od przychodu]]) -> 0 | AC60: =IF(Tabela3[[#This Row],[Rok]]>HoryzontInwestycyjny,0,AC59+Tabela3[[#This Row],[Wynik z najmu netto rocznie]]) -> 0 | AD60: =IF(Tabela3[[#This Row],[Rok]]>HoryzontInwestycyjny,"",IF(ZmianaWartościNieruchomości="Inflacyjnie",Inflacja,0)) | AE60: =IF(Tabela3[[#This Row],[Rok]]>HoryzontInwestycyjny,"",StałyProcentZmianyWartościNieruchomości) | AF60: =IF(Tabela3[[#This Row],[Rok]]>HoryzontInwestycyjny,"",StałaKwotaZmianyWartościNieruchomości) | AG60: =IF(Tabela3[[#This Row],[Rok]]>HoryzontInwestycyjny,0,IF(ZmianaWartościNieruchomości="bez zmian",AG59,IF(ZmianaWartościNieruchomości="inflacyjnie",AG59*(1+Tabela3[[#This Row],[Inflacja3]]),IF(ZmianaWartościNieruchomości="stały %",AG59*(1+Tabela3[[#This Row],[Stały % zmiany warrtości]]),IF(ZmianaWartościNieruchomości="stała kwota",AG59+AF60,AG59))))) -> 0 | AH60: =IF(Tabela3[[#This Row],[Rok]]>HoryzontInwestycyjny,0,Tabela3[[#This Row],[Wynik z najmu netto rocznie]] + IF(Tabela3[[#This Row],[Rok]]=HoryzontInwestycyjny,Tabela3[[#This Row],[Wartość nieruchomości]], 0)) -> 0 | AI60: {=Tabela3[[#This Row],[Wynik z najmu netto rocznie]]/IF(CzyKredyt="Tak",WydanaGotówka2,WydanaGotówka1)} -> 0 | AJ60: {=Tabela3[[#This Row],[Wynik z najmu netto rocznie]]/IF(CzyKredyt="Tak",SumaKosztówPoczątkowychInwestycji,SumaKosztów)} -> 0 | AK60: {=IF(Tabela3[[#This Row],[Rok]]>HoryzontInwestycyjny,0,-IF(CzyKredyt="Tak",WydanaGotówka2,WydanaGotówka1)+Tabela3[[#This Row],[Skumulowany wynik z najmu netto z najmu]])} -> 0
C61: 8 | D61: =IF(ZmianaOdstępnego="Inflacyjnie",Inflacja,0) -> 0.02 | E61: =ProcentZmianyOdstępnego -> 0.04 | F61: =KwotaZmianyOdstępnego -> 150 | G61: =IF(Tabela3[[#This Row],[Rok]]>HoryzontInwestycyjny,0,IF(ZmianaOdstępnego="bez zmian",G60,IF(ZmianaOdstępnego="inflacyjnie",G60*(1+Wyniki2!$D61),IF(ZmianaOdstępnego="stały %",G60*(1+Wyniki2!$E61),IF(ZmianaOdstępnego="stała kwota",G60+Wyniki2!$F61,))))) -> 0 | H61: =IF(Tabela3[[#This Row],[Rok]]>HoryzontInwestycyjny,0,MAX(0, MiesiąceNajmu - MAX(0, MAX(IFERROR(IF(MOD($C61, MałyRemont) = 0,Czas_MałyRemont, 0),0),IFERROR(IF(MOD($C61,DużyRemont) = 0,Czas_DużyRemont, 0),0)) - (12 -MiesiąceNajmu)))) -> 0 | I61: =G61*H61 -> 0 | J61: =IF(Tabela3[[#This Row],[Rok]]>HoryzontInwestycyjny,"",IF(ZmianaKosztów="TAK",Inflacja,0)) | N61: {=IF(Tabela3[[#This Row],[Rok]]>HoryzontInwestycyjny,0,IF(OR(ISBLANK(MałyRemont),MałyRemont=0),0,IF(MOD(Tabela3[[#This Row],[Rok]],MałyRemont)=0,Kwota_MałyRemont*IF(ZmianaKosztów="Tak",PRODUCT(1+INDEX(InflacjaWKażdymRoku,1,1):INDEX(InflacjaWKażdymRoku,Tabela3[[#This Row],[Rok]],1)),1),0)))} -> 0 | O61: {=IF(Tabela3[[#This Row],[Rok]]>HoryzontInwestycyjny,0,IF(OR(ISBLANK(DużyRemont),DużyRemont=0),0,IF(MOD(Tabela3[[#This Row],[Rok]],DużyRemont)=0,Kwota_DużyRemont*IF(ZmianaKosztów="Tak",PRODUCT(1+INDEX(InflacjaWKażdymRoku,1,1):INDEX(InflacjaWKażdymRoku,Tabela3[[#This Row],[Rok]],1)),1),0)))} -> 0 | P61: {=IF(Tabela3[[#This Row],[Rok]]>HoryzontInwestycyjny,0,IF(12-Tabela3[[#This Row],[Liczba wynajętych miesięcy w roku]]>0, (12-Tabela3[[#This Row],[Liczba wynajętych miesięcy w roku]]) *CzynszWspólnoty* IF(ZmianaKosztów="Tak", PRODUCT(1+J$54:INDEX($J$54:J61, ROWS($D$54:D61)-1)), 1), 0))} -> 0 | Q61: =IF(Tabela3[[#This Row],[Rok]]>HoryzontInwestycyjny,0,SUMIF(Kredyt!$E:$E,Tabela3[[#This Row],[Rok]],Kredyt!$I:$I)) -> 0 | R61: =IF(Tabela3[[#This Row],[Rok]]>HoryzontInwestycyjny,0,SUMIF(Kredyt!$E:$E,Tabela3[[#This Row],[Rok]],Kredyt!$J:$J)) -> 0 | S61: =Tabela3[[#This Row],[Rata kredytu: odsetki]]+Tabela3[[#This Row],[Rata kredytu: kapitał]] -> 0 | T61: {=IF(Tabela3[[#This Row],[Rok]]>HoryzontInwestycyjny,0,IFERROR(INDEX(Kredyt!$M:$M,11+Tabela3[[#This Row],[Rok]]*12) * UbezŻyć,""))} -> 0 | U61: {=IF(Tabela3[[#This Row],[Rok]]>HoryzontInwestycyjny,0,IF(CzasKredytu>=Tabela3[[#This Row],[Rok]],IF(ZmianaKosztów="Tak",UbezMiesz* PRODUCT(1+J61:J61), UbezMiesz),""))} -> 0 | V61: {=IF(Tabela3[[#This Row],[Rok]]>HoryzontInwestycyjny,0,IF(ZmianaKosztów="Tak", PodatekOdNieruchomości * PRODUCT(1+J$54:J60), PodNie))} -> 0 | W61: =KosztyZarządzania*Tabela3[[#This Row],[Przychody z wynajmu]] -> 0 | X61: {=IF(Tabela3[[#This Row],[Rok]]>HoryzontInwestycyjny,0,IF(ZmianaKosztów="Tak", InneKosztyRocznie* PRODUCT(1+J$55:J61), InneKosztyRocznie))} -> 0 | Y61: =SUM(Tabela3[[#This Row],[Cena mieszkania + remont początkowy]:[Inne koszty]])-Tabela3[[#This Row],[Rata kredytu]] -> 0 | Z61: =IF(Tabela3[[#This Row],[Przychody z wynajmu]]<=100000, Tabela3[[#This Row],[Przychody z wynajmu]]*MałyPodatek, 100000*MałyPodatek + (Tabela3[[#This Row],[Przychody z wynajmu]]-100000)*DużyPodatek) -> 0 | AA61: =Tabela3[[#This Row],[Wydatki związane z najmem całkowite]]+Tabela3[[#This Row],[Podatek od przychodu]] -> 0 | AB61: =IF(Tabela3[[#This Row],[Rok]]>HoryzontInwestycyjny,0,Tabela3[[#This Row],[Przychody z wynajmu]]-Tabela3[[#This Row],[Wydatki związane z najmem całkowite]]-Tabela3[[#This Row],[Podatek od przychodu]]) -> 0 | AC61: =IF(Tabela3[[#This Row],[Rok]]>HoryzontInwestycyjny,0,AC60+Tabela3[[#This Row],[Wynik z najmu netto rocznie]]) -> 0 | AD61: =IF(Tabela3[[#This Row],[Rok]]>HoryzontInwestycyjny,"",IF(ZmianaWartościNieruchomości="Inflacyjnie",Inflacja,0)) | AE61: =IF(Tabela3[[#This Row],[Rok]]>HoryzontInwestycyjny,"",StałyProcentZmianyWartościNieruchomości) | AF61: =IF(Tabela3[[#This Row],[Rok]]>HoryzontInwestycyjny,"",StałaKwotaZmianyWartościNieruchomości) | AG61: =IF(Tabela3[[#This Row],[Rok]]>HoryzontInwestycyjny,0,IF(ZmianaWartościNieruchomości="bez zmian",AG60,IF(ZmianaWartościNieruchomości="inflacyjnie",AG60*(1+Tabela3[[#This Row],[Inflacja3]]),IF(ZmianaWartościNieruchomości="stały %",AG60*(1+Tabela3[[#This Row],[Stały % zmiany warrtości]]),IF(ZmianaWartościNieruchomości="stała kwota",AG60+AF61,AG60))))) -> 0 | AH61: =IF(Tabela3[[#This Row],[Rok]]>HoryzontInwestycyjny,0,Tabela3[[#This Row],[Wynik z najmu netto rocznie]] + IF(Tabela3[[#This Row],[Rok]]=HoryzontInwestycyjny,Tabela3[[#This Row],[Wartość nieruchomości]], 0)) -> 0 | AI61: {=Tabela3[[#This Row],[Wynik z najmu netto rocznie]]/IF(CzyKredyt="Tak",WydanaGotówka2,WydanaGotówka1)} -> 0 | AJ61: {=Tabela3[[#This Row],[Wynik z najmu netto rocznie]]/IF(CzyKredyt="Tak",SumaKosztówPoczątkowychInwestycji,SumaKosztów)} -> 0 | AK61: {=IF(Tabela3[[#This Row],[Rok]]>HoryzontInwestycyjny,0,-IF(CzyKredyt="Tak",WydanaGotówka2,WydanaGotówka1)+Tabela3[[#This Row],[Skumulowany wynik z najmu netto z najmu]])} -> 0
C62: 9 | D62: =IF(ZmianaOdstępnego="Inflacyjnie",Inflacja,0) -> 0.02 | E62: =ProcentZmianyOdstępnego -> 0.04 | F62: =KwotaZmianyOdstępnego -> 150 | G62: =IF(Tabela3[[#This Row],[Rok]]>HoryzontInwestycyjny,0,IF(ZmianaOdstępnego="bez zmian",G61,IF(ZmianaOdstępnego="inflacyjnie",G61*(1+Wyniki2!$D62),IF(ZmianaOdstępnego="stały %",G61*(1+Wyniki2!$E62),IF(ZmianaOdstępnego="stała kwota",G61+Wyniki2!$F62,))))) -> 0 | H62: =IF(Tabela3[[#This Row],[Rok]]>HoryzontInwestycyjny,0,MAX(0, MiesiąceNajmu - MAX(0, MAX(IFERROR(IF(MOD($C62, MałyRemont) = 0,Czas_MałyRemont, 0),0),IFERROR(IF(MOD($C62,DużyRemont) = 0,Czas_DużyRemont, 0),0)) - (12 -MiesiąceNajmu)))) -> 0 | I62: =G62*H62 -> 0 | J62: =IF(Tabela3[[#This Row],[Rok]]>HoryzontInwestycyjny,"",IF(ZmianaKosztów="TAK",Inflacja,0)) | N62: {=IF(Tabela3[[#This Row],[Rok]]>HoryzontInwestycyjny,0,IF(OR(ISBLANK(MałyRemont),MałyRemont=0),0,IF(MOD(Tabela3[[#This Row],[Rok]],MałyRemont)=0,Kwota_MałyRemont*IF(ZmianaKosztów="Tak",PRODUCT(1+INDEX(InflacjaWKażdymRoku,1,1):INDEX(InflacjaWKażdymRoku,Tabela3[[#This Row],[Rok]],1)),1),0)))} -> 0 | O62: {=IF(Tabela3[[#This Row],[Rok]]>HoryzontInwestycyjny,0,IF(OR(ISBLANK(DużyRemont),DużyRemont=0),0,IF(MOD(Tabela3[[#This Row],[Rok]],DużyRemont)=0,Kwota_DużyRemont*IF(ZmianaKosztów="Tak",PRODUCT(1+INDEX(InflacjaWKażdymRoku,1,1):INDEX(InflacjaWKażdymRoku,Tabela3[[#This Row],[Rok]],1)),1),0)))} -> 0 | P62: {=IF(Tabela3[[#This Row],[Rok]]>HoryzontInwestycyjny,0,IF(12-Tabela3[[#This Row],[Liczba wynajętych miesięcy w roku]]>0, (12-Tabela3[[#This Row],[Liczba wynajętych miesięcy w roku]]) *CzynszWspólnoty* IF(ZmianaKosztów="Tak", PRODUCT(1+J$54:INDEX($J$54:J62, ROWS($D$54:D62)-1)), 1), 0))} -> 0 | Q62: =IF(Tabela3[[#This Row],[Rok]]>HoryzontInwestycyjny,0,SUMIF(Kredyt!$E:$E,Tabela3[[#This Row],[Rok]],Kredyt!$I:$I)) -> 0 | R62: =IF(Tabela3[[#This Row],[Rok]]>HoryzontInwestycyjny,0,SUMIF(Kredyt!$E:$E,Tabela3[[#This Row],[Rok]],Kredyt!$J:$J)) -> 0 | S62: =Tabela3[[#This Row],[Rata kredytu: odsetki]]+Tabela3[[#This Row],[Rata kredytu: kapitał]] -> 0 | T62: {=IF(Tabela3[[#This Row],[Rok]]>HoryzontInwestycyjny,0,IFERROR(INDEX(Kredyt!$M:$M,11+Tabela3[[#This Row],[Rok]]*12) * UbezŻyć,""))} -> 0 | U62: {=IF(Tabela3[[#This Row],[Rok]]>HoryzontInwestycyjny,0,IF(CzasKredytu>=Tabela3[[#This Row],[Rok]],IF(ZmianaKosztów="Tak",UbezMiesz* PRODUCT(1+J62:J62), UbezMiesz),""))} -> 0 | V62: {=IF(Tabela3[[#This Row],[Rok]]>HoryzontInwestycyjny,0,IF(ZmianaKosztów="Tak", PodatekOdNieruchomości * PRODUCT(1+J$54:J61), PodNie))} -> 0 | W62: =KosztyZarządzania*Tabela3[[#This Row],[Przychody z wynajmu]] -> 0 | X62: {=IF(Tabela3[[#This Row],[Rok]]>HoryzontInwestycyjny,0,IF(ZmianaKosztów="Tak", InneKosztyRocznie* PRODUCT(1+J$55:J62), InneKosztyRocznie))} -> 0 | Y62: =SUM(Tabela3[[#This Row],[Cena mieszkania + remont początkowy]:[Inne koszty]])-Tabela3[[#This Row],[Rata kredytu]] -> 0 | Z62: =IF(Tabela3[[#This Row],[Przychody z wynajmu]]<=100000, Tabela3[[#This Row],[Przychody z wynajmu]]*MałyPodatek, 100000*MałyPodatek + (Tabela3[[#This Row],[Przychody z wynajmu]]-100000)*DużyPodatek) -> 0 | AA62: =Tabela3[[#This Row],[Wydatki związane z najmem całkowite]]+Tabela3[[#This Row],[Podatek od przychodu]] -> 0 | AB62: =IF(Tabela3[[#This Row],[Rok]]>HoryzontInwestycyjny,0,Tabela3[[#This Row],[Przychody z wynajmu]]-Tabela3[[#This Row],[Wydatki związane z najmem całkowite]]-Tabela3[[#This Row],[Podatek od przychodu]]) -> 0 | AC62: =IF(Tabela3[[#This Row],[Rok]]>HoryzontInwestycyjny,0,AC61+Tabela3[[#This Row],[Wynik z najmu netto rocznie]]) -> 0 | AD62: =IF(Tabela3[[#This Row],[Rok]]>HoryzontInwestycyjny,"",IF(ZmianaWartościNieruchomości="Inflacyjnie",Inflacja,0)) | AE62: =IF(Tabela3[[#This Row],[Rok]]>HoryzontInwestycyjny,"",StałyProcentZmianyWartościNieruchomości) | AF62: =IF(Tabela3[[#This Row],[Rok]]>HoryzontInwestycyjny,"",StałaKwotaZmianyWartościNieruchomości) | AG62: =IF(Tabela3[[#This Row],[Rok]]>HoryzontInwestycyjny,0,IF(ZmianaWartościNieruchomości="bez zmian",AG61,IF(ZmianaWartościNieruchomości="inflacyjnie",AG61*(1+Tabela3[[#This Row],[Inflacja3]]),IF(ZmianaWartościNieruchomości="stały %",AG61*(1+Tabela3[[#This Row],[Stały % zmiany warrtości]]),IF(ZmianaWartościNieruchomości="stała kwota",AG61+AF62,AG61))))) -> 0 | AH62: =IF(Tabela3[[#This Row],[Rok]]>HoryzontInwestycyjny,0,Tabela3[[#This Row],[Wynik z najmu netto rocznie]] + IF(Tabela3[[#This Row],[Rok]]=HoryzontInwestycyjny,Tabela3[[#This Row],[Wartość nieruchomości]], 0)) -> 0 | AI62: {=Tabela3[[#This Row],[Wynik z najmu netto rocznie]]/IF(CzyKredyt="Tak",WydanaGotówka2,WydanaGotówka1)} -> 0 | AJ62: {=Tabela3[[#This Row],[Wynik z najmu netto rocznie]]/IF(CzyKredyt="Tak",SumaKosztówPoczątkowychInwestycji,SumaKosztów)} -> 0 | AK62: {=IF(Tabela3[[#This Row],[Rok]]>HoryzontInwestycyjny,0,-IF(CzyKredyt="Tak",WydanaGotówka2,WydanaGotówka1)+Tabela3[[#This Row],[Skumulowany wynik z najmu netto z najmu]])} -> 0
C63: 10 | D63: =IF(ZmianaOdstępnego="Inflacyjnie",Inflacja,0) -> 0.02 | E63: =ProcentZmianyOdstępnego -> 0.04 | F63: =KwotaZmianyOdstępnego -> 150 | G63: =IF(Tabela3[[#This Row],[Rok]]>HoryzontInwestycyjny,0,IF(ZmianaOdstępnego="bez zmian",G62,IF(ZmianaOdstępnego="inflacyjnie",G62*(1+Wyniki2!$D63),IF(ZmianaOdstępnego="stały %",G62*(1+Wyniki2!$E63),IF(ZmianaOdstępnego="stała kwota",G62+Wyniki2!$F63,))))) -> 0 | H63: =IF(Tabela3[[#This Row],[Rok]]>HoryzontInwestycyjny,0,MAX(0, MiesiąceNajmu - MAX(0, MAX(IFERROR(IF(MOD($C63, MałyRemont) = 0,Czas_MałyRemont, 0),0),IFERROR(IF(MOD($C63,DużyRemont) = 0,Czas_DużyRemont, 0),0)) - (12 -MiesiąceNajmu)))) -> 0 | I63: =G63*H63 -> 0 | J63: =IF(Tabela3[[#This Row],[Rok]]>HoryzontInwestycyjny,"",IF(ZmianaKosztów="TAK",Inflacja,0)) | N63: {=IF(Tabela3[[#This Row],[Rok]]>HoryzontInwestycyjny,0,IF(OR(ISBLANK(MałyRemont),MałyRemont=0),0,IF(MOD(Tabela3[[#This Row],[Rok]],MałyRemont)=0,Kwota_MałyRemont*IF(ZmianaKosztów="Tak",PRODUCT(1+INDEX(InflacjaWKażdymRoku,1,1):INDEX(InflacjaWKażdymRoku,Tabela3[[#This Row],[Rok]],1)),1),0)))} -> 0 | O63: {=IF(Tabela3[[#This Row],[Rok]]>HoryzontInwestycyjny,0,IF(OR(ISBLANK(DużyRemont),DużyRemont=0),0,IF(MOD(Tabela3[[#This Row],[Rok]],DużyRemont)=0,Kwota_DużyRemont*IF(ZmianaKosztów="Tak",PRODUCT(1+INDEX(InflacjaWKażdymRoku,1,1):INDEX(InflacjaWKażdymRoku,Tabela3[[#This Row],[Rok]],1)),1),0)))} -> 0 | P63: {=IF(Tabela3[[#This Row],[Rok]]>HoryzontInwestycyjny,0,IF(12-Tabela3[[#This Row],[Liczba wynajętych miesięcy w roku]]>0, (12-Tabela3[[#This Row],[Liczba wynajętych miesięcy w roku]]) *CzynszWspólnoty* IF(ZmianaKosztów="Tak", PRODUCT(1+J$54:INDEX($J$54:J63, ROWS($D$54:D63)-1)), 1), 0))} -> 0 | Q63: =IF(Tabela3[[#This Row],[Rok]]>HoryzontInwestycyjny,0,SUMIF(Kredyt!$E:$E,Tabela3[[#This Row],[Rok]],Kredyt!$I:$I)) -> 0 | R63: =IF(Tabela3[[#This Row],[Rok]]>HoryzontInwestycyjny,0,SUMIF(Kredyt!$E:$E,Tabela3[[#This Row],[Rok]],Kredyt!$J:$J)) -> 0 | S63: =Tabela3[[#This Row],[Rata kredytu: odsetki]]+Tabela3[[#This Row],[Rata kredytu: kapitał]] -> 0 | T63: {=IF(Tabela3[[#This Row],[Rok]]>HoryzontInwestycyjny,0,IFERROR(INDEX(Kredyt!$M:$M,11+Tabela3[[#This Row],[Rok]]*12) * UbezŻyć,""))} -> 0 | U63: {=IF(Tabela3[[#This Row],[Rok]]>HoryzontInwestycyjny,0,IF(CzasKredytu>=Tabela3[[#This Row],[Rok]],IF(ZmianaKosztów="Tak",UbezMiesz* PRODUCT(1+J63:J63), UbezMiesz),""))} -> 0 | V63: {=IF(Tabela3[[#This Row],[Rok]]>HoryzontInwestycyjny,0,IF(ZmianaKosztów="Tak", PodatekOdNieruchomości * PRODUCT(1+J$54:J62), PodNie))} -> 0 | W63: =KosztyZarządzania*Tabela3[[#This Row],[Przychody z wynajmu]] -> 0 | X63: {=IF(Tabela3[[#This Row],[Rok]]>HoryzontInwestycyjny,0,IF(ZmianaKosztów="Tak", InneKosztyRocznie* PRODUCT(1+J$55:J63), InneKosztyRocznie))} -> 0 | Y63: =SUM(Tabela3[[#This Row],[Cena mieszkania + remont początkowy]:[Inne koszty]])-Tabela3[[#This Row],[Rata kredytu]] -> 0 | Z63: =IF(Tabela3[[#This Row],[Przychody z wynajmu]]<=100000, Tabela3[[#This Row],[Przychody z wynajmu]]*MałyPodatek, 100000*MałyPodatek + (Tabela3[[#This Row],[Przychody z wynajmu]]-100000)*DużyPodatek) -> 0 | AA63: =Tabela3[[#This Row],[Wydatki związane z najmem całkowite]]+Tabela3[[#This Row],[Podatek od przychodu]] -> 0 | AB63: =IF(Tabela3[[#This Row],[Rok]]>HoryzontInwestycyjny,0,Tabela3[[#This Row],[Przychody z wynajmu]]-Tabela3[[#This Row],[Wydatki związane z najmem całkowite]]-Tabela3[[#This Row],[Podatek od przychodu]]) -> 0 | AC63: =IF(Tabela3[[#This Row],[Rok]]>HoryzontInwestycyjny,0,AC62+Tabela3[[#This Row],[Wynik z najmu netto rocznie]]) -> 0 | AD63: =IF(Tabela3[[#This Row],[Rok]]>HoryzontInwestycyjny,"",IF(ZmianaWartościNieruchomości="Inflacyjnie",Inflacja,0)) | AE63: =IF(Tabela3[[#This Row],[Rok]]>HoryzontInwestycyjny,"",StałyProcentZmianyWartościNieruchomości) | AF63: =IF(Tabela3[[#This Row],[Rok]]>HoryzontInwestycyjny,"",StałaKwotaZmianyWartościNieruchomości) | AG63: =IF(Tabela3[[#This Row],[Rok]]>HoryzontInwestycyjny,0,IF(ZmianaWartościNieruchomości="bez zmian",AG62,IF(ZmianaWartościNieruchomości="inflacyjnie",AG62*(1+Tabela3[[#This Row],[Inflacja3]]),IF(ZmianaWartościNieruchomości="stały %",AG62*(1+Tabela3[[#This Row],[Stały % zmiany warrtości]]),IF(ZmianaWartościNieruchomości="stała kwota",AG62+AF63,AG62))))) -> 0 | AH63: =IF(Tabela3[[#This Row],[Rok]]>HoryzontInwestycyjny,0,Tabela3[[#This Row],[Wynik z najmu netto rocznie]] + IF(Tabela3[[#This Row],[Rok]]=HoryzontInwestycyjny,Tabela3[[#This Row],[Wartość nieruchomości]], 0)) -> 0 | AI63: {=Tabela3[[#This Row],[Wynik z najmu netto rocznie]]/IF(CzyKredyt="Tak",WydanaGotówka2,WydanaGotówka1)} -> 0 | AJ63: {=Tabela3[[#This Row],[Wynik z najmu netto rocznie]]/IF(CzyKredyt="Tak",SumaKosztówPoczątkowychInwestycji,SumaKosztów)} -> 0 | AK63: {=IF(Tabela3[[#This Row],[Rok]]>HoryzontInwestycyjny,0,-IF(CzyKredyt="Tak",WydanaGotówka2,WydanaGotówka1)+Tabela3[[#This Row],[Skumulowany wynik z najmu netto z najmu]])} -> 0
C64: 11 | D64: =IF(ZmianaOdstępnego="Inflacyjnie",Inflacja,0) -> 0.02 | E64: =ProcentZmianyOdstępnego -> 0.04 | F64: =KwotaZmianyOdstępnego -> 150 | G64: =IF(Tabela3[[#This Row],[Rok]]>HoryzontInwestycyjny,0,IF(ZmianaOdstępnego="bez zmian",G63,IF(ZmianaOdstępnego="inflacyjnie",G63*(1+Wyniki2!$D64),IF(ZmianaOdstępnego="stały %",G63*(1+Wyniki2!$E64),IF(ZmianaOdstępnego="stała kwota",G63+Wyniki2!$F64,))))) -> 0 | H64: =IF(Tabela3[[#This Row],[Rok]]>HoryzontInwestycyjny,0,MAX(0, MiesiąceNajmu - MAX(0, MAX(IFERROR(IF(MOD($C64, MałyRemont) = 0,Czas_MałyRemont, 0),0),IFERROR(IF(MOD($C64,DużyRemont) = 0,Czas_DużyRemont, 0),0)) - (12 -MiesiąceNajmu)))) -> 0 | I64: =G64*H64 -> 0 | J64: =IF(Tabela3[[#This Row],[Rok]]>HoryzontInwestycyjny,"",IF(ZmianaKosztów="TAK",Inflacja,0)) | N64: {=IF(Tabela3[[#This Row],[Rok]]>HoryzontInwestycyjny,0,IF(OR(ISBLANK(MałyRemont),MałyRemont=0),0,IF(MOD(Tabela3[[#This Row],[Rok]],MałyRemont)=0,Kwota_MałyRemont*IF(ZmianaKosztów="Tak",PRODUCT(1+INDEX(InflacjaWKażdymRoku,1,1):INDEX(InflacjaWKażdymRoku,Tabela3[[#This Row],[Rok]],1)),1),0)))} -> 0 | O64: {=IF(Tabela3[[#This Row],[Rok]]>HoryzontInwestycyjny,0,IF(OR(ISBLANK(DużyRemont),DużyRemont=0),0,IF(MOD(Tabela3[[#This Row],[Rok]],DużyRemont)=0,Kwota_DużyRemont*IF(ZmianaKosztów="Tak",PRODUCT(1+INDEX(InflacjaWKażdymRoku,1,1):INDEX(InflacjaWKażdymRoku,Tabela3[[#This Row],[Rok]],1)),1),0)))} -> 0 | P64: {=IF(Tabela3[[#This Row],[Rok]]>HoryzontInwestycyjny,0,IF(12-Tabela3[[#This Row],[Liczba wynajętych miesięcy w roku]]>0, (12-Tabela3[[#This Row],[Liczba wynajętych miesięcy w roku]]) *CzynszWspólnoty* IF(ZmianaKosztów="Tak", PRODUCT(1+J$54:INDEX($J$54:J64, ROWS($D$54:D64)-1)), 1), 0))} -> 0 | Q64: =IF(Tabela3[[#This Row],[Rok]]>HoryzontInwestycyjny,0,SUMIF(Kredyt!$E:$E,Tabela3[[#This Row],[Rok]],Kredyt!$I:$I)) -> 0 | R64: =IF(Tabela3[[#This Row],[Rok]]>HoryzontInwestycyjny,0,SUMIF(Kredyt!$E:$E,Tabela3[[#This Row],[Rok]],Kredyt!$J:$J)) -> 0 | S64: =Tabela3[[#This Row],[Rata kredytu: odsetki]]+Tabela3[[#This Row],[Rata kredytu: kapitał]] -> 0 | T64: {=IF(Tabela3[[#This Row],[Rok]]>HoryzontInwestycyjny,0,IFERROR(INDEX(Kredyt!$M:$M,11+Tabela3[[#This Row],[Rok]]*12) * UbezŻyć,""))} -> 0 | U64: {=IF(Tabela3[[#This Row],[Rok]]>HoryzontInwestycyjny,0,IF(CzasKredytu>=Tabela3[[#This Row],[Rok]],IF(ZmianaKosztów="Tak",UbezMiesz* PRODUCT(1+J64:J64), UbezMiesz),""))} -> 0 | V64: {=IF(Tabela3[[#This Row],[Rok]]>HoryzontInwestycyjny,0,IF(ZmianaKosztów="Tak", PodatekOdNieruchomości * PRODUCT(1+J$54:J63), PodNie))} -> 0 | W64: =KosztyZarządzania*Tabela3[[#This Row],[Przychody z wynajmu]] -> 0 | X64: {=IF(Tabela3[[#This Row],[Rok]]>HoryzontInwestycyjny,0,IF(ZmianaKosztów="Tak", InneKosztyRocznie* PRODUCT(1+J$55:J64), InneKosztyRocznie))} -> 0 | Y64: =SUM(Tabela3[[#This Row],[Cena mieszkania + remont początkowy]:[Inne koszty]])-Tabela3[[#This Row],[Rata kredytu]] -> 0 | Z64: =IF(Tabela3[[#This Row],[Przychody z wynajmu]]<=100000, Tabela3[[#This Row],[Przychody z wynajmu]]*MałyPodatek, 100000*MałyPodatek + (Tabela3[[#This Row],[Przychody z wynajmu]]-100000)*DużyPodatek) -> 0 | AA64: =Tabela3[[#This Row],[Wydatki związane z najmem całkowite]]+Tabela3[[#This Row],[Podatek od przychodu]] -> 0 | AB64: =IF(Tabela3[[#This Row],[Rok]]>HoryzontInwestycyjny,0,Tabela3[[#This Row],[Przychody z wynajmu]]-Tabela3[[#This Row],[Wydatki związane z najmem całkowite]]-Tabela3[[#This Row],[Podatek od przychodu]]) -> 0 | AC64: =IF(Tabela3[[#This Row],[Rok]]>HoryzontInwestycyjny,0,AC63+Tabela3[[#This Row],[Wynik z najmu netto rocznie]]) -> 0 | AD64: =IF(Tabela3[[#This Row],[Rok]]>HoryzontInwestycyjny,"",IF(ZmianaWartościNieruchomości="Inflacyjnie",Inflacja,0)) | AE64: =IF(Tabela3[[#This Row],[Rok]]>HoryzontInwestycyjny,"",StałyProcentZmianyWartościNieruchomości) | AF64: =IF(Tabela3[[#This Row],[Rok]]>HoryzontInwestycyjny,"",StałaKwotaZmianyWartościNieruchomości) | AG64: =IF(Tabela3[[#This Row],[Rok]]>HoryzontInwestycyjny,0,IF(ZmianaWartościNieruchomości="bez zmian",AG63,IF(ZmianaWartościNieruchomości="inflacyjnie",AG63*(1+Tabela3[[#This Row],[Inflacja3]]),IF(ZmianaWartościNieruchomości="stały %",AG63*(1+Tabela3[[#This Row],[Stały % zmiany warrtości]]),IF(ZmianaWartościNieruchomości="stała kwota",AG63+AF64,AG63))))) -> 0 | AH64: =IF(Tabela3[[#This Row],[Rok]]>HoryzontInwestycyjny,0,Tabela3[[#This Row],[Wynik z najmu netto rocznie]] + IF(Tabela3[[#This Row],[Rok]]=HoryzontInwestycyjny,Tabela3[[#This Row],[Wartość nieruchomości]], 0)) -> 0 | AI64: {=Tabela3[[#This Row],[Wynik z najmu netto rocznie]]/IF(CzyKredyt="Tak",WydanaGotówka2,WydanaGotówka1)} -> 0 | AJ64: {=Tabela3[[#This Row],[Wynik z najmu netto rocznie]]/IF(CzyKredyt="Tak",SumaKosztówPoczątkowychInwestycji,SumaKosztów)} -> 0 | AK64: {=IF(Tabela3[[#This Row],[Rok]]>HoryzontInwestycyjny,0,-IF(CzyKredyt="Tak",WydanaGotówka2,WydanaGotówka1)+Tabela3[[#This Row],[Skumulowany wynik z najmu netto z najmu]])} -> 0
C65: 12 | D65: =IF(ZmianaOdstępnego="Inflacyjnie",Inflacja,0) -> 0.02 | E65: =ProcentZmianyOdstępnego -> 0.04 | F65: =KwotaZmianyOdstępnego -> 150 | G65: =IF(Tabela3[[#This Row],[Rok]]>HoryzontInwestycyjny,0,IF(ZmianaOdstępnego="bez zmian",G64,IF(ZmianaOdstępnego="inflacyjnie",G64*(1+Wyniki2!$D65),IF(ZmianaOdstępnego="stały %",G64*(1+Wyniki2!$E65),IF(ZmianaOdstępnego="stała kwota",G64+Wyniki2!$F65,))))) -> 0 | H65: =IF(Tabela3[[#This Row],[Rok]]>HoryzontInwestycyjny,0,MAX(0, MiesiąceNajmu - MAX(0, MAX(IFERROR(IF(MOD($C65, MałyRemont) = 0,Czas_MałyRemont, 0),0),IFERROR(IF(MOD($C65,DużyRemont) = 0,Czas_DużyRemont, 0),0)) - (12 -MiesiąceNajmu)))) -> 0 | I65: =G65*H65 -> 0 | J65: =IF(Tabela3[[#This Row],[Rok]]>HoryzontInwestycyjny,"",IF(ZmianaKosztów="TAK",Inflacja,0)) | N65: {=IF(Tabela3[[#This Row],[Rok]]>HoryzontInwestycyjny,0,IF(OR(ISBLANK(MałyRemont),MałyRemont=0),0,IF(MOD(Tabela3[[#This Row],[Rok]],MałyRemont)=0,Kwota_MałyRemont*IF(ZmianaKosztów="Tak",PRODUCT(1+INDEX(InflacjaWKażdymRoku,1,1):INDEX(InflacjaWKażdymRoku,Tabela3[[#This Row],[Rok]],1)),1),0)))} -> 0 | O65: {=IF(Tabela3[[#This Row],[Rok]]>HoryzontInwestycyjny,0,IF(OR(ISBLANK(DużyRemont),DużyRemont=0),0,IF(MOD(Tabela3[[#This Row],[Rok]],DużyRemont)=0,Kwota_DużyRemont*IF(ZmianaKosztów="Tak",PRODUCT(1+INDEX(InflacjaWKażdymRoku,1,1):INDEX(InflacjaWKażdymRoku,Tabela3[[#This Row],[Rok]],1)),1),0)))} -> 0 | P65: {=IF(Tabela3[[#This Row],[Rok]]>HoryzontInwestycyjny,0,IF(12-Tabela3[[#This Row],[Liczba wynajętych miesięcy w roku]]>0, (12-Tabela3[[#This Row],[Liczba wynajętych miesięcy w roku]]) *CzynszWspólnoty* IF(ZmianaKosztów="Tak", PRODUCT(1+J$54:INDEX($J$54:J65, ROWS($D$54:D65)-1)), 1), 0))} -> 0 | Q65: =IF(Tabela3[[#This Row],[Rok]]>HoryzontInwestycyjny,0,SUMIF(Kredyt!$E:$E,Tabela3[[#This Row],[Rok]],Kredyt!$I:$I)) -> 0 | R65: =IF(Tabela3[[#This Row],[Rok]]>HoryzontInwestycyjny,0,SUMIF(Kredyt!$E:$E,Tabela3[[#This Row],[Rok]],Kredyt!$J:$J)) -> 0 | S65: =Tabela3[[#This Row],[Rata kredytu: odsetki]]+Tabela3[[#This Row],[Rata kredytu: kapitał]] -> 0 | T65: {=IF(Tabela3[[#This Row],[Rok]]>HoryzontInwestycyjny,0,IFERROR(INDEX(Kredyt!$M:$M,11+Tabela3[[#This Row],[Rok]]*12) * UbezŻyć,""))} -> 0 | U65: {=IF(Tabela3[[#This Row],[Rok]]>HoryzontInwestycyjny,0,IF(CzasKredytu>=Tabela3[[#This Row],[Rok]],IF(ZmianaKosztów="Tak",UbezMiesz* PRODUCT(1+J65:J65), UbezMiesz),""))} -> 0 | V65: {=IF(Tabela3[[#This Row],[Rok]]>HoryzontInwestycyjny,0,IF(ZmianaKosztów="Tak", PodatekOdNieruchomości * PRODUCT(1+J$54:J64), PodNie))} -> 0 | W65: =KosztyZarządzania*Tabela3[[#This Row],[Przychody z wynajmu]] -> 0 | X65: {=IF(Tabela3[[#This Row],[Rok]]>HoryzontInwestycyjny,0,IF(ZmianaKosztów="Tak", InneKosztyRocznie* PRODUCT(1+J$55:J65), InneKosztyRocznie))} -> 0 | Y65: =SUM(Tabela3[[#This Row],[Cena mieszkania + remont początkowy]:[Inne koszty]])-Tabela3[[#This Row],[Rata kredytu]] -> 0 | Z65: =IF(Tabela3[[#This Row],[Przychody z wynajmu]]<=100000, Tabela3[[#This Row],[Przychody z wynajmu]]*MałyPodatek, 100000*MałyPodatek + (Tabela3[[#This Row],[Przychody z wynajmu]]-100000)*DużyPodatek) -> 0 | AA65: =Tabela3[[#This Row],[Wydatki związane z najmem całkowite]]+Tabela3[[#This Row],[Podatek od przychodu]] -> 0 | AB65: =IF(Tabela3[[#This Row],[Rok]]>HoryzontInwestycyjny,0,Tabela3[[#This Row],[Przychody z wynajmu]]-Tabela3[[#This Row],[Wydatki związane z najmem całkowite]]-Tabela3[[#This Row],[Podatek od przychodu]]) -> 0 | AC65: =IF(Tabela3[[#This Row],[Rok]]>HoryzontInwestycyjny,0,AC64+Tabela3[[#This Row],[Wynik z najmu netto rocznie]]) -> 0 | AD65: =IF(Tabela3[[#This Row],[Rok]]>HoryzontInwestycyjny,"",IF(ZmianaWartościNieruchomości="Inflacyjnie",Inflacja,0)) | AE65: =IF(Tabela3[[#This Row],[Rok]]>HoryzontInwestycyjny,"",StałyProcentZmianyWartościNieruchomości) | AF65: =IF(Tabela3[[#This Row],[Rok]]>HoryzontInwestycyjny,"",StałaKwotaZmianyWartościNieruchomości) | AG65: =IF(Tabela3[[#This Row],[Rok]]>HoryzontInwestycyjny,0,IF(ZmianaWartościNieruchomości="bez zmian",AG64,IF(ZmianaWartościNieruchomości="inflacyjnie",AG64*(1+Tabela3[[#This Row],[Inflacja3]]),IF(ZmianaWartościNieruchomości="stały %",AG64*(1+Tabela3[[#This Row],[Stały % zmiany warrtości]]),IF(ZmianaWartościNieruchomości="stała kwota",AG64+AF65,AG64))))) -> 0 | AH65: =IF(Tabela3[[#This Row],[Rok]]>HoryzontInwestycyjny,0,Tabela3[[#This Row],[Wynik z najmu netto rocznie]] + IF(Tabela3[[#This Row],[Rok]]=HoryzontInwestycyjny,Tabela3[[#This Row],[Wartość nieruchomości]], 0)) -> 0 | AI65: {=Tabela3[[#This Row],[Wynik z najmu netto rocznie]]/IF(CzyKredyt="Tak",WydanaGotówka2,WydanaGotówka1)} -> 0 | AJ65: {=Tabela3[[#This Row],[Wynik z najmu netto rocznie]]/IF(CzyKredyt="Tak",SumaKosztówPoczątkowychInwestycji,SumaKosztów)} -> 0 | AK65: {=IF(Tabela3[[#This Row],[Rok]]>HoryzontInwestycyjny,0,-IF(CzyKredyt="Tak",WydanaGotówka2,WydanaGotówka1)+Tabela3[[#This Row],[Skumulowany wynik z najmu netto z najmu]])} -> 0
C66: 13 | D66: =IF(ZmianaOdstępnego="Inflacyjnie",Inflacja,0) -> 0.02 | E66: =ProcentZmianyOdstępnego -> 0.04 | F66: =KwotaZmianyOdstępnego -> 150 | G66: =IF(Tabela3[[#This Row],[Rok]]>HoryzontInwestycyjny,0,IF(ZmianaOdstępnego="bez zmian",G65,IF(ZmianaOdstępnego="inflacyjnie",G65*(1+Wyniki2!$D66),IF(ZmianaOdstępnego="stały %",G65*(1+Wyniki2!$E66),IF(ZmianaOdstępnego="stała kwota",G65+Wyniki2!$F66,))))) -> 0 | H66: =IF(Tabela3[[#This Row],[Rok]]>HoryzontInwestycyjny,0,MAX(0, MiesiąceNajmu - MAX(0, MAX(IFERROR(IF(MOD($C66, MałyRemont) = 0,Czas_MałyRemont, 0),0),IFERROR(IF(MOD($C66,DużyRemont) = 0,Czas_DużyRemont, 0),0)) - (12 -MiesiąceNajmu)))) -> 0 | I66: =G66*H66 -> 0 | J66: =IF(Tabela3[[#This Row],[Rok]]>HoryzontInwestycyjny,"",IF(ZmianaKosztów="TAK",Inflacja,0)) | N66: {=IF(Tabela3[[#This Row],[Rok]]>HoryzontInwestycyjny,0,IF(OR(ISBLANK(MałyRemont),MałyRemont=0),0,IF(MOD(Tabela3[[#This Row],[Rok]],MałyRemont)=0,Kwota_MałyRemont*IF(ZmianaKosztów="Tak",PRODUCT(1+INDEX(InflacjaWKażdymRoku,1,1):INDEX(InflacjaWKażdymRoku,Tabela3[[#This Row],[Rok]],1)),1),0)))} -> 0 | O66: {=IF(Tabela3[[#This Row],[Rok]]>HoryzontInwestycyjny,0,IF(OR(ISBLANK(DużyRemont),DużyRemont=0),0,IF(MOD(Tabela3[[#This Row],[Rok]],DużyRemont)=0,Kwota_DużyRemont*IF(ZmianaKosztów="Tak",PRODUCT(1+INDEX(InflacjaWKażdymRoku,1,1):INDEX(InflacjaWKażdymRoku,Tabela3[[#This Row],[Rok]],1)),1),0)))} -> 0 | P66: {=IF(Tabela3[[#This Row],[Rok]]>HoryzontInwestycyjny,0,IF(12-Tabela3[[#This Row],[Liczba wynajętych miesięcy w roku]]>0, (12-Tabela3[[#This Row],[Liczba wynajętych miesięcy w roku]]) *CzynszWspólnoty* IF(ZmianaKosztów="Tak", PRODUCT(1+J$54:INDEX($J$54:J66, ROWS($D$54:D66)-1)), 1), 0))} -> 0 | Q66: =IF(Tabela3[[#This Row],[Rok]]>HoryzontInwestycyjny,0,SUMIF(Kredyt!$E:$E,Tabela3[[#This Row],[Rok]],Kredyt!$I:$I)) -> 0 | R66: =IF(Tabela3[[#This Row],[Rok]]>HoryzontInwestycyjny,0,SUMIF(Kredyt!$E:$E,Tabela3[[#This Row],[Rok]],Kredyt!$J:$J)) -> 0 | S66: =Tabela3[[#This Row],[Rata kredytu: odsetki]]+Tabela3[[#This Row],[Rata kredytu: kapitał]] -> 0 | T66: {=IF(Tabela3[[#This Row],[Rok]]>HoryzontInwestycyjny,0,IFERROR(INDEX(Kredyt!$M:$M,11+Tabela3[[#This Row],[Rok]]*12) * UbezŻyć,""))} -> 0 | U66: {=IF(Tabela3[[#This Row],[Rok]]>HoryzontInwestycyjny,0,IF(CzasKredytu>=Tabela3[[#This Row],[Rok]],IF(ZmianaKosztów="Tak",UbezMiesz* PRODUCT(1+J66:J66), UbezMiesz),""))} -> 0 | V66: {=IF(Tabela3[[#This Row],[Rok]]>HoryzontInwestycyjny,0,IF(ZmianaKosztów="Tak", PodatekOdNieruchomości * PRODUCT(1+J$54:J65), PodNie))} -> 0 | W66: =KosztyZarządzania*Tabela3[[#This Row],[Przychody z wynajmu]] -> 0 | X66: {=IF(Tabela3[[#This Row],[Rok]]>HoryzontInwestycyjny,0,IF(ZmianaKosztów="Tak", InneKosztyRocznie* PRODUCT(1+J$55:J66), InneKosztyRocznie))} -> 0 | Y66: =SUM(Tabela3[[#This Row],[Cena mieszkania + remont początkowy]:[Inne koszty]])-Tabela3[[#This Row],[Rata kredytu]] -> 0 | Z66: =IF(Tabela3[[#This Row],[Przychody z wynajmu]]<=100000, Tabela3[[#This Row],[Przychody z wynajmu]]*MałyPodatek, 100000*MałyPodatek + (Tabela3[[#This Row],[Przychody z wynajmu]]-100000)*DużyPodatek) -> 0 | AA66: =Tabela3[[#This Row],[Wydatki związane z najmem całkowite]]+Tabela3[[#This Row],[Podatek od przychodu]] -> 0 | AB66: =IF(Tabela3[[#This Row],[Rok]]>HoryzontInwestycyjny,0,Tabela3[[#This Row],[Przychody z wynajmu]]-Tabela3[[#This Row],[Wydatki związane z najmem całkowite]]-Tabela3[[#This Row],[Podatek od przychodu]]) -> 0 | AC66: =IF(Tabela3[[#This Row],[Rok]]>HoryzontInwestycyjny,0,AC65+Tabela3[[#This Row],[Wynik z najmu netto rocznie]]) -> 0 | AD66: =IF(Tabela3[[#This Row],[Rok]]>HoryzontInwestycyjny,"",IF(ZmianaWartościNieruchomości="Inflacyjnie",Inflacja,0)) | AE66: =IF(Tabela3[[#This Row],[Rok]]>HoryzontInwestycyjny,"",StałyProcentZmianyWartościNieruchomości) | AF66: =IF(Tabela3[[#This Row],[Rok]]>HoryzontInwestycyjny,"",StałaKwotaZmianyWartościNieruchomości) | AG66: =IF(Tabela3[[#This Row],[Rok]]>HoryzontInwestycyjny,0,IF(ZmianaWartościNieruchomości="bez zmian",AG65,IF(ZmianaWartościNieruchomości="inflacyjnie",AG65*(1+Tabela3[[#This Row],[Inflacja3]]),IF(ZmianaWartościNieruchomości="stały %",AG65*(1+Tabela3[[#This Row],[Stały % zmiany warrtości]]),IF(ZmianaWartościNieruchomości="stała kwota",AG65+AF66,AG65))))) -> 0 | AH66: =IF(Tabela3[[#This Row],[Rok]]>HoryzontInwestycyjny,0,Tabela3[[#This Row],[Wynik z najmu netto rocznie]] + IF(Tabela3[[#This Row],[Rok]]=HoryzontInwestycyjny,Tabela3[[#This Row],[Wartość nieruchomości]], 0)) -> 0 | AI66: {=Tabela3[[#This Row],[Wynik z najmu netto rocznie]]/IF(CzyKredyt="Tak",WydanaGotówka2,WydanaGotówka1)} -> 0 | AJ66: {=Tabela3[[#This Row],[Wynik z najmu netto rocznie]]/IF(CzyKredyt="Tak",SumaKosztówPoczątkowychInwestycji,SumaKosztów)} -> 0 | AK66: {=IF(Tabela3[[#This Row],[Rok]]>HoryzontInwestycyjny,0,-IF(CzyKredyt="Tak",WydanaGotówka2,WydanaGotówka1)+Tabela3[[#This Row],[Skumulowany wynik z najmu netto z najmu]])} -> 0
... C153: 100 | D153: =IF(ZmianaOdstępnego="Inflacyjnie",Inflacja,0) -> 0.02 | E153: =ProcentZmianyOdstępnego -> 0.04 | F153: =KwotaZmianyOdstępnego -> 150 | G153: =IF(Tabela3[[#This Row],[Rok]]>HoryzontInwestycyjny,0,IF(ZmianaOdstępnego="bez zmian",G152,IF(ZmianaOdstępnego="inflacyjnie",G152*(1+Wyniki2!$D153),IF(ZmianaOdstępnego="stały %",G152*(1+Wyniki2!$E153),IF(ZmianaOdstępnego="stała kwota",G152+Wyniki2!$F153,))))) -> 0 | H153: =IF(Tabela3[[#This Row],[Rok]]>HoryzontInwestycyjny,0,MAX(0, MiesiąceNajmu - MAX(0, MAX(IFERROR(IF(MOD($C153, MałyRemont) = 0,Czas_MałyRemont, 0),0),IFERROR(IF(MOD($C153,DużyRemont) = 0,Czas_DużyRemont, 0),0)) - (12 -MiesiąceNajmu)))) -> 0 | I153: =G153*H153 -> 0 | J153: =IF(Tabela3[[#This Row],[Rok]]>HoryzontInwestycyjny,"",IF(ZmianaKosztów="TAK",Inflacja,0)) | N153: {=IF(Tabela3[[#This Row],[Rok]]>HoryzontInwestycyjny,0,IF(OR(ISBLANK(MałyRemont),MałyRemont=0),0,IF(MOD(Tabela3[[#This Row],[Rok]],MałyRemont)=0,Kwota_MałyRemont*IF(ZmianaKosztów="Tak",PRODUCT(1+INDEX(InflacjaWKażdymRoku,1,1):INDEX(InflacjaWKażdymRoku,Tabela3[[#This Row],[Rok]],1)),1),0)))} -> 0 | O153: {=IF(Tabela3[[#This Row],[Rok]]>HoryzontInwestycyjny,0,IF(OR(ISBLANK(DużyRemont),DużyRemont=0),0,IF(MOD(Tabela3[[#This Row],[Rok]],DużyRemont)=0,Kwota_DużyRemont*IF(ZmianaKosztów="Tak",PRODUCT(1+INDEX(InflacjaWKażdymRoku,1,1):INDEX(InflacjaWKażdymRoku,Tabela3[[#This Row],[Rok]],1)),1),0)))} -> 0 | P153: {=IF(Tabela3[[#This Row],[Rok]]>HoryzontInwestycyjny,0,IF(12-Tabela3[[#This Row],[Liczba wynajętych miesięcy w roku]]>0, (12-Tabela3[[#This Row],[Liczba wynajętych miesięcy w roku]]) *CzynszWspólnoty* IF(ZmianaKosztów="Tak", PRODUCT(1+J$54:INDEX($J$54:J153, ROWS($D$54:D153)-1)), 1), 0))} -> 0 | Q153: =IF(Tabela3[[#This Row],[Rok]]>HoryzontInwestycyjny,0,SUMIF(Kredyt!$E:$E,Tabela3[[#This Row],[Rok]],Kredyt!$I:$I)) -> 0 | R153: =IF(Tabela3[[#This Row],[Rok]]>HoryzontInwestycyjny,0,SUMIF(Kredyt!$E:$E,Tabela3[[#This Row],[Rok]],Kredyt!$J:$J)) -> 0 | S153: =Tabela3[[#This Row],[Rata kredytu: odsetki]]+Tabela3[[#This Row],[Rata kredytu: kapitał]] -> 0 | T153: {=IF(Tabela3[[#This Row],[Rok]]>HoryzontInwestycyjny,0,IFERROR(INDEX(Kredyt!$M:$M,11+Tabela3[[#This Row],[Rok]]*12) * UbezŻyć,""))} -> 0 | U153: {=IF(Tabela3[[#This Row],[Rok]]>HoryzontInwestycyjny,0,IF(CzasKredytu>=Tabela3[[#This Row],[Rok]],IF(ZmianaKosztów="Tak",UbezMiesz* PRODUCT(1+J153:J153), UbezMiesz),""))} -> 0 | V153: {=IF(Tabela3[[#This Row],[Rok]]>HoryzontInwestycyjny,0,IF(ZmianaKosztów="Tak", PodatekOdNieruchomości * PRODUCT(1+J$54:J152), PodNie))} -> 0 | W153: =KosztyZarządzania*Tabela3[[#This Row],[Przychody z wynajmu]] -> 0 | X153: {=IF(Tabela3[[#This Row],[Rok]]>HoryzontInwestycyjny,0,IF(ZmianaKosztów="Tak", InneKosztyRocznie* PRODUCT(1+J$55:J153), InneKosztyRocznie))} -> 0 | Y153: =SUM(Tabela3[[#This Row],[Cena mieszkania + remont początkowy]:[Inne koszty]])-Tabela3[[#This Row],[Rata kredytu]] -> 0 | Z153: =IF(Tabela3[[#This Row],[Przychody z wynajmu]]<=100000, Tabela3[[#This Row],[Przychody z wynajmu]]*MałyPodatek, 100000*MałyPodatek + (Tabela3[[#This Row],[Przychody z wynajmu]]-100000)*DużyPodatek) -> 0 | AA153: =Tabela3[[#This Row],[Wydatki związane z najmem całkowite]]+Tabela3[[#This Row],[Podatek od przychodu]] -> 0 | AB153: =IF(Tabela3[[#This Row],[Rok]]>HoryzontInwestycyjny,0,Tabela3[[#This Row],[Przychody z wynajmu]]-Tabela3[[#This Row],[Wydatki związane z najmem całkowite]]-Tabela3[[#This Row],[Podatek od przychodu]]) -> 0 | AC153: =IF(Tabela3[[#This Row],[Rok]]>HoryzontInwestycyjny,0,AC152+Tabela3[[#This Row],[Wynik z najmu netto rocznie]]) -> 0 | AD153: =IF(Tabela3[[#This Row],[Rok]]>HoryzontInwestycyjny,"",IF(ZmianaWartościNieruchomości="Inflacyjnie",Inflacja,0)) | AE153: =IF(Tabela3[[#This Row],[Rok]]>HoryzontInwestycyjny,"",StałyProcentZmianyWartościNieruchomości) | AF153: =IF(Tabela3[[#This Row],[Rok]]>HoryzontInwestycyjny,"",StałaKwotaZmianyWartościNieruchomości) | AG153: =IF(Tabela3[[#This Row],[Rok]]>HoryzontInwestycyjny,0,IF(ZmianaWartościNieruchomości="bez zmian",AG152,IF(ZmianaWartościNieruchomości="inflacyjnie",AG152*(1+Tabela3[[#This Row],[Inflacja3]]),IF(ZmianaWartościNieruchomości="stały %",AG152*(1+Tabela3[[#This Row],[Stały % zmiany warrtości]]),IF(ZmianaWartościNieruchomości="stała kwota",AG152+AF153,AG152))))) -> 0 | AH153: =IF(Tabela3[[#This Row],[Rok]]>HoryzontInwestycyjny,0,Tabela3[[#This Row],[Wynik z najmu netto rocznie]] + IF(Tabela3[[#This Row],[Rok]]=HoryzontInwestycyjny,Tabela3[[#This Row],[Wartość nieruchomości]], 0)) -> 0 | AI153: {=Tabela3[[#This Row],[Wynik z najmu netto rocznie]]/IF(CzyKredyt="Tak",WydanaGotówka2,WydanaGotówka1)} -> 0 | AJ153: {=Tabela3[[#This Row],[Wynik z najmu netto rocznie]]/IF(CzyKredyt="Tak",SumaKosztówPoczątkowychInwestycji,SumaKosztów)} -> 0 | AK153: {=IF(Tabela3[[#This Row],[Rok]]>HoryzontInwestycyjny,0,-IF(CzyKredyt="Tak",WydanaGotówka2,WydanaGotówka1)+Tabela3[[#This Row],[Skumulowany wynik z najmu netto z najmu]])} -> 0

Sheet Koszty
A1: Etykiety wierszy | B1: Suma z Wszystkie Koszty | C1: Suma z Rata kredytu
A2: 1 | B2: 19420.268 | C2: 14759.582
A3: 2 | B3: 19510.475 | C3: 14759.582
A4: 3 | B4: 19603.233 | C4: 14759.582
A5: 4 | B5: 19698.613 | C5: 14759.582
A6: 5 | B6: 19796.687 | C6: 14759.582
A7: 6 | B7: 19897.529 | C7: 14759.582
A8: 7 | B8: 20001.215 | C8: 14759.582
A9: 8 | B9: 20107.822 | C9: 14759.582
A10: 9 | B10: 20217.431 | C10: 14759.582
A11: 10 | B11: 27416.347 | C11: 14759.582
A12: 11 | B12: 20445.984 | C12: 14759.582
A13: 12 | B13: 20565.098 | C13: 14759.582
... A51: 50 | B51: 39200.627 | C51: 0
A52: Suma końcowa | B52: 991432.59 | C52: 444017.43

Sheet Zyski
A1: Lata Inwestycji | B1: Wynik z najmu netto w każdym roku
A2: 1 | B2: 12779.732
A3: 2 | B3: 13655.525
A4: 3 | B4: 14557.747
A5: 4 | B5: 15487.196
A6: 5 | B6: 16444.696
A7: 6 | B7: 17431.096
A8: 7 | B8: 18447.269
A9: 8 | B9: 19494.116
A10: 9 | B10: 20572.566
A11: 10 | B11: 12770.668
A12: 11 | B12: 22828.124
A13: 12 | B13: 24007.232
... A51: 50 | B51: 91890.931
A52: Suma końcowa | B52: 2622653.2

Sheet Przychody vs Koszty
A1: Etykiety wierszy | B1: Suma z Przychody z wynajmu | C1: Suma z Wszystkie Koszty
A2: 1 | B2: 32200 | C2: 19420.268
A3: 2 | B3: 33166 | C3: 19510.475
A4: 3 | B4: 34160.98 | C4: 19603.233
A5: 4 | B5: 35185.809 | C5: 19698.613
A6: 5 | B6: 36241.384 | C6: 19796.687
A7: 6 | B7: 37328.625 | C7: 19897.529
A8: 7 | B8: 38448.484 | C8: 20001.215
A9: 8 | B9: 39601.938 | C9: 20107.822
A10: 9 | B10: 40789.997 | C10: 20217.431
A11: 10 | B11: 40187.014 | C11: 27416.347
A12: 11 | B12: 43274.107 | C12: 20445.984
A13: 12 | B13: 44572.331 | C13: 20565.098
... A51: 50 | B51: 131091.56 | C51: 39200.627
A52: Suma końcowa | B52: 3614085.8 | C52: 991432.59
